Workbook
Name Print_Area_0: 'KAPN 2'!$A$1:$P$60

Sheet KOPTAME
D1: 7. pielikums LBN 501-17
D2: Latvijas būvnormatīvam LBN 501-17
D3: "Būvizmaksu noteikšanas kārtība"
D4: (Apstiprināts ar Ministru kabineta
D5: 2017. gada 3. maija
D6: noteikumiem Nr. 239)
C7: APSTIPRINU
D8: (paraksts un tā atsifrejums)
D10: Z.v.
D12: 2024. gada __._______________
C13: BŪVNIECĪBAS KOPTĀME
A15: Objekta nosaukums: | C15: VALGUNDES PAGASTA PĀRVALDES ĒKAS ENERGOEFEKTIVITĀTES PAAGUSTINĀŠANA
A16: Būves nosaukums: | C16: VALGUNDES PAGASTA PĀRVALDES ĒKA
A17: Objekta adrese: | C17: CELTNIEKU IELA 35, VALGUNDE, JELGAVAS NOVADS
A18: Pasūtītājs: | C18: JELGAVAS NOVADA PAŠVALDĪBA
A19: Pasūtījuma Nr.: | C19: 23-019/3 (KPJ/2023/31-5)
A20: Pretendents:
B23: Nr. P.k. | C23: OBJEKTA NOSAUKUMS | D23: OBJEKTA IZMAKSAS (EURO)
B25: 1 | C25: VALGUNDES PAGASTA PĀRVALDES ĒKAS ENERGOEFEKTIVITĀTES PAAGUSTINĀŠANA | D25: ='KOPS 1'!F39 -> 0
C27: KOPĀ BEZ PVN 21% | D27: =SUM(D24:D26) -> 0
C28: PVN 21% | D28: =D27*0.21 -> 0
C29: PAVISAM KOPĀ AR PVN 21% | D29: =ROUND(D27+D28,2) -> 0
B31: Nr. P.k. | C31: OBJEKTA NOSAUKUMS | D31: OBJEKTA IZMAKSAS (EURO)
B33: 2 | C33: VALGUNDES PAGASTA PĀRVALDES ĒKAS DARBI, KAS NAV SAISTĪTI AR ENERGOEFEKTIVITĀTI | D33: ='KOPS 2'!F38 -> 0
C35: KOPĀ BEZ PVN 21% | D35: =SUM(D32:D34) -> 0
C36: PVN 21% | D36: =D35*0.21 -> 0
C37: PAVISAM KOPĀ AR PVN 21% | D37: =ROUND(D35+D36,2) -> 0
B39: Nr. P.k. | C39: OBJEKTA NOSAUKUMS | D39: OBJEKTA IZMAKSAS (EURO)
B41: 3 | C41: BŪVDARBI ĒKAS FUNKCIONĀLI SAISTĪTĀ TERITORIJĀ | D41: ='KOPS 3'!F27 -> 0
C43: KOPĀ BEZ PVN 21% | D43: =D41 -> 0
C44: PVN 21% | D44: =D43*0.21 -> 0
C45: PAVISAM KOPĀ AR PVN 21% | D45: =D43+D44 -> 0
B47: Nr. P.k. | C47: OBJEKTA NOSAUKUMS | D47: OBJEKTA IZMAKSAS (EURO)
B49: 1+2+3 | C49: VALGUNDES PAGASTA PĀRVALDES ĒKAS ENERGOEFEKTIVITĀTES PAAGUSTINĀŠANA (VISAS IZMAKSAS KOPĀ) | D49: =D41+D33+D25 -> 0
C51: KOPĀ BEZ PVN 21% | D51: =SUM(D48:D50) -> 0
C52: PVN 21% | D52: =ROUND(#REF!*0.21,2) -> #REF!
C53: PAVISAM KOPĀ AR PVN 21% | D53: =ROUND(D51+D52,2) -> #REF!
B58: Sastādīja:
C59: (paraksts un tā atsifrejums, datums)
B63: Pārbaudīja:
C64: (paraksts un tā atsifrejums, datums)

Sheet KOPS 1
H1: 6. pielikums LBN 501-17
D3: KOPSAVILKUMA APRĒĶINS Nr.1
D4: =KOPTAME!C15 -> VALGUNDES PAGASTA PĀRVALDES ĒKAS ENERGOEFEKTIVITĀTES PAAGUSTINĀŠANA
D5: (būvdarbu veids vai kosntruktīvā elementa nosaukums)
C7: Objekta nosaukums: | D7: =KOPTAME!C15 -> VALGUNDES PAGASTA PĀRVALDES ĒKAS ENERGOEFEKTIVITĀTES PAAGUSTINĀŠANA
C8: Būves nosaukums: | D8: =KOPTAME!C16 -> VALGUNDES PAGASTA PĀRVALDES ĒKA
C9: Objekta adrese: | D9: =KOPTAME!C17 -> CELTNIEKU IELA 35, VALGUNDE, JELGAVAS NOVADS
C10: Pasūtītājs: | D10: =KOPTAME!C18 -> JELGAVAS NOVADA PAŠVALDĪBA
C11: Pasūtījuma Nr.: | D11: =KOPTAME!C19 -> 23-019/3 (KPJ/2023/31-5)
C12: Pretendents: | D12: =KOPTAME!C20 -> 0
D14: Par kopējo summu (EURO) | E14: =F39 -> 0
D15: Kopēja darbietilpība (c/h) | E15: =J35 -> 0
A17: Nr. p.k | B17: Kods, tāme Nr. | C17: Saisinājums | D17: Būvdarbu veids vai konstruktīvā elementa nosaukums | F17: Tāmes izmaksa EUR | G17: Tai skaitā | J17: Darb-ietilpība c/h
G18: Darba alga EUR | H18: Būvizstrādājumi EUR | I18: Mehānismi EUR
A19: IZMAKSAS ĒKAS ENERGOEFEKTIVITĀTES UZLABOŠANAI
D20: 1. BŪVDARBI
A21: 1 | B21: 1--1 | C21: BS 1 | D21: BŪVLAUKUMA SAGATAVOŠANA UN UZTURĒŠANA
A22: 2 | B22: 1--2 | C22: DEM 1 | D22: DEMONTĀŽAS DARBI
A23: 3 | B23: 1--3 | C23: COK 1 | D23: COKOLA SILTINĀŠANA
A24: 4 | B24: 1--4 | C24: FAS 1 | D24: FASĀDES APDARE
A25: 5 | B25: 1--5 | C25: GRI 1 | D25: PIRMĀ STĀVA GRĪDAS IZBŪVE
A26: 6 | B26: 1--6 | C26: JUM 1 | D26: JUMTA IZBŪVE
A27: 7 | B27: 1–7 | C27: L D V 1 | D27: LOGI, DURVIS, VITRĪNAS
A28: 8 | B28: 1–8 | C28: APD 1 | D28: IEKŠĒJĀ APDARE
D29: 2. IEKŠĒJIE SPECIĀLIE BŪVDARBI
A30: 9 | B30: 2--1 | C30: APK 1 | D30: APKURE
A31: 10 | B31: 2--2 | C31: SM | D31: SILTUMMEZGLS
A32: 11 | B32: 2--3 | C32: VENT | D32: VENTILĀCIJA
A33: 12 | B33: 2–4 | C33: EL | D33: ELEKTROMONTĀŽAS DARBI
D35: KOPĀ | F35: =SUM(F21:F33) -> 0 | G35: =SUM(G21:G33) -> 0 | H35: =SUM(H21:H33) -> 0 | I35: =SUM(I21:I33) -> 0 | J35: =SUM(J21:J33) -> 0
D36: Virsizdevumi
D37: t.sk. Darba aizsardzība
D38: Peļņa
D39: Pavisam kopā
B42: Sastādīja: | D42: =KOPTAME!C58 -> 0 | F42: =KOPTAME!D58 -> 0
D43: (paraksts un tā atšifrējums, datums)
D45: =KOPTAME!C70 -> 0
B47: Pārbaudīja: | D47: =KOPTAME!C63 -> 0 | F47: =F42 -> 0
D48: (paraksts un tā atšifrējums, datums)
D50: =KOPTAME!C70 -> 0

Sheet BS 1
M1: 5. pielikums LBN 501-17
E3: LOKĀLA TĀME Nr. | I3: 1--1
D4: BŪVLAUKUMA SAGATAVOŠANA UN UZTURĒŠANA
D5: (Būvdarbu veids vai kosntruktīva elementa nosaukums)
A7: Objekta nosaukums: | C7: =KOPTAME!C15 -> VALGUNDES PAGASTA PĀRVALDES ĒKAS ENERGOEFEKTIVITĀTES PAAGUSTINĀŠANA
A8: Būves nosaukums: | C8: =KOPTAME!C16 -> VALGUNDES PAGASTA PĀRVALDES ĒKA
A9: Objekta adrese: | C9: =KOPTAME!C17 -> CELTNIEKU IELA 35, VALGUNDE, JELGAVAS NOVADS
A10: Pasūtītājs: | C10: =KOPTAME!C18 -> JELGAVAS NOVADA PAŠVALDĪBA
A11: Pasūtījuma Nr.: | C11: =KOPTAME!C19 -> 23-019/3 (KPJ/2023/31-5)
A12: Pretendents: | C12: =KOPTAME!C20 -> 0
A14: =KOPTAME!B22 -> 0 | M14: Tāmes izmaksas | P14: EURO
P16: =KOPTAME!C70 -> 0
A18: Nr. p.k. | B18: Kods | C18: Būvdarbu nosaukums | D18: Mērvienība | E18: Daudzums | F18: Vienības izmaksas | L18: Kopā uz visu apjomu
F19: Laika norma (c/h) | G19: Darba samaksas likme (EUR/h) | H19: Darba alga (EUR) | I19: Būvizstrādājumi (EUR) | J19: Mehānismi (EUR) | K19: Kopā (EUR) | L19: Darbietilpība (c/h) | M19: Darba alga (EUR) | N19: Būvizstrādājumi (EUR) | O19: Mehānismi (EUR) | P19: Summa (EUR)
A20: 1 | B20: 2 | C20: 3 | D20: 4 | E20: 5 | F20: 6 | G20: 7 | H20: 8 | I20: 9 | J20: 10 | K20: 11 | L20: 12 | M20: 13 | N20: 14 | O20: 15 | P20: 16
C21: 1. BŪVLAUKUMA SAGATAVOŠANA
A22: 1 | B22: Līgumcena | C22: Pagaidu būvžoga montāža, demontāža un noma | D22: tek.m | E22: 96
A23: 2 | B23: Līgumcena | C23: Drošības zīmes uz žoga | D23: kompl | E23: 12
A24: 3 | B24: Līgumcena | C24: Pagaidu vārtu 4 m montāža, demontāža un noma | D24: gab | E24: 2
A25: 4 | B25: Līgumcena | C25: Pagaidu vārtu 1 m montāža, demontāža un noma | D25: gab | E25: 2
A26: 5 | B26: Līgumcena | C26: WC kabīnes montāža | D26: kompl | E26: 1
A27: 6 | B27: Līgumcena | C27: Celtnieku konteinera piegāde, montāža, demontāža un aizvešana atpakaļ | D27: kompl | E27: 1
A28: 7 | B28: Līgumcena | C28: Ugunsdzēsības stends ar ugunsdzēšamo aparātu | D28: kompl | E28: 1
A29: 8 | B29: Līgumcena | C29: Būvtāfeles un informatīvās plāksnes izgatavošana un montāža | D29: kompl | E29: 1
A30: 9 | B30: Līgumcena | C30: Pagaidu elektropieslēguma izbūve | D30: kompl | E30: 1
A31: 10 | B31: Līgumcena | C31: Pagaidu elektropieslēguma kabeļa montāža | D31: tek.m | E31: 10
A32: 11 | B32: Līgumcena | C32: Būvlaukuma pagaidu apgaismojums | D32: gab | E32: 7
A33: 12 | B33: Līgumcena | C33: Fasādes sastatņu piegāde, montāža, demontāža ar sietu | D33: m2 | E33: 530
... A35: 14 | B35: Līgumcena | C35: Citi būvlaukuma ierīkošanas darbi | D35: cilv/st | E35: 8
C36: 2. BŪVLAUKUMA UZTURĒŠANA | D36: mēn. | E36: 4
A37: 1 | B37: Līgumcena | C37: WC kabīnes noma ar apkalpošanu 4 reizes mēnesī | D37: gab | E37: 1
A38: 2 | B38: Līgumcena | C38: Celtnieku konteinera noma | D38: kompl | E38: 1
A39: 3 | B39: Līgumcena | C39: Pagaidu žoga ar vārtiem noma | D39: kompl | E39: 1
A40: 4 | B40: Līgumcena | C40: Sastatņu noma | D40: m2 | E40: =E33 -> 530
A41: 5 | B41: Līgumcena | C41: Būvgružu savākšana, iekraušana konteineros, izvešana un utilizācija | D41: kont | E41: =E36/2 -> 2
C43: Tiešās izmaksas kopā, t.sk. Darba devēja sociālais nodoklis (23,59%) | L43: =SUM(L21:L42) -> 0 | M43: =SUM(M21:M42) -> 0 | N43: =SUM(N21:N42) -> 0 | O43: =SUM(O21:O42) -> 0 | P43: =SUM(P21:P42) -> 0
B45: Sastādīja: | C45: =KOPTAME!C58 -> 0 | E45: ='KOPS 1'!F42 -> 0
C46: (paraksts un tā atšifrējums, datums)
B50: Pārbaudīja: | C50: =KOPTAME!C63 -> 0 | E50: =E45 -> 0
C51: (paraksts un tā atšifrējums, datums)
C53: =KOPTAME!C68 -> 0
C55: =KOPTAME!C70 -> 0

Sheet DEM 1
M1: 5. pielikums LBN 501-17
E3: LOKĀLA TĀME Nr. | I3: 1--2
D4: DEMONTĀŽAS DARBI
D5: (Būvdarbu veids vai kosntruktīva elementa nosaukums)
A7: Objekta nosaukums: | C7: =KOPTAME!C15 -> VALGUNDES PAGASTA PĀRVALDES ĒKAS ENERGOEFEKTIVITĀTES PAAGUSTINĀŠANA
A8: Būves nosaukums: | C8: =KOPTAME!C16 -> VALGUNDES PAGASTA PĀRVALDES ĒKA
A9: Objekta adrese: | C9: =KOPTAME!C17 -> CELTNIEKU IELA 35, VALGUNDE, JELGAVAS NOVADS
A10: Pasūtītājs: | C10: =KOPTAME!C18 -> JELGAVAS NOVADA PAŠVALDĪBA
A11: Pasūtījuma Nr.: | C11: =KOPTAME!C19 -> 23-019/3 (KPJ/2023/31-5)
A12: Pretendents: | C12: =KOPTAME!C20 -> 0
A14: =KOPTAME!B22 -> 0 | M14: Tāmes izmaksas | P14: EURO
P16: =KOPTAME!C70 -> 0
A18: Nr. p.k. | B18: Kods | C18: Būvdarbu nosaukums | D18: Mērvienība | E18: Daudzums | F18: Vienības izmaksas | L18: Kopā uz visu apjomu
F19: Laika norma (c/h) | G19: Darba samaksas likme (EUR/h) | H19: Darba alga (EUR) | I19: Būvizstrādājumi (EUR) | J19: Mehānismi (EUR) | K19: Kopā (EUR) | L19: Darbietilpība (c/h) | M19: Darba alga (EUR) | N19: Būvizstrādājumi (EUR) | O19: Mehānismi (EUR) | P19: Summa (EUR)
A20: 1 | B20: 2 | C20: 3 | D20: 4 | E20: 5 | F20: 6 | G20: 7 | H20: 8 | I20: 9 | J20: 10 | K20: 11 | L20: 12 | M20: 13 | N20: 14 | O20: 15 | P20: 16
C21: 1. DEMONTĀŽAS DARBI.
A22: 1 | B22: Līgumcena | C22: Esošo logu rūpīga demontāža | D22: gab | E22: =6*2*2+4+2 -> 30
A23: 2 | B23: Līgumcena | C23: Logu ārējo palodžu demontāža | D23: tek.m | E23: =6*2*2*3+4*2.6+2*2 -> 86.4
A24: 3 | B24: Līgumcena | C24: Logu iekšējo palodžu demontāža | D24: tek.m | E24: =E23 -> 86.4
A25: 4 | B25: Līgumcena | C25: Esošo ārējo durvju rūpīga demontāža | D25: gab | E25: 3
A26: 5 | B26: Līgumcena | C26: Esošo iekšējo durvju ar klēdēm rūpīga demontāža | D26: gab | E26: =11+8 -> 19
A27: 6 | B27: Līgumcena | C27: Esošo logu un durvju ailes apdares demontāža | D27: tek.m | E27: =24*(3*2+1.8*1)+4*(2.6*2+0.9*2)+2*1.8*4+3*5.2+19*5 -> 340.2
A28: 7 | B28: Līgumcena | C28: Jumta seguma demontāža ar apakšklāju | D28: m2 | E28: =21.977*6.13*2 -> 269.43802
A29: 8 | B29: Līgumcena | C29: Jumta veja kastes demontāža | D29: tek.m | E29: =2*21.977 -> 43.954
A30: 9 | B30: Līgumcena | C30: Jumta skārda parapeta demontāža | D30: tek.m | E30: =2*10.4 -> 20.8
A31: 10 | B31: Līgumcena | C31: Jumta teknu demontāža | D31: tek.m | E31: =2*21.977 -> 43.954
A32: 11 | B32: Līgumcena | C32: Jumta noteku demontāža | D32: tek.m | E32: =4*6.5 -> 26
A33: 12 | B33: Līgumcena | C33: Pagalma puses uzjumteņa (S=~2,5 m2) demontāža ar metāla nesošām kolonnam | D33: kompl | E33: 1
A34: 13 | B34: Līgumcena | C34: Sānu puses uzjumteņa (S=~2,5 m2) demontāža ar metāla nesošām kolonnam | D34: kompl | E34: 1
A35: 14 | B35: Līgumcena | C35: Ieejas mezgla uzjumteņa jumta seguma rupīga demontāža | D35: m2 | E35: =3*2 -> 6
A36: 15 | B36: Līgumcena | C36: Ieejas mezgla uzjumteņa noteku un teknu rūpīga demontāža | D36: tek.m | E36: =3+2.9 -> 5.9
A37: 16 | B37: Līgumcena | C37: Pagalma puses betona lieveņu ar flīzēto virsmu demontāža (S=~5,6 m2, V=~2,8 m3) | D37: kompl | E37: 2
A38: 17 | B38: Līgumcena | C38: Fasādes puses betona lieveņu ar flīzēto virsmu demontāža (S=~10 m2, V=~4,5 m3) | D38: kompl | E38: 1
A39: 18 | B39: Līgumcena | C39: Ieejas mezglu lieveņū margu demontāža | D39: tek.m | E39: =1+2+2.8 -> 5.8
A40: 19 | B40: Līgumcena | C40: Esošo kondicionieru rūpīga demontāža uz būvdarbu laiku un montāža atpakaļ, paredzot jaunus stiprinājumus un kabeļu un cauruļu pagarināšana | D40: kompl | E40: 5
A41: 20 | B41: Līgumcena | C41: Esošo videokameru ar kabeļiem un palīgierīcem rūpīga demontāža uz būvdarbu laiku un montāža atpakaļ, paredzot jaunus stiprinājumus un kabeļu pagarināšanu | D41: kompl | E41: 4
A42: 21 | B42: Līgumcena | C42: Esošā bruģa seguma rūpīga demontāža | D42: m2 | E42: =(12+22)*0.5 -> 17
A43: 22 | B43: Līgumcena | C43: Esošas betona apmales rūpīga demontāža | D43: tek.m | E43: =11*2+22*2-2-1-4 -> 59
A44: 23 | B44: Līgumcena | C44: Esošo starpsienu demontāža, b=15 cm | D44: m2 | E44: =106+44 -> 150
A45: 24 | B45: Līgumcena | C45: Durvju ailu izveide | D45: vietas | E45: =2+2 -> 4
A46: 25 | B46: Līgumcena | C46: Ventilācijas guļvada demontāža 2.stāvā | D46: tek.m | E46: 6
A47: 26 | B47: Līgumcena | C47: Poligrāna apdares noņemšana no dzezlbetona paneliem | D47: m2 | E47: =18*2.4*2 -> 86.4
A48: 27 | B48: Līgumcena | C48: Poligrāna apdares noņemšana no cokola | D48: m2 | E48: =(22*2+10.4*2-2-2-4)*0.5 -> 28.4
A49: 28 | B49: Līgumcena | C49: Betona plātņu demontāža | D49: m2 | E49: =16.5 -> 16.5
A50: 29 | B50: Līgumcena | C50: Ceļiņa fragmenta demontāža | D50: m2 | E50: 3.5
A51: 30 | B51: Līgumcena | C51: Esošo reperu saglabāšana | D51: gab | E51: 2
A52: 31 | B52: Līgumcena | C52: Zemgrīdas kanāla dzelzbetona parseguma plātņu demontāža | D52: m2 | E52: =8*1+2*1+5*6*1+6*1+4.5*1 -> 50.5
A53: 32 | B53: Līgumcena | C53: Esošo apkures cauruļu demontāža | D53: tek.m | E53: =50.5*2 -> 101
A54: 33 | B54: Līgumcena | C54: Zemgrīdas kanāla atbrīvošana no būvgružiem | D54: m2 | E54: =E52 -> 50.5
A55: 34 | B55: Līgumcena | C55: Citi demontāžas darbi | D55: cilv/st | E55: 16
A56: 35 | B56: Līgumcena | C56: Būvgružu savākšana, izvešana un utilizācija | D56: m3 | E56: =(E22*1.8*6*0.06+E24*0.25*0.04+E25*2*0.06+E26*2*0.05+E28*0.05+E29*0.8*0.025+E33*2.5*0.15+E35*0.15+E37*2.8+E38*4.5+E42*0.06+E43*0.6*0.08+E44*0.15+E45*0.25*2+E47*0.02+E48*0.02+E49*0.06+E50*0.06)*1.2 -> 96.165577
C57: 2. DEMONTĀŽAS DARBI PIRMĀ STĀVĀ GRĪDAI. G-1
A58: 1 | B58: Līgumcena | C58: Parketa vai lamināta segumu demontāža | D58: m2 | E58: 68.98
A59: 2 | B59: Līgumcena | C59: Grīdas dēļu demontāža, b=37 mm | D59: m2 | E59: =E58 -> 68.98
A60: 3 | B60: Līgumcena | C60: Grīdas gulšņu demontāža, b=40 mm | D60: m2 | E60: =E58 -> 68.98
A61: 4 | B61: Līgumcena | C61: Koka paliktņu demontāža, b=25 mm | D61: m2 | E61: =E58 -> 68.98
A62: 5 | B62: Līgumcena | C62: Betona stabiņu demontāža, 200*200*75 mm, solis 500 mm | D62: m2 | E62: =E58 -> 68.98
A63: 6 | B63: Līgumcena | C63: Citi demontāžas darbi | D63: cilv/st | E63: 16
A64: 7 | B64: Līgumcena | C64: Būvgružu savākšana, izvešana un utilizācija | D64: m3 | E64: =E58*0.012+E59*0.037+E60*0.04+E61*0.025+E62*0.2*0.2*0.075*1.5 -> 8.17413
C65: 3. DEMONTĀŽAS DARBI PIRMĀ STĀVĀ GRĪDAI. G-2
A66: 1 | B66: Līgumcena | C66: Grīdas apdares virs betonētas grīdas demontāža | D66: m2 | E66: =100.84 -> 100.84
A67: 2 | B67: Līgumcena | C67: Betonētas grīdas demontāža, H=~100 mm | D67: m2 | E67: =E66 -> 100.84
A68: 3 | B68: Līgumcena | C68: Šķembu kārtas demontāža, H=~50 mm | D68: m2 | E68: =E67 -> 100.84
A69: 4 | B69: Līgumcena | C69: Grunts kārtas demontāža, H=~200 mm | D69: m2 | E69: =E68 -> 100.84
A70: 5 | B70: Līgumcena | C70: Citi demontāžas darbi | D70: cilv/st | E70: 16
A71: 6 | B71: Līgumcena | C71: Būvgružu savākšana, izvešana un utilizācija | D71: m3 | E71: =E66*0.37 -> 37.3108
C73: Tiešās izmaksas kopā, t.sk. Darba devēja sociālais nodoklis (23,59%) | L73: =SUM(L21:L72) -> 0 | M73: =SUM(M21:M72) -> 0 | N73: =SUM(N21:N72) -> 0 | O73: =SUM(O21:O72) -> 0 | P73: =SUM(P21:P72) -> 0
B75: Sastādīja: | C75: =KOPTAME!C58 -> 0 | E75: ='KOPS 1'!F42 -> 0
C76: (paraksts un tā atšifrējums, datums)
B80: Pārbaudīja: | C80: =KOPTAME!C63 -> 0 | E80: =E75 -> 0
C81: (paraksts un tā atšifrējums, datums)
C83: =KOPTAME!C68 -> 0
C85: =KOPTAME!C70 -> 0

Sheet COK 1
M1: 5. pielikums LBN 501-17
E3: LOKĀLA TĀME Nr. | I3: 1--3
D4: COKOLA SILTINĀŠANA
D5: (Būvdarbu veids vai kosntruktīva elementa nosaukums)
A7: Objekta nosaukums: | C7: =KOPTAME!C15 -> VALGUNDES PAGASTA PĀRVALDES ĒKAS ENERGOEFEKTIVITĀTES PAAGUSTINĀŠANA
A8: Būves nosaukums: | C8: =KOPTAME!C16 -> VALGUNDES PAGASTA PĀRVALDES ĒKA
A9: Objekta adrese: | C9: =KOPTAME!C17 -> CELTNIEKU IELA 35, VALGUNDE, JELGAVAS NOVADS
A10: Pasūtītājs: | C10: =KOPTAME!C18 -> JELGAVAS NOVADA PAŠVALDĪBA
A11: Pasūtījuma Nr.: | C11: =KOPTAME!C19 -> 23-019/3 (KPJ/2023/31-5)
A12: Pretendents: | C12: =KOPTAME!C20 -> 0
A14: =KOPTAME!B22 -> 0 | M14: Tāmes izmaksas | O14: =P44 -> 0 | P14: EURO
P16: =KOPTAME!C70 -> 0
A18: Nr. p.k. | B18: Kods | C18: Būvdarbu nosaukums | D18: Mērvienība | E18: Daudzums | F18: Vienības izmaksas | L18: Kopā uz visu apjomu
F19: Laika norma (c/h) | G19: Darba samaksas likme (EUR/h) | H19: Darba alga (EUR) | I19: Būvizstrādājumi (EUR) | J19: Mehānismi (EUR) | K19: Kopā (EUR) | L19: Darbietilpība (c/h) | M19: Darba alga (EUR) | N19: Būvizstrādājumi (EUR) | O19: Mehānismi (EUR) | P19: Summa (EUR)
A20: 1 | B20: 2 | C20: 3 | D20: 4 | E20: 5 | F20: 6 | G20: 7 | H20: 8 | I20: 9 | J20: 10 | K20: 11 | L20: 12 | M20: 13 | N20: 14 | O20: 15 | P20: 16
C21: 1. COKOLA SILTINĀŠANA
A22: 1 | B22: Līgumcena | C22: Pamatu rūpīga atrakšana, dziļumā līdz 500 mm no grunts virsmas | D22: tek.m | E22: =21.977*2+10.4*2+0.35*4-8-2.5 -> 55.654
A23: 2 | B23: Līgumcena | C23: Pamatu virsmas tīrīšana | D23: m2 | E23: =E22*0.9 -> 50.0886
A24: 3 | B24: Līgumcena | C24: Pamatu virsmas gruntēšana, līdzināšana līdz 20 mm | D24: m2 | E24: =E23 -> 50.0886
A25: 4 | C25: Grunts | D25: l | E25: =E24*0.2*1.15 -> 11.520378
A26: 5 | C26: Apmetuma siets | D26: m2 | E26: =E24*1.2 -> 60.10632
A27: 6 | C27: Apmetuma java | D27: kg | E27: =E24*20*1.15 -> 1152.0378
A28: 7 | C28: Palīgmatereiali | D28: kompl | E28: 1
A29: 8 | B29: Līgumcena | C29: Jaunās hidroizolācijas divās kārtās izveide | D29: m2 | E29: =E24 -> 50.0886
A30: 9 | C30: Bitumena mastika | D30: kg | E30: =E29*2*1.1 -> 110.19492
A31: 10 | B31: Līgumcena | C31: Siltumizolācijas kārtas montāža (siltumvadītspēja 0,038 W/mK) | D31: m2 | E31: =E22 -> 55.654
A32: 11 | C32: Ekstrudēts putupolistirols, 100 mm | D32: m2 | E32: =E22*1*1.15 -> 64.0021
A33: 12 | C33: Putupolistirola montāžas stiprinājumi | D33: kompl | E33: 1
A34: 13 | C34: Bitumena līme | D34: kg | E34: =E31*2*1.1 -> 122.4388
A35: 14 | B35: Līgumcena | C35: Siltumizolācijas kārtas dubulta armēšana | D35: m2 | E35: =E31*2 -> 111.308
A36: 15 | C36: Stiklašķiedras siets | D36: m2 | E36: =E35*2*1.2 -> 267.1392
A37: 16 | C37: Stiklašķiedras stūris | D37: tek.m | E37: =28*1.2 -> 33.6
A38: 17 | C38: Līmjava | D38: kg | E38: =E35*5 -> 556.54
A39: 18 | B39: Līgumcena | C39: Cokola dekoratīva apmetuma izveide | D39: m2 | E39: =E22*0.55 -> 30.6097
A40: 19 | C40: Tonēts dekoratīvais apmetums | D40: kg | E40: =E39*3*1.15 -> 105.60347
A41: 20 | B41: Līgumcena | C41: Palīgmateriāli | D41: m2 | E41: =E23 -> 50.0886
A42: 21 | B42: Līgumcena | C42: Pamatu aizberšana ar esošo grunti, blietējot pa kārtām | D42: tek.m | E42: =E22 -> 55.654
C44: Tiešās izmaksas kopā, t.sk. Darba devēja sociālais nodoklis (23,59%) | L44: =SUM(L21:L43) -> 0 | M44: =SUM(M21:M43) -> 0 | N44: =SUM(N21:N43) -> 0 | O44: =SUM(O21:O43) -> 0 | P44: =SUM(P21:P43) -> 0
B46: Sastādīja: | C46: =KOPTAME!C58 -> 0 | E46: ='KOPS 1'!F42 -> 0
C47: (paraksts un tā atšifrējums, datums)
B51: Pārbaudīja: | C51: =KOPTAME!C63 -> 0 | E51: =E46 -> 0
C52: (paraksts un tā atšifrējums, datums)
C54: =KOPTAME!C68 -> 0
C56: =KOPTAME!C70 -> 0

Sheet FAS 1
M1: 5. pielikums LBN 501-17
E3: LOKĀLA TĀME Nr. | I3: 1--4
D4: FASĀDES APDARE
D5: (Būvdarbu veids vai kosntruktīva elementa nosaukums)
A7: Objekta nosaukums: | C7: =KOPTAME!C15 -> VALGUNDES PAGASTA PĀRVALDES ĒKAS ENERGOEFEKTIVITĀTES PAAGUSTINĀŠANA
A8: Būves nosaukums: | C8: =KOPTAME!C16 -> VALGUNDES PAGASTA PĀRVALDES ĒKA
A9: Objekta adrese: | C9: =KOPTAME!C17 -> CELTNIEKU IELA 35, VALGUNDE, JELGAVAS NOVADS
A10: Pasūtītājs: | C10: =KOPTAME!C18 -> JELGAVAS NOVADA PAŠVALDĪBA
A11: Pasūtījuma Nr.: | C11: =KOPTAME!C19 -> 23-019/3 (KPJ/2023/31-5)
A12: Pretendents: | C12: =KOPTAME!C20 -> 0
A14: =KOPTAME!B22 -> 0 | M14: Tāmes izmaksas | O14: =P55 -> 0 | P14: EURO
P16: =KOPTAME!C70 -> 0
A18: Nr. p.k. | B18: Kods | C18: Būvdarbu nosaukums | D18: Mērvienība | E18: Daudzums | F18: Vienības izmaksas | L18: Kopā uz visu apjomu
F19: Laika norma (c/h) | G19: Darba samaksas likme (EUR/h) | H19: Darba alga (EUR) | I19: Būvizstrādājumi (EUR) | J19: Mehānismi (EUR) | K19: Kopā (EUR) | L19: Darbietilpība (c/h) | M19: Darba alga (EUR) | N19: Būvizstrādājumi (EUR) | O19: Mehānismi (EUR) | P19: Summa (EUR)
A20: 1 | B20: 2 | C20: 3 | D20: 4 | E20: 5 | F20: 6 | G20: 7 | H20: 8 | I20: 9 | J20: 10 | K20: 11 | L20: 12 | M20: 13 | N20: 14 | O20: 15 | P20: 16
C21: 1. FASĀDES APDARE | E21: =2*10.4*8.05+2*22*6.7-(83.61+2.32*2.72) -> 372.3196
A22: 1 | B22: Līgumcena | C22: Sienu virsmas tīrīšana, gruntēšana, līdzināšana līdz 20 mm | D22: m2 | E22: =E21 -> 372.3196
A23: 2 | C23: Grunts | D23: l | E23: =E22*0.2*1.15 -> 85.633508
A24: 3 | C24: Apmetuma siets | D24: m2 | E24: =E22*1.2 -> 446.78352
A25: 4 | C25: Apmetuma java | D25: kg | E25: =E22*15*1.15*2 -> 12845.026
A26: 5 | B26: Līgumcena | C26: Fasādes virsmas izlīdzināšana ar apmetumu poru aizveršanai, vidēji līdz 20 mm | D26: m2 | E26: =E22 -> 372.3196
A27: 6 | C27: Grunts | D27: l | E27: =E26*0.2*1.15 -> 85.633508
A28: 7 | C28: Apmetuma java | D28: kg | E28: =E26*15*1.15*2 -> 12845.026
A29: 8 | B29: Līgumcena | C29: Siltumizolācijas montāža, 150 mm | D29: m2 | E29: =E21 -> 372.3196
A30: 9 | C30: Grunts | D30: l | E30: =E29*0.12 -> 44.678352
A31: 10 | C31: Līmjava siltumizolācijas montāžai | D31: kg | E31: =E29*5*1.1 -> 2047.7578
A32: 11 | C32: Dībeļi | D32: gab | E32: =ROUND(E29*5.5,0) -> 2048
A33: 12 | C33: Fasādes vate, 150 mm, λ vērtība 0.036 | D33: m2 | E33: =E29*1.02 -> 379.76599
A34: 13 | B34: Līgumcena | C34: Siltumizolācijas armēšana | D34: m2 | E34: =E29 -> 372.3196
A35: 14 | C35: Grunts | D35: l | E35: =E34*0.12 -> 44.678352
A36: 15 | C36: Līmjava | D36: kg | E36: =E34*5*1.4 -> 2606.2372
A37: 16 | C37: Stiklašķiedras siets (dubulta kārta) | D37: m2 | E37: =E34*1.2*2 -> 893.56704
A38: 17 | C38: Stūris ēku siltināšanai | D38: tek.m | E38: =2*4.4+2*3.7 -> 16.2
A39: 18 | B39: Līgumcena | C39: Dekoratīvā apmetuma ierīkošana | D39: m2 | E39: =E29 -> 372.3196
A40: 19 | C40: Grunts | D40: l | E40: =E39*0.15 -> 55.84794
A41: 20 | C41: Tonēts apmetums | D41: kg | E41: =E39*3 -> 1116.9588
A42: 21 | B42: Līgumcena | C42: Cokola profila ar skārda lāseņi izgatavošana un montāža | D42: tek.m | E42: =22*2+10.4*2 -> 64.8
A43: 22 | B43: Līgumcena | C43: Profila ar skārda lāseņi izgatavošana un montāža virs siltumizolācijas, asīs 1 un asīs 2 | D43: tek.m | E43: =11*2 -> 22
A44: 23 | B44: Līgumcena | C44: Palīgdarbi un plaīgmateriāli | D44: m2 | E44: =E21 -> 372.3196
C45: 2. FASĀDES APDARE GALA SIENĀM JUMTA ZONĀ | E45: =10.4*1.5 -> 15.6
A46: 1 | B46: Līgumcena | C46: Sienu virsmas tīrīšana, gruntēšana, līdzināšana līdz 20 mm | D46: m2 | E46: =E45*2 -> 31.2
A47: 2 | C47: Grunts | D47: l | E47: =E46*0.2*1.15 -> 7.176
A48: 3 | C48: Apmetuma siets | D48: m2 | E48: =E46*1.2 -> 37.44
A49: 4 | C49: Apmetuma java | D49: kg | E49: =E46*15*1.15 -> 538.2
A50: 5 | B50: Līgumcena | C50: Dekoratīvā apmetuma ierīkošana | D50: m2 | E50: =E46 -> 31.2
A51: 6 | C51: Grunts | D51: l | E51: =E50*0.15 -> 4.68
A52: 7 | C52: Tonēts apmetums | D52: kg | E52: =E50*3 -> 93.6
A53: 8 | B53: Līgumcena | C53: Skārda profila izgatavošana un montāža virsmūra, asīs 1 un asīs 2 | D53: tek.m | E53: =11*2 -> 22
C55: Tiešās izmaksas kopā, t.sk. Darba devēja sociālais nodoklis (23,59%) | L55: =SUM(L21:L54) -> 0 | M55: =SUM(M21:M54) -> 0 | N55: =SUM(N21:N54) -> 0 | O55: =SUM(O21:O54) -> 0 | P55: =SUM(P21:P54) -> 0
B57: Sastādīja: | C57: =KOPTAME!C58 -> 0 | E57: ='KOPS 1'!F42 -> 0
C58: (paraksts un tā atšifrējums, datums)
B62: Pārbaudīja: | C62: =KOPTAME!C63 -> 0 | E62: =E57 -> 0
C63: (paraksts un tā atšifrējums, datums)
C65: =KOPTAME!C68 -> 0
C67: =KOPTAME!C70 -> 0

Sheet GRI 1
M1: 5. pielikums LBN 501-17
E3: LOKĀLA TĀME Nr. | I3: 1--5
D4: PIRMĀ STĀVA GRĪDAS IZBŪVE
D5: (Būvdarbu veids vai kosntruktīva elementa nosaukums)
A7: Objekta nosaukums: | C7: =KOPTAME!C15 -> VALGUNDES PAGASTA PĀRVALDES ĒKAS ENERGOEFEKTIVITĀTES PAAGUSTINĀŠANA
A8: Būves nosaukums: | C8: =KOPTAME!C16 -> VALGUNDES PAGASTA PĀRVALDES ĒKA
A9: Objekta adrese: | C9: =KOPTAME!C17 -> CELTNIEKU IELA 35, VALGUNDE, JELGAVAS NOVADS
A10: Pasūtītājs: | C10: =KOPTAME!C18 -> JELGAVAS NOVADA PAŠVALDĪBA
A11: Pasūtījuma Nr.: | C11: =KOPTAME!C19 -> 23-019/3 (KPJ/2023/31-5)
A12: Pretendents: | C12: =KOPTAME!C20 -> 0
A14: =KOPTAME!B22 -> 0 | M14: Tāmes izmaksas | O14: =P39 -> 0 | P14: EURO
P16: =KOPTAME!C70 -> 0
A18: Nr. p.k. | B18: Kods | C18: Būvdarbu nosaukums | D18: Mērvienība | E18: Daudzums | F18: Vienības izmaksas | L18: Kopā uz visu apjomu
F19: Laika norma (c/h) | G19: Darba samaksas likme (EUR/h) | H19: Darba alga (EUR) | I19: Būvizstrādājumi (EUR) | J19: Mehānismi (EUR) | K19: Kopā (EUR) | L19: Darbietilpība (c/h) | M19: Darba alga (EUR) | N19: Būvizstrādājumi (EUR) | O19: Mehānismi (EUR) | P19: Summa (EUR)
A20: 1 | B20: 2 | C20: 3 | D20: 4 | E20: 5 | F20: 6 | G20: 7 | H20: 8 | I20: 9 | J20: 10 | K20: 11 | L20: 12 | M20: 13 | N20: 14 | O20: 15 | P20: 16
C21: 1. GRĪDAS G-1 UN G-2 BETONĒŠANA
A22: 1 | B22: Līgumcena | C22: Smilts pamatnes izliīdzināšana, nepieciešamības gadījumā pieberšana, H=~100 mm | D22: m2 | E22: =120.02+49.8 -> 169.82
A23: 2 | C23: Smilts ar piegādi | D23: m3 | E23: =E22*0.1*1.3 -> 22.0766
A24: 3 | B24: Līgumcena | C24: Šķembu kārtas pieberšana, H=120 mm | D24: m2 | E24: =E22 -> 169.82
A25: 4 | C25: Šķembas ar piegādi | D25: m3 | E25: =E24*0.12*1.3 -> 26.49192
A26: 5 | B26: Līgumcena | C26: Grīdas plātnes betonēšana, H=80 mm | D26: m2 | E26: =E22 -> 169.82
A27: 6 | C27: Betons C20/25 | D27: m3 | E27: =E26*0.08*1.1 -> 14.94416
A28: 7 | C28: Betona piegāde | D28: reiss | E28: 2
A29: 8 | C29: Betona sūknis | D29: m/st | E29: 2
A30: 9 | B30: Līgumcena | C30: Siltumizolācijas kārtas izveide | D30: m2 | E30: =E22 -> 169.82
A31: 10 | C31: Ekstrudēts putupolistirols, H=100 mm | D31: m2 | E31: =E30*1.05 -> 178.311
A32: 11 | B32: Līgumcena | C32: Grīdas plātnes betonēšana, H=50 mm | D32: m2 | E32: =E22 -> 169.82
A33: 12 | C33: Polipropilēna skaidas (armējums) | D33: m2 | E33: =E32 -> 169.82
A34: 13 | C34: Betons C20/25 | D34: m3 | E34: =E32*0.06*1.1 -> 11.20812
A35: 14 | C35: Betona piegāde | D35: reiss | E35: 2
A36: 15 | C36: Betona sūknis | D36: m/st | E36: 2
A37: 16 | C37: Citi palīgmateriāli | D37: kompl | E37: 1
C39: Tiešās izmaksas kopā, t.sk. Darba devēja sociālais nodoklis (23,59%) | L39: =SUM(L21:L38) -> 0 | M39: =SUM(M21:M38) -> 0 | N39: =SUM(N21:N38) -> 0 | O39: =SUM(O21:O38) -> 0 | P39: =SUM(P21:P38) -> 0
B41: Sastādīja: | C41: =KOPTAME!C58 -> 0 | E41: ='KOPS 1'!F42 -> 0
C42: (paraksts un tā atšifrējums, datums)
B46: Pārbaudīja: | C46: =KOPTAME!C63 -> 0 | E46: =E41 -> 0
C47: (paraksts un tā atšifrējums, datums)
C49: =KOPTAME!C68 -> 0
C51: =KOPTAME!C70 -> 0

Sheet JUM 1
M1: 5. pielikums LBN 501-17
E3: LOKĀLA TĀME Nr. | I3: 1--6
D4: JUMTA IZBŪVE
D5: (Būvdarbu veids vai kosntruktīva elementa nosaukums)
A7: Objekta nosaukums: | C7: =KOPTAME!C15 -> VALGUNDES PAGASTA PĀRVALDES ĒKAS ENERGOEFEKTIVITĀTES PAAGUSTINĀŠANA
A8: Būves nosaukums: | C8: =KOPTAME!C16 -> VALGUNDES PAGASTA PĀRVALDES ĒKA
A9: Objekta adrese: | C9: =KOPTAME!C17 -> CELTNIEKU IELA 35, VALGUNDE, JELGAVAS NOVADS
A10: Pasūtītājs: | C10: =KOPTAME!C18 -> JELGAVAS NOVADA PAŠVALDĪBA
A11: Pasūtījuma Nr.: | C11: =KOPTAME!C19 -> 23-019/3 (KPJ/2023/31-5)
A12: Pretendents: | C12: =KOPTAME!C20 -> 0
A14: =KOPTAME!B22 -> 0 | M14: Tāmes izmaksas | O14: =P56 -> 0 | P14: EURO
P16: =KOPTAME!C70 -> 0
A18: Nr. p.k. | B18: Kods | C18: Būvdarbu nosaukums | D18: Mērvienība | E18: Daudzums | F18: Vienības izmaksas | L18: Kopā uz visu apjomu
F19: Laika norma (c/h) | G19: Darba samaksas likme (EUR/h) | H19: Darba alga (EUR) | I19: Būvizstrādājumi (EUR) | J19: Mehānismi (EUR) | K19: Kopā (EUR) | L19: Darbietilpība (c/h) | M19: Darba alga (EUR) | N19: Būvizstrādājumi (EUR) | O19: Mehānismi (EUR) | P19: Summa (EUR)
A20: 1 | B20: 2 | C20: 3 | D20: 4 | E20: 5 | F20: 6 | G20: 7 | H20: 8 | I20: 9 | J20: 10 | K20: 11 | L20: 12 | M20: 13 | N20: 14 | O20: 15 | P20: 16
C21: 1. JUMTA REMONTS. AR-3, AR-5, AR-6
A22: 1 | B22: Līgumcena | C22: Bēniņu iztīrīšana | D22: m2 | E22: =21*(9.15) -> 192.15
A23: 2 | B23: Līgumcena | C23: Esošās siltumizolācijas kārtas sakārtošana | D23: m2 | E23: =E22 -> 192.15
A24: 3 | B24: Līgumcena | C24: Koka laipas izgatavošana uz koka paliktniem, dēli 40 mm, koka laipas karkass 50*100 mm, H=300 mm, ar soli 600 mm. Laipas platums 800 mm | D24: tek.m | E24: 42
A25: 4 | C25: Antiseptizēts kokmateriāls laipas karkasam, 50*100 mm | D25: m3 | E25: =(0.3*2+0.8*2)*0.05*0.1*1.15*E24/0.6 -> 0.8855
A26: 5 | C26: Antiseptizēts kokmateriāls laipas karkasam, 100*200 mm | D26: m4 | E26: =E24*0.1*0.2*1.15 -> 0.966
A27: 6 | C27: Antiseptizēts kokmateriāls laipai, 25*100 mm | D27: m3 | E27: =E24*0.8*0.04*1.15 -> 1.5456
A28: 7 | C28: Montāžas materiāli (hidroizolācijas kārta zem koka gulšņiem, stiprinājumi utt.) | D28: kompl | E28: 1
A29: 8 | B29: Līgumcena | C29: Siltumizolācijas uzklāšana uz esošās siltumizolācijas | D29: m2 | E29: =(2.76+0.38+5.72+0.38+2.8+0.15+2.8+0.38+2.36+0.2+3.14)*(4.1+3.05+1.38+0.2*2) -> 188.1551
A30: 9 | C30: Beramvate, h=300 mm | D30: m3 | E30: =E29*0.3*1.05 -> 59.268857
A31: 10 | B31: Līgumcena | C31: Pretvēja izolācijas ieklāšana | D31: m2 | E31: =E29 -> 188.1551
A32: 11 | C32: Pretvēja izolācijas plēve | D32: m2 | E32: =E31*1.25 -> 235.19387
A33: 12 | B33: Līgumcena | C33: Esošo koka siju remonts 10% un apstrāde ar antiseptizēto sastāvu | D33: m2 | E33: =21.977*6.13*2 -> 269.43802
A34: 13 | C34: Antiseptizēts kokmateriāls, 50*200 mm | D34: m3 | E34: =E33*0.05*0.2*1.15*2*0.1 -> 0.61970745
A35: 14 | C35: Antiseptizēts sastāvs | D35: l | E35: =E33*2*0.5*0.35*1.15 -> 108.4488
A36: 15 | C36: Montāžas materiāli | D36: kompl | E36: 1
A37: 16 | B37: Līgumcena | C37: Esošā koka latojuma remonts, 30 % | D37: m2 | E37: =E33 -> 269.43802
A38: 17 | C38: Antiseptizēts kokmateriāls, 50*50 mm | D38: m3 | E38: =E37*0.05*0.05*3*1.15*0.3 -> 0.69717088
A39: 18 | C39: Mitrumizturīgs finieris 18 mm virs vates | D39: m2 | E39: =2*21.977*1.15 -> 50.5471
A40: 19 | C40: Montāžas materiāli | D40: kompl | E40: 1
A41: 20 | B41: Līgumcena | C41: Jumta seguma montāža | D41: m2 | E41: =E33 -> 269.43802
A42: 21 | C42: Jumta segums, bezasbesta loksnes, Eternit | D42: m2 | E42: =E41*1.15 -> 309.85372
A43: 22 | C43: Skārda elementi (kore, pieslēgumi pie sienām utt.) | D43: tek.m | E43: =22+10.4*2+10 -> 52.8
A44: 23 | C44: Montāžas materiāli | D44: kompl | E44: 1
A45: 24 | B45: Līgumcena | C45: Vējkastes apšuvuma izveide ar krāsotiem dēļiem | D45: tek.m | E45: =2*21.977 -> 43.954
A46: 25 | C46: Krāsotie apdares dēļi, 21 mm | D46: m2 | E46: =E45*(0.7+0.25)*1.2 -> 50.10756
A47: 26 | C47: Montāžas materiāli | D47: kompl | E47: 1
A48: 27 | B48: Līgumcena | C48: Jauno jumta teknu montāža ar stiprinājumiem | D48: tek.m | E48: =21.977*2 -> 43.954
A49: 28 | B49: Līgumcena | C49: Jauno jumta noteku montāža ar stiprinājumiem | D49: tek.m | E49: =6*6.9 -> 41.4
A50: 29 | B50: Līgumcena | C50: Jaunā skārda lāseņa izgatavošana, piegāde un montāža virs teknes | D50: tek.m | E50: 29.2
A51: 30 | B51: Līgumcena | C51: Jumta lūkas un stacionāro koka kāpņu (0,6*1,3 m) izgatavošana, piegāde un montāža | D51: kompl | E51: 1
A52: 31 | B52: Līgumcena | C52: Bēniņu lūkas ar izvelkamiem kāpnēm piegāde un montāža, EI-30, U<1.6W/m2K | D52: kompl | E52: 1
C53: 2. UZJUMTENIS
A54: 1 | B54: Līgumcena | C54: Uzjumteņa izgatavošana, piegāde un montāža asīs A--B/ 2, 0,8*1,2 m | D54: kompl | E54: 1
C56: Tiešās izmaksas kopā, t.sk. Darba devēja sociālais nodoklis (23,59%) | L56: =SUM(L21:L55) -> 0 | M56: =SUM(M21:M55) -> 0 | N56: =SUM(N21:N55) -> 0 | O56: =SUM(O21:O55) -> 0 | P56: =SUM(P21:P55) -> 0
B58: Sastādīja: | C58: =KOPTAME!C58 -> 0 | E58: ='KOPS 1'!F42 -> 0
C59: (paraksts un tā atšifrējums, datums)
B63: Pārbaudīja: | C63: =KOPTAME!C63 -> 0 | E63: =E58 -> 0
C64: (paraksts un tā atšifrējums, datums)
C66: =KOPTAME!C68 -> 0
C68: =KOPTAME!C70 -> 0

Sheet L D V 1
M1: 5. pielikums LBN 501-17
E3: LOKĀLA TĀME Nr. | I3: 1--7
D4: LOGI, DURVIS, VITRĪNAS
D5: (Būvdarbu veids vai kosntruktīva elementa nosaukums)
A7: Objekta nosaukums: | C7: =KOPTAME!C15 -> VALGUNDES PAGASTA PĀRVALDES ĒKAS ENERGOEFEKTIVITĀTES PAAGUSTINĀŠANA
A8: Būves nosaukums: | C8: =KOPTAME!C16 -> VALGUNDES PAGASTA PĀRVALDES ĒKA
A9: Objekta adrese: | C9: =KOPTAME!C17 -> CELTNIEKU IELA 35, VALGUNDE, JELGAVAS NOVADS
A10: Pasūtītājs: | C10: =KOPTAME!C18 -> JELGAVAS NOVADA PAŠVALDĪBA
A11: Pasūtījuma Nr.: | C11: =KOPTAME!C19 -> 23-019/3 (KPJ/2023/31-5)
A12: Pretendents: | C12: =KOPTAME!C20 -> 0
A14: =KOPTAME!B22 -> 0 | M14: Tāmes izmaksas | O14: =P53 -> 0 | P14: EURO
P16: =KOPTAME!C70 -> 0
A18: Nr. p.k. | B18: Kods | C18: Būvdarbu nosaukums | D18: Mērvienība | E18: Daudzums | F18: Vienības izmaksas | L18: Kopā uz visu apjomu
F19: Laika norma (c/h) | G19: Darba samaksas likme (EUR/h) | H19: Darba alga (EUR) | I19: Būvizstrādājumi (EUR) | J19: Mehānismi (EUR) | K19: Kopā (EUR) | L19: Darbietilpība (c/h) | M19: Darba alga (EUR) | N19: Būvizstrādājumi (EUR) | O19: Mehānismi (EUR) | P19: Summa (EUR)
A20: 1 | B20: 2 | C20: 3 | D20: 4 | E20: 5 | F20: 6 | G20: 7 | H20: 8 | I20: 9 | J20: 10 | K20: 11 | L20: 12 | M20: 13 | N20: 14 | O20: 15 | P20: 16
C21: 1. LOGI. AR-2, AR-9
A22: 1 | B22: Līgumcena | C22: Logs L-1, 1600*1800 mm (L*H), ar izgatavošanu, piegādi un montāžu. 3-kārša stikla pakete PVC rāmi, vērmas/gāžams, krāsa pelēka/balta. U mazāk 0,90 W/m2K | D22: gab | E22: 23
A23: 2 | B23: Līgumcena | C23: Logs L-2, 1000*1800 mm (L*H), ar izgatavošanu, piegādi un montāžu. 3-kārša stikla pakete PVC rāmi, vērmas/gāžams, krāsa pelēka/balta. U mazāk 0,90 W/m2K | D23: gab | E23: 4
A24: 3 | B24: Līgumcena | C24: Logs L-3, 2600*900 mm (L*H), ar izgatavošanu, piegādi un montāžu. 3-kārša stikla pakete PVC rāmi, vērmas/gāžams, krāsa pelēka/balta. U mazāk 0,90 W/m2K | D24: gab | E24: 3
A25: 4 | B25: Līgumcena | C25: Logs L-4, 1800*1800 mm (L*H), ar izgatavošanu, piegādi un montāžu. 3-kārša stikla pakete PVC rāmi, vērmas/gāžams, krāsa pelēka/balta. U mazāk 0,90 W/m2K | D25: gab | E25: 1
A26: 5 | B26: Līgumcena | C26: Antiseptizēto koku siju montāža logu rāmim (100*100 mm, L=1600 mm 46 gab; L=1000 mm 8 gab; L=2500 mm 6 gab; L=1900 mm 2 gab) | D26: m3 | E26: =0.1*0.1*(1.6*46+1*8+2.5*6+1.9*2) -> 1.004
A27: 6 | B27: Līgumcena | C27: Metāla caurumotas plāksnes, L280*90*2,5 mm | D27: gab | E27: 246
A28: 7 | B28: Līgumcena | C28: Metāla caurumotas plāksnes, L90*90*2,5 mm | D28: gab | E28: 246
A29: 8 | B29: Līgumcena | C29: Logu iebūves ārsienas siltumizolācijas zonā tipveida kronšteini | D29: gab | E29: 330
A30: 9 | C30: Stiprinājumi, dībeļi utt metāla plākšņu stiprināšanai | D30: kompl | E30: 1
A31: 10 | B31: Līgumcena | C31: Tvaika necaurlaidīga lentas montāža | D31: tek.m | E31: =E22*(1.8*1.6*2)+E23*(1.8*2+1*2)+E24*(2.5*2+0.9*2)+E25*(1.8*2+1.9*2) -> 182.68
A32: 11 | B32: Līgumcena | C32: Loga blīvējošās lentas montāža | D32: tek.m | E32: =E31 -> 182.68
A33: 12 | B33: Līgumcena | C33: Difūzijas lentas montāža | D33: tek.m | E33: =E31 -> 182.68
A34: 13 | B34: Līgumcena | C34: MDF vai PVC palodzes montāža, b=300 mm | D34: tek.m | E34: =E22*1.6+E23*1+E24*2.6+E25*1.8 -> 50.4
A35: 14 | B35: Līgumcena | C35: Ārējas skārda palodzes montāža, b=300 mm | D35: tek.m | E35: =E34 -> 50.4
A36: 15 | C36: Palīgmateriāli | D36: gab | E36: =SUM(E22:E25) -> 31
A37: 16 | B37: Līgumcena | C37: Logu ailu apdare no iekšpuses | D37: tek.m | E37: =E31-E34 -> 132.28
A38: 17 | B38: Līgumcena | C38: Logu ailu apdare no ārpuses | D38: tek.m | E38: =E37 -> 132.28
C39: 2. DURVIS. AR-2
A40: 1 | B40: Līgumcena | C40: Durvis D-1, 1000*2100 mm (L*H), ar izgatavošanu, piegādi un montāžu. PVC rāmis, 2-kāršu stiklojums. Krāsa — pelēks/pelēks. Slēdzene, el.kartiņa, līmlentes 5 gab. | D40: gab | E40: 17
A41: 2 | B41: Līgumcena | C41: Durvis D-2, 900*2100 mm (L*H), ar izgatavošanu, piegādi un montāžu. PVC rāmis, matēts stiklojums. Krāsa — pelēks/pelēks. Slēdzene, el.kartiņa. | D41: gab | E41: 3
A42: 3 | B42: Līgumcena | C42: Ārdurvis D-3, 1000*2100 mm (L*H), ar izgatavošanu, piegādi un montāžu. PVC rāmis, 3-kāršu stiklojums, siltinātas, slēdzene, durvju aizvērējs. U mazāks 1,1 W/m2K. Krāsa - pelēks/pelēks. 5 līmlentas | D42: gab | E42: 1
A43: 4 | B43: Līgumcena | C43: Ārdurvju iebūves ārsienas siltumizolācijas zonā tipveida kronšteini | D43: kompl | E43: =E42 -> 1
A44: 5 | C44: Palīgmateriāli | D44: gab | E44: =SUM(E40:E42) -> 21
A45: 6 | B45: Līgumcena | C45: Durvju ailu apdare no abām pusem, ieskaitot kleidu montāžu no vienas puses | D45: tek.m | E45: =E40*5.2+E41*5.1+E42*5.2 -> 108.9
C46: 3. VITRĪNAS. AR-2, AR-9
A47: 1 | B47: Līgumcena | C47: Vitrīna V-1, 2320*2720 mm (L*H), ar izgatavošanu, piegādi un montāžu. PVC rāmis, 3-kāršu stiklojums, siltinātas, slēdzene, durvju aizvērējs. U mazāks 1,6 W/m2K. Krāsa - pelēks/pelēks. 3 līmlentas | D47: gab | E47: 1
A48: 2 | B48: Līgumcena | C48: Vitrīna V-2, 3200*3000 mm (L*H), ar izgatavošanu, piegādi un montāžu. PVC rāmis, 2-kāršu stiklojums. Krāsa — pelēks/pelēks. Slēdzene, el.kartiņa, līmlentes 3 gab. | D48: gab | E48: 1
A49: 3 | B49: Līgumcena | C49: Vitrīna V-3, 1500*3000 mm (L*H), ar izgatavošanu, piegādi un montāžu. PVC rāmis, 2-kāršu stiklojums. Krāsa — pelēks/pelēks. Slēdzene, el.kartiņa, līmlentes 3 gab. | D49: gab | E49: 1
A50: 4 | C50: Palīgmateriāli | D50: gab | E50: 3
A51: 5 | B51: Līgumcena | C51: Vitrinu ailu apdare no abām pusem, ieskaitot kleidu montāžu no vienas puses | D51: tek.m | E51: =E47*(2.72*2+2.32)+E48*9.2+E49*7.5 -> 24.46
C53: Tiešās izmaksas kopā, t.sk. Darba devēja sociālais nodoklis (23,59%) | L53: =SUM(L22:L52) -> 0 | M53: =SUM(M22:M52) -> 0 | N53: =SUM(N22:N52) -> 0 | O53: =SUM(O22:O52) -> 0 | P53: =SUM(P22:P52) -> 0
B55: Sastādīja: | C55: =KOPTAME!C58 -> 0 | E55: ='KOPS 1'!F42 -> 0
C56: (paraksts un tā atšifrējums, datums)
B60: Pārbaudīja: | C60: =KOPTAME!C63 -> 0 | E60: =E55 -> 0
C61: (paraksts un tā atšifrējums, datums)
C63: =KOPTAME!C68 -> 0
C65: =KOPTAME!C70 -> 0

Sheet APD 1
M1: 5. pielikums LBN 501-17
E3: LOKĀLA TĀME Nr. | I3: 1--8
D4: IEKŠĒJĀ APDARE
D5: (Būvdarbu veids vai kosntruktīva elementa nosaukums)
A7: Objekta nosaukums: | C7: =KOPTAME!C15 -> VALGUNDES PAGASTA PĀRVALDES ĒKAS ENERGOEFEKTIVITĀTES PAAGUSTINĀŠANA
A8: Būves nosaukums: | C8: =KOPTAME!C16 -> VALGUNDES PAGASTA PĀRVALDES ĒKA
A9: Objekta adrese: | C9: =KOPTAME!C17 -> CELTNIEKU IELA 35, VALGUNDE, JELGAVAS NOVADS
A10: Pasūtītājs: | C10: =KOPTAME!C18 -> JELGAVAS NOVADA PAŠVALDĪBA
A11: Pasūtījuma Nr.: | C11: =KOPTAME!C19 -> 23-019/3 (KPJ/2023/31-5)
A12: Pretendents: | C12: =KOPTAME!C20 -> 0
A14: =KOPTAME!B22 -> 0 | M14: Tāmes izmaksas | O14: =P127 -> 0 | P14: EURO
P16: =KOPTAME!C70 -> 0
A18: Nr. p.k. | B18: Kods | C18: Būvdarbu nosaukums | D18: Mērvienība | E18: Daudzums | F18: Vienības izmaksas | L18: Kopā uz visu apjomu
F19: Laika norma (c/h) | G19: Darba samaksas likme (EUR/h) | H19: Darba alga (EUR) | I19: Būvizstrādājumi (EUR) | J19: Mehānismi (EUR) | K19: Kopā (EUR) | L19: Darbietilpība (c/h) | M19: Darba alga (EUR) | N19: Būvizstrādājumi (EUR) | O19: Mehānismi (EUR) | P19: Summa (EUR)
A20: 1 | B20: 2 | C20: 3 | D20: 4 | E20: 5 | F20: 6 | G20: 7 | H20: 8 | I20: 9 | J20: 10 | K20: 11 | L20: 12 | M20: 13 | N20: 14 | O20: 15 | P20: 16
C21: 1. GRĪDA G-1.
A22: 1 | B22: Līgumcena | C22: Grīdas apakškārtas tīrīšana, gruntēšana, špaktelēšana | D22: m2 | E22: =120.02*0+115.8 -> 115.8
A23: 2 | C23: Grunts | D23: l | E23: =E22*0.2*1.15 -> 26.634
A24: 3 | C24: Grīdas izlīdzinošais sastāvs, līdz 5 mm | D24: kg | E24: =E22*1.8*5*1.1 -> 1146.42
A25: 4 | C25: Palīgmateriāli | D25: m2 | E25: =E22 -> 115.8
A26: 5 | B26: Līgumcena | C26: Linoleja seguma ieklāšana | D26: m2 | E26: =E22 -> 115.8
A27: 6 | C27: Nodilumizturīgs linolejs (linolejs Forbo Marmoleum Solid vai analogs, R9, 43.klase, biezums 2,5 mm, iespiedums 0,08 mm) vai ekvivalents | D27: m2 | E27: =E26*1.2 -> 138.96
A28: 7 | C28: Līme UZIN vai ekvivalents | D28: kg | E28: =E26*0.35*1.1 -> 44.583
A29: 8 | C29: Aukla/diegs | D29: tek.m | E29: =E26*0.7*1.1 -> 89.166
C30: 2. GRĪDA G-2.
A31: 1 | B31: Līgumcena | C31: Grīdas hidroizolācijas izveide | D31: m2 | E31: =49.8*0+54.02 -> 54.02
A32: 2 | B32: Līgumcena | C32: Grīdas flīzēšana | D32: m2 | E32: =E31 -> 54.02
A33: 3 | C33: Flīzes, PEI 5, R10 vai ekvivalents | D33: m2 | E33: =E32*1.15 -> 62.123
A34: 4 | C34: Līmjava | D34: kg | E34: =E32*5*1.1 -> 297.11
A35: 5 | C35: Palīgmateriāli | D35: m2 | E35: =E32 -> 54.02
C36: 3. GRĪDA KĀPŅU ZONĀ un G-10
A37: 1 | B37: Līgumcena | C37: Grīdas flīzēšana | D37: m2 | E37: 7.4
A38: 2 | C38: Flīzes PEI 5, R10 (200*200 mm, 500*250 mm) vai ekvivalents | D38: m2 | E38: =E37*1.15 -> 8.51
A39: 3 | C39: Līmjava | D39: kg | E39: =E37*5*1.1 -> 40.7
A40: 4 | C40: Palīgmateriāli | D40: m2 | E40: =E37 -> 7.4
A41: 5 | B41: Līgumcena | C41: Nodilumizturīga dekoratīvo pārslu seguma Peran floor flakes izveide vai ekvivalents | D41: m2 | E41: 15
C42: 4. GRĪDA G-11.
A43: 1 | B43: Līgumcena | C43: Grīdas apakškārtas tīrīšana, gruntēšana, špaktelēšana | D43: m2 | E43: 93.79
A44: 2 | C44: Grunts | D44: l | E44: =E43*0.2*1.15 -> 21.5717
A45: 3 | C45: Grīdas izlīdzinošais sastāvs, līdz 5 mm | D45: kg | E45: =E43*1.8*5*1.1 -> 928.521
A46: 4 | C46: Palīgmateriāli | D46: m2 | E46: =E43 -> 93.79
A47: 5 | B47: Līgumcena | C47: Linoleja seguma ieklāšana | D47: m2 | E47: =E43 -> 93.79
A48: 6 | C48: Nodilumizturīgs linolejs (linolejs Forbo Marmoleum Solid vai analogs, R9, 43.klase, biezums 2,5 mm, iespiedums 0,08 mm) vai ekvivalents | D48: m2 | E48: =E47*1.2 -> 112.548
A49: 7 | C49: Līme UZIN vai ekvivalents | D49: kg | E49: =E47*0.35*1.1 -> 36.10915
A50: 8 | C50: Aukla/diegs | D50: tek.m | E50: =E47*0.7*1.1 -> 72.2183
C51: 5. GRĪDA G-12.
A52: 1 | B52: Līgumcena | C52: Grīdas apakškārtas tīrīšana, gruntēšana, špaktelēšana | D52: m2 | E52: 63.92
A53: 2 | C53: Grunts | D53: l | E53: =E52*0.2*1.15 -> 14.7016
A54: 3 | C54: Grīdas izlīdzinošais sastāvs, līdz 5 mm | D54: kg | E54: =E52*1.8*5*1.1 -> 632.808
A55: 4 | C55: Palīgmateriāli | D55: m2 | E55: =E52 -> 63.92
A56: 5 | B56: Līgumcena | C56: Linoleja seguma ieklāšana | D56: m2 | E56: =E52 -> 63.92
A57: 6 | C57: Nodilumizturīgs linolejs (linolejs Forbo Marmoleum Solid vai analogs, R9, 43.klase, biezums 2,5 mm, iespiedums 0,08 mm) vai ekvivalents | D57: m2 | E57: =E56*1.2 -> 76.704
A58: 7 | C58: Līme UZIN vai ekvivalents | D58: kg | E58: =E56*0.35*1.1 -> 24.6092
A59: 8 | C59: Aukla/diegs | D59: tek.m | E59: =E56*0.7*1.1 -> 49.2184
C60: 6. GRĪDAS APMALE
A61: 1 | B61: Līgumcena | C61: Grīdlīstes piegāde un montāža (dēļu, H=70 mm) | D61: tek.m | E61: 237.5
A62: 2 | B62: Līgumcena | C62: Grīdlīstes piegāde un montāža (flīzes, H=70 mm) | D62: tek.m | E62: 38.5
C63: 7. GRIESTU ŠPAKTELĒŠANA UN KRĀSOŠANA
A64: 1 | B64: Līgumcena | C64: Griestu tīrīšāna, gruntēšana un špaktelēšana | D64: m2 | E64: 101.54
A65: 2 | C65: Grunts | D65: l | E65: =E64*0.17*1.1 -> 18.98798
A66: 3 | C66: Nobeiguma špaktele | D66: kg | E66: =E64*1.5*1.2 -> 182.772
A67: 4 | C67: Smilšpapīrs | D67: tek.m | E67: =E64*0.1 -> 10.154
A68: 5 | C68: Citi palīgmateriāli | D68: m2 | E68: =E64 -> 101.54
A69: 6 | B69: Līgumcena | C69: Griestu krāsošana | D69: m2 | E69: =E64 -> 101.54
A70: 7 | C70: Griestu krāsa | D70: l | E70: =E69*0.35 -> 35.539
A71: 8 | C71: Citi palīgmateriāli | D71: m2 | E71: =E69 -> 101.54
C72: 8. PIEKĀRTO GRIESTU MONTĀŽA (ARMSTRONG TIPA)
A73: 1 | B73: Līgumcena | C73: Piekārto griestu (Armstrong tipa) montāža | D73: m2 | E73: 240.37
A74: 2 | C74: Nesošais karkass ar piekarēm | D74: m2 | E74: =E73 -> 240.37
A75: 3 | C75: Griestu plāksnes Sandila smart k3 600x600x14mm 12/p vai ekvivalents | D75: m2 | E75: =E73 -> 240.37
A76: 4 | C76: Palīgmateriāli | D76: m2 | E76: =E73 -> 240.37
C77: 9. VĒDINĀŠANAS KANĀLA APŠUVUMA IZVEIDE, ŠPAKTELĒŠANA UN KRĀSOŠANA
A78: 1 | B78: Līgumcena | C78: Vēdināšanas kanāla apšuvuma izveide ar reģipša loksnēm uz metāla profiliem | D78: m2 | E78: 15.3
A79: 2 | C79: Metāla nesošais karkass | D79: m2 | E79: =E78 -> 15.3
A80: 3 | C80: Ģipškartona plāksnes, GKF, 12,5 mm | D80: m2 | E80: =E78*2*1.2 -> 36.72
A81: 4 | C81: Palīgmateriāli | D81: m2 | E81: =E78 -> 15.3
A82: 5 | B82: Līgumcena | C82: Griestu gruntēšana un špaktelēšana | D82: m2 | E82: =E78 -> 15.3
A83: 6 | C83: Grunts | D83: l | E83: =E82*0.17*1.1 -> 2.8611
A84: 7 | C84: Nobeiguma špaktele | D84: kg | E84: =E82*1.5*1.2 -> 27.54
A85: 8 | C85: Smilšpapīrs | D85: tek.m | E85: =E82*0.1 -> 1.53
A86: 9 | C86: Citi palīgmateriāli | D86: m2 | E86: =E82 -> 15.3
A87: 10 | B87: Līgumcena | C87: Griestu krāsošana | D87: m2 | E87: =E82 -> 15.3
A88: 11 | C88: Griestu krāsa | D88: l | E88: =E87*0.35 -> 5.355
A89: 12 | C89: Citi palīgmateriāli | D89: m2 | E89: =E87 -> 15.3
C90: 10. SIENU APMEŠANA UN PĀRRĪVĒŠANA
A91: 1 | B91: Līgumcena | C91: Sienu apmešana un pārrivēšana | D91: m2 | E91: =102.3+106.53 -> 208.83
A92: 2 | C92: Grunts | D92: l | E92: =E91*0.17 -> 35.5011
A93: 3 | C93: Apmetuma java | D93: kg | E93: =E91*15*1.15 -> 3602.3175
A94: 4 | C94: Apmetuma vadulas | D94: tek.m | E94: =E91 -> 208.83
A95: 5 | C95: Citi palīgmateriāli | D95: m2 | E95: =E91 -> 208.83
C96: 11. SIENU ŠPAKTELĒŠANA
A97: 1 | B97: Līgumcena | C97: Sienas špaktelēšana | D97: m2 | E97: 550.1
A98: 2 | C98: Grunts | D98: l | E98: =E97*0.17 -> 93.517
A99: 3 | C99: Nobeiguma špaktele | D99: kg | E99: =E97*1.5*1.2 -> 990.18
A100: 4 | C100: Smilšpapīrs | D100: tek.m | E100: =E97*0.1 -> 55.01
A101: 5 | C101: Citi palīgmateriāli | D101: m2 | E101: =E97 -> 550.1
C102: 12. SIENU KRĀSOŠANA
A103: 1 | B103: Līgumcena | C103: Sienas krāsošana | D103: m2 | E103: =E97 -> 550.1
A104: 2 | C104: Sienu krāsa | D104: l | E104: =E103*0.35 -> 192.535
A105: 3 | C105: Krāsas tonēšana gaišajā tonī | D105: l | E105: =E104 -> 192.535
...

Sheet APK 1
M1: 5. pielikums LBN 501-17
E2: LOKĀLA TĀME Nr. | I2: 2--1
D3: APKURE
D4: (Būvdarbu veids vai kosntruktīva elementa nosaukums)
A6: Objekta nosaukums: | C6: =KOPTAME!C15 -> VALGUNDES PAGASTA PĀRVALDES ĒKAS ENERGOEFEKTIVITĀTES PAAGUSTINĀŠANA
A7: Būves nosaukums: | C7: =KOPTAME!C16 -> VALGUNDES PAGASTA PĀRVALDES ĒKA
A8: Objekta adrese: | C8: =KOPTAME!C17 -> CELTNIEKU IELA 35, VALGUNDE, JELGAVAS NOVADS
A9: Pasūtītājs: | C9: =KOPTAME!C18 -> JELGAVAS NOVADA PAŠVALDĪBA
A10: Pasūtījuma Nr.: | C10: =KOPTAME!C19 -> 23-019/3 (KPJ/2023/31-5)
A11: Pretendents: | C11: =KOPTAME!C20 -> 0
A13: =KOPTAME!B22 -> 0 | M13: Tāmes izmaksas | O13: =P47 -> 0 | P13: EURO
P15: =KOPTAME!C70 -> 0
A17: Nr. p.k. | B17: Kods | C17: Būvdarbu nosaukums | D17: Mērvienība | E17: Daudzums | F17: Vienības izmaksas | L17: Kopā uz visu apjomu
F18: Laika norma (c/h) | G18: Darba samaksas likme (EUR/h) | H18: Darba alga (EUR) | I18: Būvizstrādājumi (EUR) | J18: Mehānismi (EUR) | K18: Kopā (EUR) | L18: Darbietilpība (c/h) | M18: Darba alga (EUR) | N18: Būvizstrādājumi (EUR) | O18: Mehānismi (EUR) | P18: Summa (EUR)
A19: 1 | B19: 2 | C19: 3 | D19: 4 | E19: 5 | F19: 6 | G19: 7 | H19: 8 | I19: 9 | J19: 10 | K19: 11 | L19: 12 | M19: 13 | N19: 14 | O19: 15 | P19: 16
C20: 1. APKURE
A21: 1 | B21: Līgumcena | C21: Tērauda plākšņu radiators “Purmo Compact” ar sānu pieslēgumu un sienas stiprinājumu kronšteiniem (Purmo), 22/500/400. vai ekvivalents | D21: kompl | E21: 1
A22: 2 | B22: Līgumcena | C22: Tērauda plākšņu radiators “Purmo Compact” ar sānu pieslēgumu un sienas stiprinājumu kronšteiniem (Purmo), 22/500/600. vai ekvivalents | D22: kompl | E22: 6
A23: 3 | B23: Līgumcena | C23: Tērauda plākšņu radiators “Purmo Compact” ar sānu pieslēgumu un sienas stiprinājumu kronšteiniem (Purmo), 22/900/400. vai ekvivalents | D23: kompl | E23: 1
A24: 4 | B24: Līgumcena | C24: Tērauda plākšņu radiators “Purmo Compact” ar sānu pieslēgumu un sienas stiprinājumu kronšteiniem (Purmo), 22/900/600. vai ekvivalents | D24: kompl | E24: 1
A25: 5 | B25: Līgumcena | C25: Tērauda plākšņu radiators “Purmo Compact” ar sānu pieslēgumu un sienas stiprinājumu kronšteiniem (Purmo), 21/500/400. vai ekvivalents | D25: kompl | E25: 4
A26: 6 | B26: Līgumcena | C26: Tērauda plākšņu radiators “Purmo Compact” ar sānu pieslēgumu un sienas stiprinājumu kronšteiniem (Purmo), 21/500/500. vai ekvivalents | D26: kompl | E26: 1
A27: 7 | B27: Līgumcena | C27: Tērauda plākšņu radiators “Purmo Compact” ar sānu pieslēgumu un sienas stiprinājumu kronšteiniem (Purmo), 21/500/600. vai ekvivalents | D27: kompl | E27: 1
A28: 8 | B28: Līgumcena | C28: Radiatora termostatiskais vārsts DN15,taisns (Danfoss), RTD-N15 vai ekvivalents | D28: gab | E28: 28
A29: 9 | B29: Līgumcena | C29: Elektriskā bezvadu radiatora vārsta regulators (M130 baterija)/SIA “Mesh Energ.” vai ekvivalents | D29: gab | E29: 28
A30: 10 | B30: Līgumcena | C30: Noslēgvārsts DN15,taisns (Danfoss), RLV-15 vai ekvivalents | D30: gab | E30: 28
A31: 11 | B31: Līgumcena | C31: Balansēšanas ventilis “Hydro Control R” (Oventrop), DN20 vai ekvivalents | D31: gab | E31: 2
A32: 12 | B32: Līgumcena | C32: Lodveida ventilis “I-I” 3/4” (Rastelli), DN20 vai ekvivalents | D32: gab | E32: 2
... A45: 25 | B45: Līgumcena | C45: Lokālais vadības panelis ar CO2 devēju LRCS21 SIA „Mesh Energ.“, 19.00000 vai ekvivalents | D45: gab | E45: 17
C47: Tiešās izmaksas kopā, t.sk. Darba devēja sociālais nodoklis (23,59%) | L47: =SUM(L21:L46) -> 0 | M47: =SUM(M21:M46) -> 0 | N47: =SUM(N21:N46) -> 0 | O47: =SUM(O21:O46) -> 0 | P47: =SUM(P21:P46) -> 0
B49: Sastādīja: | C49: =KOPTAME!C58 -> 0 | E49: ='KOPS 1'!F42 -> 0
C50: (paraksts un tā atšifrējums, datums)
B54: Pārbaudīja: | C54: =KOPTAME!C63 -> 0 | E54: =E49 -> 0
C55: (paraksts un tā atšifrējums, datums)
C57: =KOPTAME!C68 -> 0
C59: =KOPTAME!C70 -> 0

Sheet SM 1
M1: 5. pielikums LBN 501-17
E2: LOKĀLA TĀME Nr. | I2: 2--2
D3: SILTUMMEZGLS
D4: (Būvdarbu veids vai kosntruktīva elementa nosaukums)
A6: Objekta nosaukums: | C6: =KOPTAME!C15 -> VALGUNDES PAGASTA PĀRVALDES ĒKAS ENERGOEFEKTIVITĀTES PAAGUSTINĀŠANA
A7: Būves nosaukums: | C7: =KOPTAME!C16 -> VALGUNDES PAGASTA PĀRVALDES ĒKA
A8: Objekta adrese: | C8: =KOPTAME!C17 -> CELTNIEKU IELA 35, VALGUNDE, JELGAVAS NOVADS
A9: Pasūtītājs: | C9: =KOPTAME!C18 -> JELGAVAS NOVADA PAŠVALDĪBA
A10: Pasūtījuma Nr.: | C10: =KOPTAME!C19 -> 23-019/3 (KPJ/2023/31-5)
A11: Pretendents: | C11: =KOPTAME!C20 -> 0
A13: =KOPTAME!B22 -> 0 | M13: Tāmes izmaksas | O13: =P74 -> 0 | P13: EURO
P15: =KOPTAME!C70 -> 0
A17: Nr. p.k. | B17: Kods | C17: Būvdarbu nosaukums | D17: Mērvienība | E17: Daudzums | F17: Vienības izmaksas | L17: Kopā uz visu apjomu
F18: Laika norma (c/h) | G18: Darba samaksas likme (EUR/h) | H18: Darba alga (EUR) | I18: Būvizstrādājumi (EUR) | J18: Mehānismi (EUR) | K18: Kopā (EUR) | L18: Darbietilpība (c/h) | M18: Darba alga (EUR) | N18: Būvizstrādājumi (EUR) | O18: Mehānismi (EUR) | P18: Summa (EUR)
A19: 1 | B19: 2 | C19: 3 | D19: 4 | E19: 5 | F19: 6 | G19: 7 | H19: 8 | I19: 9 | J19: 10 | K19: 11 | L19: 12 | M19: 13 | N19: 14 | O19: 15 | P19: 16
C20: 1. SILTUMMEZGLS
A21: 1 | B21: Līgumcena | C21: Apkures siltummainis (bez vara pievienojuma) 30 kW, ar izolāciju (Alfa Laval), CB62AQ-22AH-F vai ekvivalents | D21: kompl | E21: 1
A22: 2 | B22: Līgumcena | C22: Cirkulācijas sūknis 1,33 m3/h 5,4 m H2O (Grundfos), UPM3 AUTO 15-70-130(P2) vai ekvivalents | D22: gab | E22: 1
A23: 3 | B23: Līgumcena | C23: Izplešanās trauks apkurei ERCE-24; 6 bar; 24 litri( Akvedukts), 771008 vai ekvivalents | D23: gab | E23: 1
A24: 4 | B24: Līgumcena | C24: Reg.vārsts apkurei DN/Kv.s-15/1,6;0,83 m3/h +motors 1 f-230 V(Siemens), VVG549.15-1,6(CV2,1)+SAS31.00 vai ekvivalents | D24: gab | E24: 1
A25: 5 | B25: Līgumcena | C25: Reg.vārsts apkurei DN/Kv.s-15/1,6;0,83 m3/h +motors 1 f-230 V(Siemens), VVG549.15-1,6(CV2,1)+SAS31.00 vai ekvivalents | D25: gab | E25: 1
A26: 6 | B26: Līgumcena | C26: Kontrolieris, komplektā ar karti, āra gaisa, ūdens temperatūras sensoriem( Danfos), ECL210+266 vai ekvivalents | D26: kompl | E26: 1
A27: 7 | B27: Līgumcena | C27: K.Ū.tvertne 100 l (Sw250), grīdas ar sildcaurulēm (0,8 m2) KOSPEL (santehnika.lv), SW100 vai ekvivalents | D27: gab | E27: 1
A28: 8 | B28: Līgumcena | C28: Elektriskais tents 230 V K6/4” ar termostatu 1,5 kW (santehnika.lv) vai ekvivalents | D28: kompl | E28: 1
A29: 9 | B29: Līgumcena | C29: K.ū.cirkulācijas sūknis 0,47 m3/h;3m H2O 1 fāze 230 V 0,05 kW (Grundfos), UPM3 DH-W15-30-130(P1) vai ekvivalents | D29: gab | E29: 1
A30: 10 | B30: Līgumcena | C30: Drošības vārsts 6 bar DN15(Akvedukts), 990028 vai ekvivalents | D30: gab | E30: 2
A31: 11 | B31: Līgumcena | C31: Kapes ventilis 3/4” i-i, 1990281 | D31: gab | E31: 1
A32: 12 | B32: Līgumcena | C32: Karstā ūdens skaitītājs 1,5 m3/h (Zenner), ETKD 1/2” vai ekvivalents | D32: gab | E32: 1
... A69: 49 | B69: Līgumcena | C69: Enerģijas skaitītājs DIEHL, SHARKY 775, turpgaitas DN20, 1 m3/h 1 f 230 V (Akvedukts) vai ekvivalents | D69: kompl | E69: 1
C70: 2. SM DEMONTĀŽAS DARBI
A71: 1 | B71: Līgumcena | C71: SM primārā kontūra cauruļvadu ar izolāciju un iekārtu demontāža līdz esošam siltumuzskaites mezglam ST ievadā | D71: kompl | E71: 20
A72: 2 | B72: Līgumcena | C72: Sekundārā kontūra cauruļvadu ar izolāciju un iekārtu demontēšana siltummezglu robežās līdz maģistrālajiem apkures un karstā ūdens cauruļvadiem | D72: kompl | E72: 1
C74: Tiešās izmaksas kopā, t.sk. Darba devēja sociālais nodoklis (23,59%) | L74: =SUM(L21:L73) -> 0 | M74: =SUM(M21:M73) -> 0 | N74: =SUM(N21:N73) -> 0 | O74: =SUM(O21:O73) -> 0 | P74: =SUM(P21:P73) -> 0
B76: Sastādīja: | C76: =KOPTAME!C58 -> 0 | E76: ='KOPS 1'!F42 -> 0
C77: (paraksts un tā atšifrējums, datums)
B81: Pārbaudīja: | C81: =KOPTAME!C63 -> 0 | E81: =E76 -> 0
C82: (paraksts un tā atšifrējums, datums)
C84: =KOPTAME!C68 -> 0
C86: =KOPTAME!C70 -> 0

Sheet VENT 1
M1: 5. pielikums LBN 501-17
E2: LOKĀLA TĀME Nr. | I2: 2--3
D3: VENTILĀCIJA
D4: (Būvdarbu veids vai kosntruktīva elementa nosaukums)
A6: Objekta nosaukums: | C6: =KOPTAME!C15 -> VALGUNDES PAGASTA PĀRVALDES ĒKAS ENERGOEFEKTIVITĀTES PAAGUSTINĀŠANA
A7: Būves nosaukums: | C7: =KOPTAME!C16 -> VALGUNDES PAGASTA PĀRVALDES ĒKA
A8: Objekta adrese: | C8: =KOPTAME!C17 -> CELTNIEKU IELA 35, VALGUNDE, JELGAVAS NOVADS
A9: Pasūtītājs: | C9: =KOPTAME!C18 -> JELGAVAS NOVADA PAŠVALDĪBA
A10: Pasūtījuma Nr.: | C10: =KOPTAME!C19 -> 23-019/3 (KPJ/2023/31-5)
A11: Pretendents: | C11: =KOPTAME!C20 -> 0
A13: =KOPTAME!B22 -> 0 | M13: Tāmes izmaksas | O13: =P96 -> 0 | P13: EURO
P15: =KOPTAME!C70 -> 0
A17: Nr. p.k. | B17: Kods | C17: Būvdarbu nosaukums | D17: Mērvienība | E17: Daudzums | F17: Vienības izmaksas | L17: Kopā uz visu apjomu
F18: Laika norma (c/h) | G18: Darba samaksas likme (EUR/h) | H18: Darba alga (EUR) | I18: Būvizstrādājumi (EUR) | J18: Mehānismi (EUR) | K18: Kopā (EUR) | L18: Darbietilpība (c/h) | M18: Darba alga (EUR) | N18: Būvizstrādājumi (EUR) | O18: Mehānismi (EUR) | P18: Summa (EUR)
A19: 1 | B19: 2 | C19: 3 | D19: 4 | E19: 5 | F19: 6 | G19: 7 | H19: 8 | I19: 9 | J19: 10 | K19: 11 | L19: 12 | M19: 13 | N19: 14 | O19: 15 | P19: 16
C20: 1. PN1 SILTUMAPGĀDE
A21: 1 | B21: Līgumcena | C21: Lodveida ventilis DN15 | D21: gab | E21: 2
A22: 2 | B22: Līgumcena | C22: CA presējamā karbona cinkotā caurule Ø18x1,2 DN15 | D22: tek.m | E22: 48
A23: 3 | B23: Līgumcena | C23: Lokanais nerūsējoša tērauda pievads L=0,5m DN15 | D23: gab | E23: 2
A24: 4 | B24: Līgumcena | C24: Automātiskis atgaisotājs 3/8" | D24: gab | E24: 2
A25: 5 | B25: Līgumcena | C25: "Tubolit" izolācijas čaula d=6mm TB-18/6*dG vai ekvivalents | D25: tek.m | E25: 48
A26: 6 | B26: Līgumcena | C26: Hidrauliskā pārbaude | D26: kompl | E26: 1
C27: 2. PN1 KONDENSĀTA NOVADĪŠANA
A28: 1 | B28: Līgumcena | C28: Kondensāta sūknis ar rezervuāru 1F, 230V, 20l/st, Siccom ECO FLOWATCH vai ekvivalents | D28: kompl | E28: 1
A29: 2 | B29: Līgumcena | C29: Lokana PE caurule DN8 | D29: tek.m | E29: 4
A30: 3 | B30: Līgumcena | C30: Iekšējās kanalizācijas caurules un veidgabali (skat.ŪK) SDN32 | D30: kompl | E30: 1
C31: 3. PN1 PAGASTA PĀRVALDES TELPAS UN BĒRNUDĀRZS
A32: 1 | B32: Līgumcena | C32: PN ventilācijas agregāts P-1300m3/h; 445Pa, F75 filtrs; N-1315m3/h; 445Pa, M5 filtrs, pretplūsmas siltummainis n=82%, 220V/1F/50Hz, 2x460W, kreisās puses izpildījums, "KOMFOVENT". VERSO CF 1500 F C5 vai ekvivalents | D32: kompl | E32: 1
A33: 2 | B33: Līgumcena | C33: Vārsts ar elektropiedziņu un atsperi, "KOMFOVENT". AGUJ-M-315+LF230 vai ekvivalents | D33: kompl | E33: 2
A34: 3 | B34: Līgumcena | C34: Ūdens kalorifers 3,7kW, "KOMFOVENT". DH-315 vai ekvivalents | D34: gab | E34: 1
A35: 4 | B35: Līgumcena | C35: Ūdens sajaukšanas mezgls. PPU-Hw-3R-1-W2 vai ekvivalents | D35: kompl | E35: 1
A36: 5 | B36: Līgumcena | C36: Trokšņu slāpētājs, "KOMFOVENT". AGS-315-100-1200M vai ekvivalents | D36: gab | E36: 2
A37: 6 | B37: Līgumcena | C37: Jumtiņš, "KOMFOVENT". AHIP-315 vai ekvivalents | D37: gab | E37: 1
A38: 7 | B38: Līgumcena | C38: Āra reste, "KOMFOVENT". YGAV-400 vai ekvivalents | D38: gab | E38: 1
A39: 8 | B39: Līgumcena | C39: Regulējama reste, "KOMFOVENT". SRG-3-6 25-75 vai ekvivalents | D39: gab | E39: 1
A40: 9 | B40: Līgumcena | C40: Regulējama reste, "KOMFOVENT". SRG-3-325-76 vai ekvivalents | D40: gab | E40: 1
A41: 10 | B41: Līgumcena | C41: Līkums 90° no cinkota skārda, "KOMFOVENT". ATP-90-100 vai ekvivalents | D41: gab | E41: 36
A42: 11 | B42: Līgumcena | C42: Līkums 90° no cinkota skārda, "KOMFOVENT". ATP-90-125 vai ekvivalents | D42: gab | E42: 3
A43: 12 | B43: Līgumcena | C43: Līkums 90° no cinkota skārda, "KOMFOVENT". AT-90-160 vai ekvivalents | D43: gab | E43: 2
... A94: 63 | B94: Līgumcena | C94: Elektromontāžas materiāli | D94: kompl | E94: 1
C96: Elektromontāžas materiāli | D96: kompl | E96: 1 | L96: =SUM(L21:L92) -> 0 | M96: =SUM(M21:M92) -> 0 | N96: =SUM(N21:N92) -> 0 | O96: =SUM(O21:O92) -> 0 | P96: =SUM(P21:P92) -> 0
B98: Sastādīja: | C98: =KOPTAME!C58 -> 0 | E98: ='KOPS 1'!F42 -> 0
C99: (paraksts un tā atšifrējums, datums)
B103: Pārbaudīja: | C103: =KOPTAME!C63 -> 0 | E103: =E98 -> 0
C104: (paraksts un tā atšifrējums, datums)
C106: =KOPTAME!C68 -> 0
C108: =KOPTAME!C70 -> 0

Sheet EL 1
M1: 5. pielikums LBN 501-17
E2: LOKĀLA TĀME Nr. | I2: 2--4
D3: ELEKTROMONTĀŽAS DARBI
D4: (Būvdarbu veids vai kosntruktīva elementa nosaukums)
A6: Objekta nosaukums: | C6: =KOPTAME!C15 -> VALGUNDES PAGASTA PĀRVALDES ĒKAS ENERGOEFEKTIVITĀTES PAAGUSTINĀŠANA
A7: Būves nosaukums: | C7: =KOPTAME!C16 -> VALGUNDES PAGASTA PĀRVALDES ĒKA
A8: Objekta adrese: | C8: =KOPTAME!C17 -> CELTNIEKU IELA 35, VALGUNDE, JELGAVAS NOVADS
A9: Pasūtītājs: | C9: =KOPTAME!C18 -> JELGAVAS NOVADA PAŠVALDĪBA
A10: Pasūtījuma Nr.: | C10: =KOPTAME!C19 -> 23-019/3 (KPJ/2023/31-5)
A11: Pretendents: | C11: =KOPTAME!C20 -> 0
A13: =KOPTAME!B22 -> 0 | M13: Tāmes izmaksas | O13: =P97 -> 0 | P13: EURO
P15: =KOPTAME!C70 -> 0
A17: Nr. p.k. | B17: Kods | C17: Būvdarbu nosaukums | D17: Mērvienība | E17: Daudzums | F17: Vienības izmaksas | L17: Kopā uz visu apjomu
F18: Laika norma (c/h) | G18: Darba samaksas likme (EUR/h) | H18: Darba alga (EUR) | I18: Būvizstrādājumi (EUR) | J18: Mehānismi (EUR) | K18: Kopā (EUR) | L18: Darbietilpība (c/h) | M18: Darba alga (EUR) | N18: Būvizstrādājumi (EUR) | O18: Mehānismi (EUR) | P18: Summa (EUR)
A19: 1 | B19: 2 | C19: 3 | D19: 4 | E19: 5 | F19: 6 | G19: 7 | H19: 8 | I19: 9 | J19: 10 | K19: 11 | L19: 12 | M19: 13 | N19: 14 | O19: 15 | P19: 16
A20: 1 | C20: 1. SADALNES
A21: 2 | B21: Līgumcena | C21: Sadalne GS Mistral41W 54 mod. (3x18) 387x119x512mm IP41 41P18X32A. Sk. EL-5 vai ekvivalents | D21: kompl | E21: 1
A22: 3 | B22: Līgumcena | C22: Sadalne SS1 Mistral41W 36 mod. (3x12) 297x119x512mm IP41 41P12X32. Sk. EL-6 vai ekvivalents | D22: kompl | E22: 1
A23: 4 | B23: Līgumcena | C23: Palīgmateriāli, neuzskaitītie materiāli | D23: kompl | E23: 1
A24: 5 | C24: 2. GAISMEKĻI
A25: 6 | B25: Līgumcena | C25: proj. gaismeklis BERYL NEW LED K-1 1800 MICRO-PRM E 33 IP20/44 830, 15W, V/A; vai ekvivalents | D25: gab | E25: 28
A26: 7 | B26: Līgumcena | C26: proj. gaismeklis RUBIN POS LED 4400 MICRO-PRM E 830 / 600X600, 24W, V/A; vai ekvivalents | D26: gab | E26: 40
A27: 8 | B27: Līgumcena | C27: proj. gaismeklis BERYL SURFACE NEW LED O-1 1800 MICRO-PRM E IP44 34 830, 12W, V/A; vai ekvivalents | D27: gab | E27: 2
A28: 9 | B28: Līgumcena | C28: proj. gaismeklis RUBIN POS LED 6600 MICRO-PRM E 830 / 600X600, 35W, V/A; vai ekvivalents | D28: gab | E28: 14
A29: 10 | B29: Līgumcena | C29: proj. gaismeklis BERYL SURFACE NEW LED K-1 1800 MICRO-PRM E 34 830, 12W, V/A; vai ekvivalents | D29: gab | E29: 9
A30: 11 | B30: Līgumcena | C30: proj. gaismeklis X-LINE LED 3900 PLX E 24 830 / L-1692MM, 21W, V/A; vai ekvivalents | D30: gab | E30: 3
A31: 12 | B31: Līgumcena | C31: proj. gaismeklis EOS SYS Circle 1500 60 degree DALI 927 DALI WHITE, 66W, V/A; vai ekvivalents | D31: gab | E31: 12
A32: 13 | B32: Līgumcena | C32: proj. gaismeklis IKAR C 127 HO 827 FO WHITE, 12W, V/A; vai ekvivalents | D32: gab | E32: 12
A33: 14 | B33: Līgumcena | C33: proj. gaismeklis BERYL NEW LED O-1 1800 MICRO-PRM E 33 IP20/65 830, 12W, V/A; vai ekvivalents | D33: gab | E33: 1
A34: 15 | B34: Līgumcena | C34: proj. gaismeklis X-LINE LED 2600 MICRO-PRM E 24 830 / L-1132MM, 14W, V/A; vai ekvivalents | D34: gab | E34: 2
A35: 16 | B35: Līgumcena | C35: proj. gaismeklis X-WALL K9 LED 3250 PLX E IP44 24 840 / L-1415MM, 18W, V/A; vai ekvivalents | D35: gab | E35: 1
A36: 17 | B36: Līgumcena | C36: proj. gaismeklis X-LINE LED 6500 MICRO-PRM E 24 830 / L-2814MM, 34W, V/A; vai ekvivalents | D36: gab | E36: 2
... A44: 25 | B44: Līgumcena | C44: Palīgmateriāli, neuzskaitītie materiāli | D44: kompl | E44: 1
A45: 26 | C45: 3. SLĒDŽI, ROZETES
A46: 27 | B46: Līgumcena | C46: Rozete 1F IP20 16A, ar zemējumu, Z/A, komplektā ar kārbu | D46: gab | E46: 103
A47: 28 | B47: Līgumcena | C47: Rozete 1F IP44 16A, ar zemējumu, Z/A, komplektā ar kārbu | D47: gab | E47: 2
A48: 29 | B48: Līgumcena | C48: Rozete 1F IP44 16A ar vāku, Z/A, ar zemējumu, komplektā ar kārbu | D48: gab | E48: 12
A49: 30 | B49: Līgumcena | C49: Slēdzis 1p, IP20, Z/A, komplekta ar rāmi un kārbu | D49: gab | E49: 9
A50: 31 | B50: Līgumcena | C50: Slēdzis 2p, IP20, Z/A, komplekta ar rāmi un kārbu | D50: gab | E50: 10
A51: 32 | B51: Līgumcena | C51: Pārslēdzis 1p, IP20, Z/A, komplekta ar rāmi un kārbu | D51: gab | E51: 4
A52: 33 | B52: Līgumcena | C52: Pārslēdzis 2p, IP20, Z/A, komplekta ar rāmi un kārbu | D52: gab | E52: 2
A53: 34 | B53: Līgumcena | C53: Blīves IP44 slēdžiem | D53: kompl | E53: 1
A54: 35 | B54: Līgumcena | C54: Rozetes rāmis 1 vietīgs | D54: gab | E54: 17
A55: 36 | B55: Līgumcena | C55: Rozetes rāmis 2 vietīgs | D55: gab | E55: 21
A56: 37 | B56: Līgumcena | C56: Rozetes rāmis 3 vietīgs | D56: gab | E56: 1
A57: 38 | B57: Līgumcena | C57: Rozetes rāmis 5 vietīgs | D57: gab | E57: 14
... A59: 40 | B59: Līgumcena | C59: Palīgmateriāli, neuzskaitītie materiāli | D59: kompl | E59: 1
A60: 41 | C60: 4. KABEĻI
A61: 42 | B61: Līgumcena | C61: Kabelis NYM-J 3X1,5 mm2 | D61: tek.m | E61: 630
A62: 43 | B62: Līgumcena | C62: Kabelis NYM-J 3X2,5 mm2 | D62: tek.m | E62: 570
A63: 44 | B63: Līgumcena | C63: Kabelis NYM-J 5X1,5 mm2 | D63: tek.m | E63: 20
A64: 45 | B64: Līgumcena | C64: Kabelis NYM-J 5X4 mm2 | D64: tek.m | E64: 15
A65: 46 | B65: Līgumcena | C65: Kabelis NHXH-J 2x1.5 mm2 | D65: tek.m | E65: 40
A66: 47 | B66: Līgumcena | C66: Kabelis N07V-K-1x2.5 mm2 | D66: tek.m | E66: 50
A67: 48 | B67: Līgumcena | C67: Kabelis N07V-K-1x4 mm2 | D67: tek.m | E67: 30
A68: 49 | B68: Līgumcena | C68: Kabelis N07V-K-1x16 mm2 | D68: tek.m | E68: 20
A69: 50 | B69: Līgumcena | C69: Gofrēta caurule 16 mm | D69: tek.m | E69: 300
A70: 51 | B70: Līgumcena | C70: Gofrēta caurule 25 mm | D70: tek.m | E70: 10
A71: 52 | B71: Līgumcena | C71: Kabeļu un caurules savienošanas materiāli | D71: kompl | E71: 1
A72: 53 | B72: Līgumcena | C72: Kabeļu un caurules stiprinājumi | D72: kompl | E72: 1
... A77: 58 | B77: Līgumcena | C77: Palīgmateriāli, neuzskaitītie materiāli | D77: kompl | E77: 1
A78: 59 | C78: 5. ESOŠĀ ZIBENSAIZSARDZĪBA ĒKAI
A79: 60 | B79: Līgumcena | C79: Zibensuztvērēja esošās sistēmas demontāža un montāža | D79: kompl | E79: 3
A80: 61 | B80: Līgumcena | C80: Zibensnovedēja stieples demontāža un montāža pa sienu, jumtu | D80: tek.m | E80: 110
A81: 62 | B81: Līgumcena | C81: Stiprinājums pie sienas | D81: gab | E81: 50
A82: 63 | B82: Līgumcena | C82: Stieples stiprinājums jumtam | D82: gab | E82: 50
A83: 64 | B83: Līgumcena | C83: Klemme stieples un stieples savienošanai | D83: gab | E83: 6
A84: 65 | B84: Līgumcena | C84: Klemme stieples un plakandzelža savienošanai | D84: gab | E84: 6
A85: 66 | B85: Līgumcena | C85: Palīgmateriāli, neuzskaitītie materiāli | D85: kompl | E85: 1
A86: 67 | C86: 6. DARBU DAUDZUMU SARAKSTS
A87: 68 | B87: Līgumcena | C87: Objekta apsekošana | D87: Obj | E87: 1
A88: 69 | B88: Līgumcena | C88: Materiālu piegāde | D88: Obj | E88: 1
A89: 70 | B89: Līgumcena | C89: Elektroinstalācijas pārbaude ar termovizoru | D89: Obj | E89: 1
A90: 71 | B90: Līgumcena | C90: Esošo elektroinstalāciju demontāža | D90: Obj | E90: 1
A91: 72 | B91: Līgumcena | C91: Būvgrūžu utilizācija | D91: Obj | E91: 1
A92: 73 | B92: Līgumcena | C92: Sienās un griestu kālšana | D92: Obj | E92: 1
A93: 74 | B93: Līgumcena | C93: Kabeļu marķējums | D93: Obj | E93: 1
A94: 75 | B94: Līgumcena | C94: Tehniskās dokumentācijas izgatavošana | D94: Obj | E94: 1
A95: 76 | B95: Līgumcena | C95: Palīgmateriāli, neuzskaitītie materiāli | D95: Obj | E95: 1
C97: Tiešās izmaksas kopā, t.sk. Darba devēja sociālais nodoklis (23,59%) | L97: =SUM(L21:L95) -> 0 | M97: =SUM(M21:M95) -> 0 | N97: =SUM(N21:N95) -> 0 | O97: =SUM(O21:O95) -> 0 | P97: =SUM(P21:P95) -> 0
B99: Sastādīja: | C99: =KOPTAME!C58 -> 0 | E99: ='KOPS 1'!F42 -> 0
C100: (paraksts un tā atšifrējums, datums)
B104: Pārbaudīja: | C104: =KOPTAME!C63 -> 0 | E104: =E99 -> 0
C105: (paraksts un tā atšifrējums, datums)
C107: =KOPTAME!C68 -> 0
C109: =KOPTAME!C70 -> 0

Sheet KOPS 2
H1: 6. pielikums LBN 501-17
D3: KOPSAVILKUMA APRĒĶINS Nr.2
D4: =KOPTAME!C33 -> VALGUNDES PAGASTA PĀRVALDES ĒKAS DARBI, KAS NAV SAISTĪTI AR ENERGOEFEKTIVITĀTI
D5: (būvdarbu veids vai kosntruktīvā elementa nosaukums)
C7: Objekta nosaukums: | D7: =KOPTAME!C15 -> VALGUNDES PAGASTA PĀRVALDES ĒKAS ENERGOEFEKTIVITĀTES PAAGUSTINĀŠANA
C8: Būves nosaukums: | D8: =KOPTAME!C16 -> VALGUNDES PAGASTA PĀRVALDES ĒKA
C9: Objekta adrese: | D9: =KOPTAME!C17 -> CELTNIEKU IELA 35, VALGUNDE, JELGAVAS NOVADS
C10: Pasūtītājs: | D10: =KOPTAME!C18 -> JELGAVAS NOVADA PAŠVALDĪBA
C11: Pasūtījuma Nr.: | D11: =KOPTAME!C19 -> 23-019/3 (KPJ/2023/31-5)
C12: Pretendents: | D12: =KOPTAME!C20 -> 0
D14: Par kopējo summu (EURO) | E14: =F38 -> 0
D15: Kopēja darbietilpība (c/h) | E15: =J34 -> 0
A17: Nr. p.k | B17: Kods, tāme Nr. | C17: Saisinājums | D17: Būvdarbu veids vai konstruktīvā elementa nosaukums | F17: Tāmes izmaksa EUR | G17: Tai skaitā | J17: Darb-ietilpība c/h
G18: Darba alga EUR | H18: Būvizstrādājumi EUR | I18: Mehānismi EUR
A19: VALGUNDES PAGASTA PĀRVALDES ĒKAS DARBI, KAS NAV SAISTĪTI AR ENERGOEFEKTIVITĀTI
D20: 1. BŪVDARBI
A21: 13 | B21: 3--1 | C21: SIE 2 | D21: LOGU AILU AIZMŪRĒŠANA UN STARPSIENU IZBŪVE
A22: 14 | B22: 3--2 | C22: KAPN 2 | D22: KĀPŅU REMONTS UN MARGU IZBŪVE
D23: 2. IEKŠĒJIE SPECIĀLIE BŪVDARBI
A24: 15 | B24: 4--1 | C24: UK 2 | D24: ŪDENSVADS UN KANALIZĀCIJA
A25: 16 | B25: 4--2 | C25: UATS 2 | D25: UGUSNGRĒKA ATKLĀŠANAS UN TRAUKSMES SIGNALIZĀCIJA
A26: 17 | B26: 4--3 | C26: VNS 2 | D26: VIDEO NOVĒROŠANAS SISTĒMA
A27: 18 | B27: 4--4 | C27: ASS 2 | D27: APSARDZES SIGNALIZĀCIJAS SISTĒMA
A28: 19 | B28: 4--5 | C28: ITTIS 2 | D28: INVALĪDU TUALETES TRAUKSMES IZZIŅOŠANAS SISTĒMA
A29: 20 | B29: 4--6 | C29: PKS 2 | D29: PIEKĻUVES KONTROLES SISTĒMA
A30: 21 | B30: 4--7 | C30: LVRTC 2 | D30: LVRTC SKAPJA PĀRVIETOŠANA
D31: 3. ĀRĒJIE SPECIĀLIE BŪVDARBI
A32: 22 | B32: 5--1 | C32: UKT 2 | D32: ĀRĒJA ŪDENSAPGĀDES UN KANALIZĀCIJAS SISTĒMA
D34: KOPĀ | F34: =SUM(F21:F32) -> 0 | G34: =SUM(G21:G32) -> 0 | H34: =SUM(H21:H32) -> 0 | I34: =SUM(I21:I32) -> 0 | J34: =SUM(J21:J32) -> 0
D35: Virsizdevumi | F35: =ROUND(F34*E35,2) -> 0
D36: t.sk. Darba aizsardzība | F36: =ROUND(F35*E36,2) -> 0
D37: Peļņa | F37: =ROUND(F34*E37,2) -> 0
D38: Pavisam kopā | F38: =F37+F35+F34 -> 0
B41: Sastādīja: | D41: =KOPTAME!C58 -> 0 | F41: =KOPTAME!D58 -> 0
D42: (paraksts un tā atšifrējums, datums)
D44: =KOPTAME!C70 -> 0
B46: Pārbaudīja: | D46: =KOPTAME!C63 -> 0 | F46: =F41 -> 0
D47: (paraksts un tā atšifrējums, datums)
D49: =KOPTAME!C70 -> 0

Sheet SIE 2
M1: 5. pielikums LBN 501-17
E3: LOKĀLA TĀME Nr. | I3: 3--1
D4: LOGU AILU AIZMŪRĒŠANA UN STARPSIENU IZBŪVE
D5: (Būvdarbu veids vai kosntruktīva elementa nosaukums)
A7: Objekta nosaukums: | C7: =KOPTAME!C15 -> VALGUNDES PAGASTA PĀRVALDES ĒKAS ENERGOEFEKTIVITĀTES PAAGUSTINĀŠANA
A8: Būves nosaukums: | C8: =KOPTAME!C16 -> VALGUNDES PAGASTA PĀRVALDES ĒKA
A9: Objekta adrese: | C9: =KOPTAME!C17 -> CELTNIEKU IELA 35, VALGUNDE, JELGAVAS NOVADS
A10: Pasūtītājs: | C10: =KOPTAME!C18 -> JELGAVAS NOVADA PAŠVALDĪBA
A11: Pasūtījuma Nr.: | C11: =KOPTAME!C19 -> 23-019/3 (KPJ/2023/31-5)
A12: Pretendents: | C12: =KOPTAME!C20 -> 0
A14: =KOPTAME!B22 -> 0 | M14: Tāmes izmaksas | O14: =P77 -> 0 | P14: EURO
P16: =KOPTAME!C70 -> 0
A18: Nr. p.k. | B18: Kods | C18: Būvdarbu nosaukums | D18: Mērvienība | E18: Daudzums | F18: Vienības izmaksas | L18: Kopā uz visu apjomu
F19: Laika norma (c/h) | G19: Darba samaksas likme (EUR/h) | H19: Darba alga (EUR) | I19: Būvizstrādājumi (EUR) | J19: Mehānismi (EUR) | K19: Kopā (EUR) | L19: Darbietilpība (c/h) | M19: Darba alga (EUR) | N19: Būvizstrādājumi (EUR) | O19: Mehānismi (EUR) | P19: Summa (EUR)
A20: 1 | B20: 2 | C20: 3 | D20: 4 | E20: 5 | F20: 6 | G20: 7 | H20: 8 | I20: 9 | J20: 10 | K20: 11 | L20: 12 | M20: 13 | N20: 14 | O20: 15 | P20: 16
C21: 1. LOGAILU AIZMŪRĒŠANA. AR-2 | D21: m2 | E21: =((0.15*4+0.6*4+0.15*4+0.6*4+0.15*2+2.05+1.92)*1.8+(0.15*6+2.05*3+0.15*6+2.05*3)*1.8+2.5*0.9)*0+48 -> 48
A22: 1 | B22: Līgumcena | C22: Esošo logailu aizmūrēšana (sienas biezums 250 mm) | D22: m2 | E22: =E21 -> 48
A23: 2 | C23: Keramzītbetona bloks 3MPa, 250 mm | D23: m3 | E23: =E22*0.25*1.1 -> 13.2
A24: 3 | C24: Murjava | D24: kg | E24: =E22*75*1.15*0.3 -> 1242
A25: 4 | C25: Armējums | D25: tek.m | E25: =E21*1.5 -> 72
A26: 5 | B26: Līgumcena | C26: Mūrnieku sasttaņu, noma, montāža, demontāža, pārvietošana | D26: kompl | E26: 1
A27: 6 | B27: Līgumcena | C27: Aizmūrēto logailu apmešana (slānis līdz 15 mm) | D27: m2 | E27: =E22*2 -> 96
A28: 7 | C28: Apmetuma java | D28: kg | E28: =E27*15*1.15 -> 1656
A29: 8 | C29: Palīgmateriāli | D29: kompl | E29: 1
C30: 2. IEKŠSIENAS S-1 | D30: m2 | E30: =3.59*3 -> 10.77
A31: 1 | B31: Līgumcena | C31: Reģipša starpsienas S1 izveide, 125 mm | D31: m2 | E31: =ROUND(E30,2) -> 10.77
A32: 2 | C32: Starpsiernu profils vertikāls CW 100 mm | D32: tek.m | E32: =ROUND(E31/0.4,2) -> 26.93
A33: 3 | C33: Starpsiernu profils horizontāls UW 100 mm | D33: tek.m | E33: =ROUND(E31*2,2) -> 21.54
A34: 4 | C34: Amortizācijas lenta 95 mm | D34: tek.m | E34: =E33 -> 21.54
A35: 5 | C35: Dībeļi profilu montāžai | D35: gab | E35: =ROUND(E33/0.15,0) -> 144
A36: 6 | C36: Skrūves profilu saskrūvēšanai | D36: gab | E36: =ROUND(E30*12,0) -> 129
A37: 7 | C37: Siltumizolācijas vates plāksnes, 100 mm | D37: m2 | E37: =ROUND(E31*1.02,2) -> 10.99
A38: 8 | C38: Ģipškartona plāksnes, GKF/GKBI/GKB, 12,5 mm | D38: m2 | E38: =ROUND(E31*1*2.2,2) -> 23.69
A39: 9 | C39: Regipša skrūves | D39: gab | E39: =ROUND(E30*2*20,0) -> 431
A40: 10 | C40: Špaktele Uniflott vai ekvivalents | D40: kg | E40: =ROUND(E41*0.25,2) -> 6.46
A41: 11 | C41: Stiklašķiedras sieta lenta | D41: tek.m | E41: =ROUND(E30*1.2*2,2) -> 25.85
A42: 12 | C42: Gatava špaktele Knauf Sheetrock vai ekvivalents | D42: kg | E42: =ROUND(E30*1.5*1.05*2,2) -> 33.93
A43: 13 | C43: Palīgmateriāli | D43: m2 | E43: =E30 -> 10.77
C44: 3. IEKŠSIENAS S-2 | D44: m2 | E44: =(0.8*2+2.78+3.585+1.77+1.83+1)*3+(4.38+4.1+1+3.14)*3 -> 75.555
A45: 1 | B45: Līgumcena | C45: Reģipša starpsienas S2 izveide, 125mm | D45: m2 | E45: =ROUND(E44,2) -> 75.56
A46: 2 | C46: Starpsiernu profils vertikāls CW 100 mm | D46: tek.m | E46: =ROUND(E45/0.4,2) -> 188.9
A47: 3 | C47: Starpsiernu profils horizontāls UW 100 mm | D47: tek.m | E47: =ROUND(E45*2,2) -> 151.12
A48: 4 | C48: Pastiprinātais durvju profils | D48: kompl | E48: 3
A49: 5 | C49: Amortizācijas lenta 95 mm | D49: tek.m | E49: =E47 -> 151.12
A50: 6 | C50: Dībeļi profilu montāžai | D50: gab | E50: =ROUND(E47/0.15,0) -> 1007
A51: 7 | C51: Skrūves profilu saskrūvēšanai | D51: gab | E51: =ROUND(E44*12,0) -> 907
A52: 8 | C52: Siltumizolācijas vates plāksnes, 100 mm | D52: m2 | E52: =ROUND(E45*1.02,2) -> 77.07
A53: 9 | C53: Ģipškartona plāksnes, GKF/GKBI/GKB, 12,5 mm | D53: m2 | E53: =ROUND(E45*1*2.2,2) -> 166.23
A54: 10 | C54: Regipša skrūves | D54: gab | E54: =ROUND(E44*2*20,0) -> 3022
A55: 11 | C55: Špaktele Uniflott vai ekvivalents | D55: kg | E55: =ROUND(E56*0.25,2) -> 45.33
A56: 12 | C56: Stiklašķiedras sieta lenta | D56: tek.m | E56: =ROUND(E44*1.2*2,2) -> 181.33
A57: 13 | C57: Gatava špaktele Knauf Sheetrock vai ekvivalents | D57: kg | E57: =ROUND(E44*1.5*1.05*2,2) -> 238
A58: 14 | C58: Palīgmateriāli | D58: m2 | E58: =E44 -> 75.555
C59: 4. SANMEZGLA STARPSIENAS
A60: 1 | B60: Līgumcena | C60: Sanmezgla starpsienu izgatavošana, piegāde un montāža ar durvīm (4 gab) no mitrumizturīga saplākšņa aluminijā rāmī | D60: m2 | E60: =(3*1.5+3.6)*2 -> 16.2
C61: 5. IEKŠSIENU IZBŪVE DEMONTĒTO GRĪDU G-1, G-2 ZONĀ | D61: m2 | E61: 44
A62: 1 | B62: Līgumcena | C62: Reģipša starpsienas S izveide, 125mm | D62: m2 | E62: =ROUND(E61,2) -> 44
A63: 2 | C63: Starpsiernu profils vertikāls CW 100 mm | D63: tek.m | E63: =ROUND(E62/0.4,2) -> 110
A64: 3 | C64: Starpsiernu profils horizontāls UW 100 mm | D64: tek.m | E64: =ROUND(E62*2,2) -> 88
A65: 4 | C65: Pastiprinātais durvju profils | D65: kompl | E65: 3
A66: 5 | C66: Amortizācijas lenta 95 mm | D66: tek.m | E66: =E64 -> 88
A67: 6 | C67: Dībeļi profilu montāžai | D67: gab | E67: =ROUND(E64/0.15,0) -> 587
A68: 7 | C68: Skrūves profilu saskrūvēšanai | D68: gab | E68: =ROUND(E61*12,0) -> 528
A69: 8 | C69: Siltumizolācijas vates plāksnes, 100 mm | D69: m2 | E69: =ROUND(E62*1.02,2) -> 44.88
A70: 9 | C70: Ģipškartona plāksnes, GKF/GKBI/GKB, 12,5 mm | D70: m2 | E70: =ROUND(E62*1*2.2,2) -> 96.8
A71: 10 | C71: Regipša skrūves | D71: gab | E71: =ROUND(E61*2*20,0) -> 1760
A72: 11 | C72: Špaktele Uniflott vai ekvivalents | D72: kg | E72: =ROUND(E73*0.25,2) -> 26.4
A73: 12 | C73: Stiklašķiedras sieta lenta | D73: tek.m | E73: =ROUND(E61*1.2*2,2) -> 105.6
A74: 13 | C74: Gatava špaktele Knauf Sheetrock vai ekvivalents | D74: kg | E74: =ROUND(E61*1.5*1.05*2,2) -> 138.6
A75: 14 | C75: Palīgmateriāli | D75: m2 | E75: =E61 -> 44
C77: Tiešās izmaksas kopā, t.sk. Darba devēja sociālais nodoklis (23,59%) | L77: =SUM(L22:L76) -> 0 | M77: =SUM(M22:M76) -> 0 | N77: =SUM(N22:N76) -> 0 | O77: =SUM(O22:O76) -> 0 | P77: =SUM(P22:P76) -> 0
B79: Sastādīja: | C79: =KOPTAME!C58 -> 0 | E79: ='KOPS 1'!F42 -> 0
C80: (paraksts un tā atšifrējums, datums)
B84: Pārbaudīja: | C84: =KOPTAME!C63 -> 0 | E84: =E79 -> 0
C85: (paraksts un tā atšifrējums, datums)
C87: =KOPTAME!C68 -> 0
C89: =KOPTAME!C70 -> 0

Sheet KAPN 2
M1: 5. pielikums LBN 501-17
E3: LOKĀLA TĀME Nr. | I3: 3--2
D4: KĀPŅU REMONTS UN MARGU IZBŪVE
D5: (Būvdarbu veids vai kosntruktīva elementa nosaukums)
A7: Objekta nosaukums: | C7: =KOPTAME!C15 -> VALGUNDES PAGASTA PĀRVALDES ĒKAS ENERGOEFEKTIVITĀTES PAAGUSTINĀŠANA
A8: Būves nosaukums: | C8: =KOPTAME!C16 -> VALGUNDES PAGASTA PĀRVALDES ĒKA
A9: Objekta adrese: | C9: =KOPTAME!C17 -> CELTNIEKU IELA 35, VALGUNDE, JELGAVAS NOVADS
A10: Pasūtītājs: | C10: =KOPTAME!C18 -> JELGAVAS NOVADA PAŠVALDĪBA
A11: Pasūtījuma Nr.: | C11: =KOPTAME!C19 -> 23-019/3 (KPJ/2023/31-5)
A12: Pretendents: | C12: =KOPTAME!C20 -> 0
A14: =KOPTAME!B22 -> 0 | M14: Tāmes izmaksas | O14: =P47 -> 0 | P14: EURO
P16: =KOPTAME!C70 -> 0
A18: Nr. p.k. | B18: Kods | C18: Būvdarbu nosaukums | D18: Mērvienība | E18: Daudzums | F18: Vienības izmaksas | L18: Kopā uz visu apjomu
F19: Laika norma (c/h) | G19: Darba samaksas likme (EUR/h) | H19: Darba alga (EUR) | I19: Būvizstrādājumi (EUR) | J19: Mehānismi (EUR) | K19: Kopā (EUR) | L19: Darbietilpība (c/h) | M19: Darba alga (EUR) | N19: Būvizstrādājumi (EUR) | O19: Mehānismi (EUR) | P19: Summa (EUR)
A20: 1 | B20: 2 | C20: 3 | D20: 4 | E20: 5 | F20: 6 | G20: 7 | H20: 8 | I20: 9 | J20: 10 | K20: 11 | L20: 12 | M20: 13 | N20: 14 | O20: 15 | P20: 16
C21: 1. ESOŠO KAPŅU REMONTS
A22: 1 | B22: Līgumcena | C22: Esošo margu demontāža | D22: tek.m | E22: 8
A23: 2 | B23: Līgumcena | C23: Esošo pakāpienu virsmas tīrīšana | D23: gab | E23: 22
A24: 3 | B24: Līgumcena | C24: Kāpņu laidumu virsmas tīrīšana no sāniem | D24: m2 | E24: =1.9*0.22+3.3*2*0.3+0.5 -> 2.898
A25: 4 | B25: Līgumcena | C25: Kāpņu laidumu virsmas tīrīšana no apakšas | D25: m2 | E25: =3.3*2*1.45+2*3*1.35 -> 17.67
A26: 5 | B26: Līgumcena | C26: Citi demontāžas darbi | D26: kompl | E26: 1
A27: 6 | B27: Līgumcena | C27: Būvgružu savākšana, izvešana un utilizācija | D27: m3 | E27: =(E24*0.02+E25*0.02+E22*1*0.05)*1.5 -> 1.21704
C28: 2. KĀPŅU REMONTS
A29: 1 | B29: Līgumcena | C29: Kāpņu laiduma virsmas no sāniem un no apakšas gruntēšana, špaktelēšana, slīpēšana | D29: m2 | E29: =E24+E25 -> 20.568
A30: 2 | C30: Grunts | D30: l | E30: =E29*0.2*1.15 -> 4.73064
A31: 3 | C31: Gatava špaktele | D31: kg | E31: =E29*1.5*1.2 -> 37.0224
A32: 4 | C32: Krāsa | D32: l | E32: =E29*2*0.2*1.15 -> 9.46128
A33: 5 | C33: Palīgmateriāli | D33: kompl | E33: 1
A34: 6 | B34: Līgumcena | C34: Pakāpienu un pretpakapienu virsmas atjaunošana (Nodilumizturīga dekoratīvo pārslu seguma Peran floor flakes izveide) vai ekvivalents | D34: gab | E34: =E23 -> 22
A35: 7 | B35: Līgumcena | C35: Kāpņu laukuma virsmas atjaunošana | D35: m2 | E35: 8.1
A36: 8 | B36: Līgumcena | C36: Pretslīdes maliņas izveide | D36: gab | E36: 24
C37: 3. MARGAS. AR-11
A38: 1 | B38: Līgumcena | C38: Margu izgatavošana, piegāde un montāža | D38: tek.m | E38: 8.6
A39: 2 | C39: Renovēts esošais statnis | D39: gab | E39: 10
A40: 3 | C40: Lenteris d.45*2,5 mm, krāsots, lakots | D40: tek.m | E40: 8.6
A41: 4 | C41: Savienojums d.12, L=100 mm | D41: gab | E41: 11
A42: 5 | C42: Dekoratīvais stiprinājums 40*4 mm, L=40 mm | D42: gab | E42: 32
A43: 6 | C43: Stiprinājums 70*4 mm, L=80 mm | D43: gab | E43: 11
A44: 7 | C44: Trieciennoturīgais stiklojums | D44: m2 | E44: 6.6
A45: 8 | C45: Palīgmateriāli un citi stiprinājumi | D45: kompl | E45: 1
C47: Tiešās izmaksas kopā, t.sk. Darba devēja sociālais nodoklis (23,59%) | L47: =SUM(L21:L46) -> 0 | M47: =SUM(M21:M46) -> 0 | N47: =SUM(N21:N46) -> 0 | O47: =SUM(O21:O46) -> 0 | P47: =SUM(P21:P46) -> 0
B49: Sastādīja: | C49: =KOPTAME!C58 -> 0 | E49: ='KOPS 1'!F42 -> 0
C50: (paraksts un tā atšifrējums, datums)
B54: Pārbaudīja: | C54: =KOPTAME!C63 -> 0 | E54: =E49 -> 0
C55: (paraksts un tā atšifrējums, datums)
C57: =KOPTAME!C68 -> 0
C59: =KOPTAME!C70 -> 0

Sheet UK 2
M1: 5. pielikums LBN 501-17
E2: LOKĀLA TĀME Nr. | I2: 4--1
D3: ŪDENSVADS UN KANALIZĀCIJA
D4: (Būvdarbu veids vai kosntruktīva elementa nosaukums)
A6: Objekta nosaukums: | C6: =KOPTAME!C15 -> VALGUNDES PAGASTA PĀRVALDES ĒKAS ENERGOEFEKTIVITĀTES PAAGUSTINĀŠANA
A7: Būves nosaukums: | C7: =KOPTAME!C16 -> VALGUNDES PAGASTA PĀRVALDES ĒKA
A8: Objekta adrese: | C8: =KOPTAME!C17 -> CELTNIEKU IELA 35, VALGUNDE, JELGAVAS NOVADS
A9: Pasūtītājs: | C9: =KOPTAME!C18 -> JELGAVAS NOVADA PAŠVALDĪBA
A10: Pasūtījuma Nr.: | C10: =KOPTAME!C19 -> 23-019/3 (KPJ/2023/31-5)
A11: Pretendents: | C11: =KOPTAME!C20 -> 0
A13: =KOPTAME!B22 -> 0 | M13: Tāmes izmaksas | O13: =P95 -> 0 | P13: EURO
P15: =KOPTAME!C70 -> 0
A17: Nr. p.k. | B17: Kods | C17: Būvdarbu nosaukums | D17: Mērvienība | E17: Daudzums | F17: Vienības izmaksas | L17: Kopā uz visu apjomu
F18: Laika norma (c/h) | G18: Darba samaksas likme (EUR/h) | H18: Darba alga (EUR) | I18: Būvizstrādājumi (EUR) | J18: Mehānismi (EUR) | K18: Kopā (EUR) | L18: Darbietilpība (c/h) | M18: Darba alga (EUR) | N18: Būvizstrādājumi (EUR) | O18: Mehānismi (EUR) | P18: Summa (EUR)
A19: 1 | B19: 2 | C19: 3 | D19: 4 | E19: 5 | F19: 6 | G19: 7 | H19: 8 | I19: 9 | J19: 10 | K19: 11 | L19: 12 | M19: 13 | N19: 14 | O19: 15 | P19: 16
C20: 1. SANITĀRTEHNISKĀS IEKĀRTAS
A21: 1 | B21: Līgumcena | C21: Keramiskā roku mazgātne ar sifonu, stiprinājumiem, jaucējkrānu, karstā un aukstā ūdensvadu pievienojumiem | D21: kompl | E21: 2
A22: 2 | B22: Līgumcena | C22: Keramiskā roku mazgātne ar sifonu, stiprinājumiem paredzēta bērniem līdz 7 gadu vecumam, jaucējkrānu, karstā un aukstā ūdensvadu pievienojumiem | D22: kompl | E22: 3
A23: 3 | B23: Līgumcena | C23: Keramiskā roku mazgātne ar sifonu paredzēta cilvēkiem ar īpašām vajadzībām, stiprinājumiem, jaucējkrānu, karstā un aukstā ūdensvadu pievienojumiem | D23: kompl | E23: 1
A24: 4 | B24: Līgumcena | C24: Nerūsējošā tērauda trauku mazgātne ar dubulto sifonu trauku mašīnas pievienošanai, stiprinājumiem, jaucējkrānu, karstā un aukstā ūdensvadu pievienojumiem | D24: kompl | E24: 1
A25: 5 | B25: Līgumcena | C25: Klozetpods ar vertikālu izvadu, ar skalošanas kasti, sistēmu, stiprinājumiem, aukstā ūdensvada pievienojumu | D25: kompl | E25: 1
A26: 6 | B26: Līgumcena | C26: Klozetpods ar vertikālu izvadu, ar skalošanas kasti piemērots bērniem līdz 6 gadu vecumam, sistēmu, stiprinājumiem, aukstā ūdensvada pievienojumu | D26: kompl | E26: 3
A27: 7 | B27: Līgumcena | C27: Klozetpods ar vertikālu izvadu, ar skalošanas kasti piemērots cilvēkiem ar īpašām vajadzībam, sistēmu, stiprinājumiem, aukstā ūdensvada pievienojumu | D27: kompl | E27: 1
A28: 8 | B28: Līgumcena | C28: Sienas dušas sistēma ar stiprinājumiem, jaucējpogu , karstā un aukstā ūdensvadu pievienojumiem | D28: kompl | E28: 1
A29: 9 | B29: Līgumcena | C29: Dušas grīdas traps, flīžu segumā, ar vertikālu izvadu, OD50 | D29: kompl | E29: 1
A30: 10 | B30: Līgumcena | C30: Grīdas traps, flīžu segumā, ar vertikālu izvadu, OD50 | D30: kompl | E30: 1
C31: 2. ŪDENSAPGĀDE
C32: 2.1. AUKSTAIS ŪDENSVADS U1
A33: 1 | B33: Līgumcena | C33: Daudzslāņu kompozīta materiāla ūdensapgādes caurule ar pretkondensāta izolāciju 13mm, veidgabaliem un stiprinājumiem, OD16*2,0 | D33: tek.m | E33: 49
A34: 2 | B34: Līgumcena | C34: Daudzslāņu kompozīta materiāla ūdensapgādes caurule ar pretkondensāta izolāciju 13mm, veidgabaliem un stiprinājumiem, OD20*2,25 | D34: tek.m | E34: 12
A35: 3 | B35: Līgumcena | C35: Daudzslāņu kompozīta materiāla ūdensapgādes caurule ar pretkondensāta izolāciju 13mm, veidgabaliem un stiprinājumiem, OD25*2,5 | D35: tek.m | E35: 17
A36: 4 | B36: Līgumcena | C36: Daudzslāņu kompozīta materiāla ūdensapgādes caurule ar pretkondensāta izolāciju 13mm, veidgabaliem un stiprinājumiem, OD32*3,0 | D36: tek.m | E36: 12
A37: 5 | B37: Līgumcena | C37: Stūra ventilis pie iekārtas, DN15 | D37: gab | E37: 9
A38: 6 | B38: Līgumcena | C38: Lodveida ventilis, DN15 | D38: gab | E38: 12
A39: 7 | B39: Līgumcena | C39: Lodveida ventilis, DN20 | D39: gab | E39: 2
A40: 8 | B40: Līgumcena | C40: Aukstā ūdens skaitītājs Zenner MTK-N-AM, Q=2,5m3//h, DN15 vai ekvivalents | D40: gab | E40: 2
A41: 9 | B41: Līgumcena | C41: Mehāniskais filtrs, DN15 | D41: gab | E41: 2
A42: 10 | B42: Līgumcena | C42: Esošā ūdensvada pārūve | D42: kompl | E42: 1
A43: 11 | B43: Līgumcena | C43: Caurumu urbšana esošajā dzelzbetona pamatā | D43: vieta | E43: 1
A44: 12 | B44: Līgumcena | C44: Stiprinājumi un palīgmateriali | D44: kompl | E44: 1
... A48: 16 | B48: Līgumcena | C48: Pieslēgums pie ievada ēkā | D48: vietas | E48: 1
C49: 2.2. KARSTĀ S3 UN CIRKULĀCIJAS S4 ŪDENSVADI
A50: 1 | B50: Līgumcena | C50: Daudzslāņu kompozīta materiāla ūdensapgādes caurule ar siltumizolāciju 20mm, veidgabaliem un stiprinājumiem, OD16*2,0 | D50: tek.m | E50: 47
A51: 2 | B51: Līgumcena | C51: Daudzslāņu kompozīta materiāla ūdensapgādes caurule ar siltumizolāciju 20mm, veidgabaliem un stiprinājumiem, OD20*2,25 | D51: tek.m | E51: 7
A52: 3 | B52: Līgumcena | C52: Daudzslāņu kompozīta materiāla ūdensapgādes caurule ar siltumizolāciju 20mm, veidgabaliem un stiprinājumiem, OD25*2,5 | D52: tek.m | E52: 29
A53: 4 | B53: Līgumcena | C53: Stūra ventilis pie iekārtas, DN15 | D53: gab | E53: 9
A54: 5 | B54: Līgumcena | C54: Lodveida ventilis, DN15 | D54: gab | E54: 9
A55: 6 | B55: Līgumcena | C55: Lodveida ventilis, DN20 | D55: gab | E55: 5
A56: 7 | B56: Līgumcena | C56: Karstā ūdens sajaukšanas vārsts, DN20 | D56: gab | E56: 2
A57: 8 | B57: Līgumcena | C57: Termoregulējošais vārsts ar termometru, DN15 | D57: gab | E57: 1
A58: 9 | B58: Līgumcena | C58: Caurumu urbšana esošajā dzelzbetona pamatā | D58: vieta | E58: 1
A59: 10 | B59: Līgumcena | C59: Stiprinājumi un palīgmateriali | D59: kompl | E59: 1
A60: 11 | B60: Līgumcena | C60: Palīgmateriāli montāžai | D60: kompl | E60: 1
A61: 12 | B61: Līgumcena | C61: Sistēmu pārbaude un marķēšana | D61: st. | E61: 12
A62: 13 | B62: Līgumcena | C62: Izpilddokumentācija | D62: st. | E62: 34
C63: 3. KANALIZĀCIJA
C64: 3.1. SADZĪVES KANALIZĀCIJA K1
A65: 1 | B65: Līgumcena | C65: PP kanalizācijas caurule ar stiprinājumiem, izturības klasi SN8, OD110 | D65: tek.m | E65: 40
A66: 2 | B66: Līgumcena | C66: PP kanalizācijas caurule ar stiprinājumiem, izturības klasi SN8, OD75 | D66: tek.m | E66: 3
A67: 3 | B67: Līgumcena | C67: PP kanalizācijas caurule ar stiprinājumiem, izturības klasi SN8, OD50 | D67: tek.m | E67: 28
A68: 4 | B68: Līgumcena | C68: PP kanalizācijas līkums 45°, OD110 | D68: gab | E68: 27
A69: 5 | B69: Līgumcena | C69: PP kanalizācijas līkums 45°, OD75 | D69: gab | E69: 1
A70: 6 | B70: Līgumcena | C70: PP kanalizācijas līkums 45°, OD50 | D70: gab | E70: 33
A71: 7 | B71: Līgumcena | C71: PP kanalizācijas trejgabals 45°, 110/110/110 | D71: gab | E71: 10
A72: 8 | B72: Līgumcena | C72: PP kanalizācijas trejgabals 45°, 110/110/75 | D72: gab | E72: 1
A73: 9 | B73: Līgumcena | C73: PP kanalizācijas trejgabals 45°, 110/110/50 | D73: gab | E73: 4
A74: 10 | B74: Līgumcena | C74: PP kanalizācijas trejgabals 45°, 75/75/50 | D74: gab | E74: 2
A75: 11 | B75: Līgumcena | C75: PP kanalizācijas trejgabals 45°, 50/50/50 | D75: gab | E75: 3
A76: 12 | B76: Līgumcena | C76: Tīrīšanas lūka grīdā, OD110 | D76: gab | E76: 3
... A83: 19 | B83: Līgumcena | C83: Pieslēgums pie sadzīves kanalizācijas skatakas | D83: vietas | E83: 1
C84: 3.2. KONDENSĀTA KANALIZĀCIJA K4
A85: 1 | B85: Līgumcena | C85: PE caurule ar veidgabaliem kondensāta novadīšanai ar pretkondensāta izolāciju 9mm, OD32*3,0 | D85: tek.m | E85: 15
A86: 2 | B86: Līgumcena | C86: Lodveida sifons kondensāta kanalizācijai, HL136N | D86: gab | E86: 1
A87: 3 | B87: Līgumcena | C87: Kondensāta sūknis | D87: gab | E87: 1
A88: 4 | B88: Līgumcena | C88: Stiprinājumi un palīgmateriali | D88: kompl | E88: 1
A89: 5 | B89: Līgumcena | C89: Cauruļvadu veidgabali | D89: kompl | E89: 1
A90: 6 | B90: Līgumcena | C90: Palīgmateriāli montāžai | D90: kompl | E90: 1
A91: 7 | B91: Līgumcena | C91: Sistēmu pārbaude un marķēšana | D91: kompl | E91: 1
A92: 8 | B92: Līgumcena | C92: Izpilddokumentācija | D92: kompl | E92: 1
A93: 9 | B93: Līgumcena | C93: Pieslēgumi pie sadzīves kanalizācijas | D93: vietas | E93: 1
C95: Tiešās izmaksas kopā, t.sk. Darba devēja sociālais nodoklis (23,59%) | L95: =SUM(L21:L94) -> 0 | M95: =SUM(M21:M94) -> 0 | N95: =SUM(N21:N94) -> 0 | O95: =SUM(O21:O94) -> 0 | P95: =SUM(P21:P94) -> 0
B97: Sastādīja: | C97: =KOPTAME!C58 -> 0 | E97: ='KOPS 1'!F42 -> 0
C98: (paraksts un tā atšifrējums, datums)
B102: Pārbaudīja: | C102: =KOPTAME!C63 -> 0 | E102: =E97 -> 0
C103: (paraksts un tā atšifrējums, datums)
C105: =KOPTAME!C68 -> 0
C107: =KOPTAME!C70 -> 0

Sheet UATS 2
M1: 5. pielikums LBN 501-17
E2: LOKĀLA TĀME Nr. | I2: 4--2
D3: UGUSNGRĒKA ATKLĀŠANAS UN TRAUKSMES SIGNALIZĀCIJA
D4: (Būvdarbu veids vai kosntruktīva elementa nosaukums)
A6: Objekta nosaukums: | C6: =KOPTAME!C15 -> VALGUNDES PAGASTA PĀRVALDES ĒKAS ENERGOEFEKTIVITĀTES PAAGUSTINĀŠANA
A7: Būves nosaukums: | C7: =KOPTAME!C16 -> VALGUNDES PAGASTA PĀRVALDES ĒKA
A8: Objekta adrese: | C8: =KOPTAME!C17 -> CELTNIEKU IELA 35, VALGUNDE, JELGAVAS NOVADS
A9: Pasūtītājs: | C9: =KOPTAME!C18 -> JELGAVAS NOVADA PAŠVALDĪBA
A10: Pasūtījuma Nr.: | C10: =KOPTAME!C19 -> 23-019/3 (KPJ/2023/31-5)
A11: Pretendents: | C11: =KOPTAME!C20 -> 0
A13: =KOPTAME!B22 -> 0 | M13: Tāmes izmaksas | O13: =P45 -> 0 | P13: EURO
P15: =KOPTAME!C70 -> 0
A17: Nr. p.k. | B17: Kods | C17: Būvdarbu nosaukums | D17: Mērvienība | E17: Daudzums | F17: Vienības izmaksas | L17: Kopā uz visu apjomu
F18: Laika norma (c/h) | G18: Darba samaksas likme (EUR/h) | H18: Darba alga (EUR) | I18: Būvizstrādājumi (EUR) | J18: Mehānismi (EUR) | K18: Kopā (EUR) | L18: Darbietilpība (c/h) | M18: Darba alga (EUR) | N18: Būvizstrādājumi (EUR) | O18: Mehānismi (EUR) | P18: Summa (EUR)
A19: 1 | B19: 2 | C19: 3 | D19: 4 | E19: 5 | F19: 6 | G19: 7 | H19: 8 | I19: 9 | J19: 10 | K19: 11 | L19: 12 | M19: 13 | N19: 14 | O19: 15 | P19: 16
C20: 1. UGUSNGRĒKA ATKLĀŠANAS UN TRAUKSMES SIGNALIZĀCIJA
A21: 1 | B21: Līgumcena | C21: Uztveršanas un kontroles centrs SMARTLINE 036-4 vai ekvivalents | D21: kompl | E21: 1
A22: 2 | B22: Līgumcena | C22: Zonu paplašinātājs 8z, SMARTLINE 8Z vai ekvivalents | D22: gab | E22: 1
A23: 3 | B23: Līgumcena | C23: Akumulatoru baterija 12A/h 12V, POWER BUBBLE PB1212 vai ekvivalents | D23: gab | E23: 2
A24: 4 | B24: Līgumcena | C24: Dūmu detektors NB338-2 vai ekvivalents | D24: gab | E24: 47
A25: 5 | B25: Līgumcena | C25: Siltuma detektors NB323-2 vai ekvivalents | D25: gab | E25: 2
A26: 6 | B26: Līgumcena | C26: Siltuma detektors PANASONIC 6295 vai ekvivalents | D26: gab | E26: 7
A27: 7 | B27: Līgumcena | C27: Iznesamais gaismas indikators VSU-01 vai ekvivalents | D27: gab | E27: 21
A28: 8 | B28: Līgumcena | C28: Ugunstrauksmes ziņojuma poga CQR FP/3RD vai ekvivalents | D28: gab | E28: 3
A29: 9 | B29: Līgumcena | C29: Sirēna AH-03127S vai ekvivalents | D29: gab | E29: 4
A30: 10 | B30: Līgumcena | C30: Sirēna ar strobspuldzi AH-03127BS vai ekvivalents | D30: gab | E30: 2
A31: 11 | B31: Līgumcena | C31: Termoelements akumulatoriem PROBETH vai ekvivalents | D31: kompl | E31: 1
A32: 12 | B32: Līgumcena | C32: Detektoru marķējums | D32: gab | E32: 60
... A43: 23 | B43: Līgumcena | C43: Montāžas materiāli | D43: kompl | E43: 1
C45: Tiešās izmaksas kopā, t.sk. Darba devēja sociālais nodoklis (23,59%) | L45: =SUM(L21:L43) -> 0 | M45: =SUM(M21:M43) -> 0 | N45: =SUM(N21:N43) -> 0 | O45: =SUM(O21:O43) -> 0 | P45: =SUM(P21:P43) -> 0
B47: Sastādīja: | C47: =KOPTAME!C58 -> 0 | E47: ='KOPS 1'!F42 -> 0
C48: (paraksts un tā atšifrējums, datums)
B52: Pārbaudīja: | C52: =KOPTAME!C63 -> 0 | E52: =E47 -> 0
C53: (paraksts un tā atšifrējums, datums)
C55: =KOPTAME!C68 -> 0
C57: =KOPTAME!C70 -> 0

Sheet VNS 2
M1: 5. pielikums LBN 501-17
E2: LOKĀLA TĀME Nr. | I2: 4--3
D3: VIDEO NOVĒROŠANAS SISTĒMA
D4: (Būvdarbu veids vai kosntruktīva elementa nosaukums)
A6: Objekta nosaukums: | C6: =KOPTAME!C15 -> VALGUNDES PAGASTA PĀRVALDES ĒKAS ENERGOEFEKTIVITĀTES PAAGUSTINĀŠANA
A7: Būves nosaukums: | C7: =KOPTAME!C16 -> VALGUNDES PAGASTA PĀRVALDES ĒKA
A8: Objekta adrese: | C8: =KOPTAME!C17 -> CELTNIEKU IELA 35, VALGUNDE, JELGAVAS NOVADS
A9: Pasūtītājs: | C9: =KOPTAME!C18 -> JELGAVAS NOVADA PAŠVALDĪBA
A10: Pasūtījuma Nr.: | C10: =KOPTAME!C19 -> 23-019/3 (KPJ/2023/31-5)
A11: Pretendents: | C11: =KOPTAME!C20 -> 0
A13: =KOPTAME!B22 -> 0 | M13: Tāmes izmaksas | O13: =P48 -> 0 | P13: EURO
P15: =KOPTAME!C70 -> 0
A17: Nr. p.k. | B17: Kods | C17: Būvdarbu nosaukums | D17: Mērvienība | E17: Daudzums | F17: Vienības izmaksas | L17: Kopā uz visu apjomu
F18: Laika norma (c/h) | G18: Darba samaksas likme (EUR/h) | H18: Darba alga (EUR) | I18: Būvizstrādājumi (EUR) | J18: Mehānismi (EUR) | K18: Kopā (EUR) | L18: Darbietilpība (c/h) | M18: Darba alga (EUR) | N18: Būvizstrādājumi (EUR) | O18: Mehānismi (EUR) | P18: Summa (EUR)
A19: 1 | B19: 2 | C19: 3 | D19: 4 | E19: 5 | F19: 6 | G19: 7 | H19: 8 | I19: 9 | J19: 10 | K19: 11 | L19: 12 | M19: 13 | N19: 14 | O19: 15 | P19: 16
C20: 1. VIDEO NOVĒROŠANAS SISTĒMA
A21: 1 | B21: Līgumcena | C21: 19“ iekārtu skapis 600*600 15U, TRITON RUA-15-AS6-CAX-A1, ar stikla durvīm un noņemamiem sānu vākiem vai ekvivalents | D21: gab | E21: 1
A22: 2 | B22: Līgumcena | C22: 19“ventilators un termostats 1U, TRITON RAX-CH-X25-X1vai ekvivalents | D22: gab | E22: 1
A23: 3 | B23: Līgumcena | C23: 19“ plaukts TRITON vai ekvivalents | D23: gab | E23: 2
A24: 4 | B24: Līgumcena | C24: 19“ elektroapgāde panelis horizontāls 8P, TRITON RAB-PD-X02-A1 vai ekvivalents | D24: gab | E24: 1
A25: 5 | B25: Līgumcena | C25: 19“ kabeļu organizators 1U, TRITON RAB-VP-X11- vai ekvivalentsA1 | D25: gab | E25: 2
A26: 6 | B26: Līgumcena | C26: 19“ zemējuma komplekts, TRITON, RAX-MS-X84-X1 vai ekvivalents | D26: gab | E26: 1
A27: 7 | B27: Līgumcena | C27: 19“ komutācijas panelis 1U 48*RJ45 cat 6, LANBERG PPU6-1048-B vai ekvivalents | D27: gab | E27: 1
A28: 8 | B28: Līgumcena | C28: Bezvadu piekļūves punkts MIKROTIK RB CAPGI-5acD2nD vai ekvivalents | D28: gab | E28: 4
A29: 9 | B29: Līgumcena | C29: 19“ PoE komutators, MIKROTIK CRS328-24P-4S+RM vai ekvivalents | D29: gab | E29: 2
A30: 10 | B30: Līgumcena | C30: SFP modulis, MIKROTIK vai ekvivalents | D30: gab | E30: 2
A31: 11 | B31: Līgumcena | C31: Patch kabelis cat 6 RJ45-RJ45 1m, DIGITUS DK-1617-010 vai ekvivalents | D31: gab | E31: 52
A32: 12 | B32: Līgumcena | C32: Divvietīga Z/A telefonu un datoru tīklu rozete 2*RJ45 cat 6 vai ekvivalents | D32: gab | E32: 17
... A46: 26 | B46: Līgumcena | C46: Montāžas materiāli | D46: kompl | E46: 1
C48: Tiešās izmaksas kopā, t.sk. Darba devēja sociālais nodoklis (23,59%) | L48: =SUM(L21:L46) -> 0 | M48: =SUM(M21:M46) -> 0 | N48: =SUM(N21:N46) -> 0 | O48: =SUM(O21:O46) -> 0 | P48: =SUM(P21:P46) -> 0
B50: Sastādīja: | C50: =KOPTAME!C58 -> 0 | E50: ='KOPS 1'!F42 -> 0
C51: (paraksts un tā atšifrējums, datums)
B55: Pārbaudīja: | C55: =KOPTAME!C63 -> 0 | E55: =E50 -> 0
C56: (paraksts un tā atšifrējums, datums)
C58: =KOPTAME!C68 -> 0
C60: =KOPTAME!C70 -> 0

Sheet ASS 2
M1: 5. pielikums LBN 501-17
E2: LOKĀLA TĀME Nr. | I2: 4--4
D3: APSARDZES SIGNALIZĀCIJAS SISTĒMA
D4: (Būvdarbu veids vai kosntruktīva elementa nosaukums)
A6: Objekta nosaukums: | C6: =KOPTAME!C15 -> VALGUNDES PAGASTA PĀRVALDES ĒKAS ENERGOEFEKTIVITĀTES PAAGUSTINĀŠANA
A7: Būves nosaukums: | C7: =KOPTAME!C16 -> VALGUNDES PAGASTA PĀRVALDES ĒKA
A8: Objekta adrese: | C8: =KOPTAME!C17 -> CELTNIEKU IELA 35, VALGUNDE, JELGAVAS NOVADS
A9: Pasūtītājs: | C9: =KOPTAME!C18 -> JELGAVAS NOVADA PAŠVALDĪBA
A10: Pasūtījuma Nr.: | C10: =KOPTAME!C19 -> 23-019/3 (KPJ/2023/31-5)
A11: Pretendents: | C11: =KOPTAME!C20 -> 0
A13: =KOPTAME!B22 -> 0 | M13: Tāmes izmaksas | O13: =P40 -> 0 | P13: EURO
P15: =KOPTAME!C70 -> 0
A17: Nr. p.k. | B17: Kods | C17: Būvdarbu nosaukums | D17: Mērvienība | E17: Daudzums | F17: Vienības izmaksas | L17: Kopā uz visu apjomu
F18: Laika norma (c/h) | G18: Darba samaksas likme (EUR/h) | H18: Darba alga (EUR) | I18: Būvizstrādājumi (EUR) | J18: Mehānismi (EUR) | K18: Kopā (EUR) | L18: Darbietilpība (c/h) | M18: Darba alga (EUR) | N18: Būvizstrādājumi (EUR) | O18: Mehānismi (EUR) | P18: Summa (EUR)
A19: 1 | B19: 2 | C19: 3 | D19: 4 | E19: 5 | F19: 6 | G19: 7 | H19: 8 | I19: 9 | J19: 10 | K19: 11 | L19: 12 | M19: 13 | N19: 14 | O19: 15 | P19: 16
C20: 1. APSARDZES SIGNALIZĀCIJAS SISTĒMA
A21: 1 | B21: Līgumcena | C21: Uztveršanas un kontroles centrs DSC NEO HS2064 vai ekvivalents | D21: kompl | E21: 1
A22: 2 | B22: Līgumcena | C22: Metāla korpuss DSC PC5003H vai ekvivalents | D22: gab | E22: 2
A23: 3 | B23: Līgumcena | C23: Transformators ME.TRE-45.66316/BSS vai ekvivalents | D23: gab | E23: 2
A24: 4 | B24: Līgumcena | C24: Barošanas bloks DSC NEO HSM2300 vai ekvivalents | D24: gab | E24: 1
A25: 5 | B25: Līgumcena | C25: Akumulatoru baterija 12A/h 12V, POWER BUBBLE PB1270 vai ekvivalents | D25: gab | E25: 2
A26: 6 | B26: Līgumcena | C26: Zonu paplašināšanas modulis DSC NEO HSM2108 vai ekvivalents | D26: gab | E26: 4
A27: 7 | B27: Līgumcena | C27: Vadības pults DSC HS2LCD vai ekvivalents | D27: gab | E27: 2
A28: 8 | B28: Līgumcena | C28: Magnetiskais kontakts durvīm | D28: gab | E28: 3
A29: 9 | B29: Līgumcena | C29: Bezvadu pogu komplekts 2 kanāli ELMES U2HS vai ekvivalents | D29: kompl | E29: 1
A30: 10 | B30: Līgumcena | C30: Kombinētais detektors JABLOTRON JS-25 COMBO vai ekvivalents | D30: gab | E30: 10
A31: 11 | B31: Līgumcena | C31: Infrasarkano staru detektors OPTEX RXC-ST vai ekvivalents | D31: gab | E31: 13
A32: 12 | B32: Līgumcena | C32: Sirēna 12V MR-300RD vai ekvivalents | D32: gab | E32: 1
... A38: 18 | B38: Līgumcena | C38: Montāžas materiāli | D38: kompl | E38: 1
C40: Tiešās izmaksas kopā, t.sk. Darba devēja sociālais nodoklis (23,59%) | L40: =SUM(L21:L38) -> 0 | M40: =SUM(M21:M38) -> 0 | N40: =SUM(N21:N38) -> 0 | O40: =SUM(O21:O38) -> 0 | P40: =SUM(P21:P38) -> 0
B42: Sastādīja: | C42: =KOPTAME!C58 -> 0 | E42: ='KOPS 1'!F42 -> 0
C43: (paraksts un tā atšifrējums, datums)
B47: Pārbaudīja: | C47: =KOPTAME!C63 -> 0 | E47: =E42 -> 0
C48: (paraksts un tā atšifrējums, datums)
C50: =KOPTAME!C68 -> 0
C52: =KOPTAME!C70 -> 0

Sheet ITTIS 2
M1: 5. pielikums LBN 501-17
E2: LOKĀLA TĀME Nr. | I2: 4--5
D3: INVALĪDU TUALETES TRAUKSMES IZZIŅOŠANAS SISTĒMA
D4: (Būvdarbu veids vai kosntruktīva elementa nosaukums)
A6: Objekta nosaukums: | C6: =KOPTAME!C15 -> VALGUNDES PAGASTA PĀRVALDES ĒKAS ENERGOEFEKTIVITĀTES PAAGUSTINĀŠANA
A7: Būves nosaukums: | C7: =KOPTAME!C16 -> VALGUNDES PAGASTA PĀRVALDES ĒKA
A8: Objekta adrese: | C8: =KOPTAME!C17 -> CELTNIEKU IELA 35, VALGUNDE, JELGAVAS NOVADS
A9: Pasūtītājs: | C9: =KOPTAME!C18 -> JELGAVAS NOVADA PAŠVALDĪBA
A10: Pasūtījuma Nr.: | C10: =KOPTAME!C19 -> 23-019/3 (KPJ/2023/31-5)
A11: Pretendents: | C11: =KOPTAME!C20 -> 0
A13: =KOPTAME!B22 -> 0 | M13: Tāmes izmaksas | O13: =P27 -> 0 | P13: EURO
P15: =KOPTAME!C70 -> 0
A17: Nr. p.k. | B17: Kods | C17: Būvdarbu nosaukums | D17: Mērvienība | E17: Daudzums | F17: Vienības izmaksas | L17: Kopā uz visu apjomu
F18: Laika norma (c/h) | G18: Darba samaksas likme (EUR/h) | H18: Darba alga (EUR) | I18: Būvizstrādājumi (EUR) | J18: Mehānismi (EUR) | K18: Kopā (EUR) | L18: Darbietilpība (c/h) | M18: Darba alga (EUR) | N18: Būvizstrādājumi (EUR) | O18: Mehānismi (EUR) | P18: Summa (EUR)
A19: 1 | B19: 2 | C19: 3 | D19: 4 | E19: 5 | F19: 6 | G19: 7 | H19: 8 | I19: 9 | J19: 10 | K19: 11 | L19: 12 | M19: 13 | N19: 14 | O19: 15 | P19: 16
C20: 1. INVALĪDU TUALETES TRAUKSMES IZZIŅOŠANAS SISTĒMA
A21: 1 | B21: Līgumcena | C21: Invalīdu tualetes trauksmes izziņošanas komplekts C-TEC NC951 (trauksmes poga ar auklu, trauksmes deaktivācijas punkts, gaismeklis ar sirēnu, kontrolleris) vai ekvivalents | D21: kompl | E21: 1
A22: 2 | B22: Līgumcena | C22: Kabelis CQR4*0,22 LSZH vai ekvivalents | D22: tek.m | E22: 20
A23: 3 | B23: Līgumcena | C23: Kabelis 3*1,5 | D23: tek.m | E23: 25
A24: 4 | B24: Līgumcena | C24: Poliplasta caurule d.25, EVOPIPE EVOEL FM-0H-SMART vai ekvivalents | D24: tek.m | E24: 15
A25: 5 | B25: Līgumcena | C25: Montāžas materiāli | D25: kompl | E25: 1
C27: Tiešās izmaksas kopā, t.sk. Darba devēja sociālais nodoklis (23,59%) | L27: =SUM(L21:L25) -> 0 | M27: =SUM(M21:M25) -> 0 | N27: =SUM(N21:N25) -> 0 | O27: =SUM(O21:O25) -> 0 | P27: =SUM(P21:P25) -> 0
B29: Sastādīja: | C29: =KOPTAME!C58 -> 0 | E29: ='KOPS 1'!F42 -> 0
C30: (paraksts un tā atšifrējums, datums)
B34: Pārbaudīja: | C34: =KOPTAME!C63 -> 0 | E34: =E29 -> 0
C35: (paraksts un tā atšifrējums, datums)
C37: =KOPTAME!C68 -> 0
C39: =KOPTAME!C70 -> 0

Sheet PKS 2
M1: 5. pielikums LBN 501-17
E2: LOKĀLA TĀME Nr. | I2: 4--6
D3: PIEKĻUVES KONTROLES SISTĒMA
D4: (Būvdarbu veids vai kosntruktīva elementa nosaukums)
A6: Objekta nosaukums: | C6: =KOPTAME!C15 -> VALGUNDES PAGASTA PĀRVALDES ĒKAS ENERGOEFEKTIVITĀTES PAAGUSTINĀŠANA
A7: Būves nosaukums: | C7: =KOPTAME!C16 -> VALGUNDES PAGASTA PĀRVALDES ĒKA
A8: Objekta adrese: | C8: =KOPTAME!C17 -> CELTNIEKU IELA 35, VALGUNDE, JELGAVAS NOVADS
A9: Pasūtītājs: | C9: =KOPTAME!C18 -> JELGAVAS NOVADA PAŠVALDĪBA
A10: Pasūtījuma Nr.: | C10: =KOPTAME!C19 -> 23-019/3 (KPJ/2023/31-5)
A11: Pretendents: | C11: =KOPTAME!C20 -> 0
A13: =KOPTAME!B22 -> 0 | M13: Tāmes izmaksas | O13: =P30 -> 0 | P13: EURO
P15: =KOPTAME!C70 -> 0
A17: Nr. p.k. | B17: Kods | C17: Būvdarbu nosaukums | D17: Mērvienība | E17: Daudzums | F17: Vienības izmaksas | L17: Kopā uz visu apjomu
F18: Laika norma (c/h) | G18: Darba samaksas likme (EUR/h) | H18: Darba alga (EUR) | I18: Būvizstrādājumi (EUR) | J18: Mehānismi (EUR) | K18: Kopā (EUR) | L18: Darbietilpība (c/h) | M18: Darba alga (EUR) | N18: Būvizstrādājumi (EUR) | O18: Mehānismi (EUR) | P18: Summa (EUR)
A19: 1 | B19: 2 | C19: 3 | D19: 4 | E19: 5 | F19: 6 | G19: 7 | H19: 8 | I19: 9 | J19: 10 | K19: 11 | L19: 12 | M19: 13 | N19: 14 | O19: 15 | P19: 16
C20: 1. PIEKĻUVES KONTROLES SISTĒMA
A21: 1 | B21: Līgumcena | C21: Kodatslēga JANTAR REX K-3-A vai ekvivalents | D21: kompl | E21: 2
A22: 2 | B22: Līgumcena | C22: Akumulatoru baterija 12A/h 12V, POWER BUBBLE PB1270 vai ekvivalents | D22: gab | E22: 1
A23: 3 | B23: Līgumcena | C23: Elektromagnētiskais sprūds durvm Eff-Eff vai ekvivalents | D23: gab | E23: 2
A24: 4 | B24: Līgumcena | C24: Barošanas bloks PULSAR 12V DC 2A vai ekvivalents | D24: gab | E24: 1
A25: 5 | B25: Līgumcena | C25: Kabelis HTKSH 1*2*0,8 LSZH vai ekvivalents | D25: tek.m | E25: 30
A26: 6 | B26: Līgumcena | C26: Kabelis UTP 4*2*0,5 Cat6 LSZH vai ekvivalents | D26: tek.m | E26: 50
A27: 7 | B27: Līgumcena | C27: Ugunsdrošās putas HILTI CFS-F FX vai ekvivalents | D27: gab | E27: 1
A28: 8 | B28: Līgumcena | C28: Montāžas materiāli | D28: kompl | E28: 1
C30: Tiešās izmaksas kopā, t.sk. Darba devēja sociālais nodoklis (23,59%) | L30: =SUM(L21:L28) -> 0 | M30: =SUM(M21:M28) -> 0 | N30: =SUM(N21:N28) -> 0 | O30: =SUM(O21:O28) -> 0 | P30: =SUM(P21:P28) -> 0
B32: Sastādīja: | C32: =KOPTAME!C58 -> 0 | E32: ='KOPS 1'!F42 -> 0
C33: (paraksts un tā atšifrējums, datums)
B37: Pārbaudīja: | C37: =KOPTAME!C63 -> 0 | E37: =E32 -> 0
C38: (paraksts un tā atšifrējums, datums)
C40: =KOPTAME!C68 -> 0
C42: =KOPTAME!C70 -> 0

Sheet LVRTC 2
M1: 5. pielikums LBN 501-17
E2: LOKĀLA TĀME Nr. | I2: 4--7
D3: LVRTC SKAPJA PĀRVIETOŠANA
D4: (Būvdarbu veids vai kosntruktīva elementa nosaukums)
A6: Objekta nosaukums: | C6: =KOPTAME!C15 -> VALGUNDES PAGASTA PĀRVALDES ĒKAS ENERGOEFEKTIVITĀTES PAAGUSTINĀŠANA
A7: Būves nosaukums: | C7: =KOPTAME!C16 -> VALGUNDES PAGASTA PĀRVALDES ĒKA
A8: Objekta adrese: | C8: =KOPTAME!C17 -> CELTNIEKU IELA 35, VALGUNDE, JELGAVAS NOVADS
A9: Pasūtītājs: | C9: =KOPTAME!C18 -> JELGAVAS NOVADA PAŠVALDĪBA
A10: Pasūtījuma Nr.: | C10: =KOPTAME!C19 -> 23-019/3 (KPJ/2023/31-5)
A11: Pretendents: | C11: =KOPTAME!C20 -> 0
A13: =KOPTAME!B22 -> 0 | M13: Tāmes izmaksas | O13: =P31 -> 0 | P13: EURO
P15: =KOPTAME!C70 -> 0
A17: Nr. p.k. | B17: Kods | C17: Būvdarbu nosaukums | D17: Mērvienība | E17: Daudzums | F17: Vienības izmaksas | L17: Kopā uz visu apjomu
F18: Laika norma (c/h) | G18: Darba samaksas likme (EUR/h) | H18: Darba alga (EUR) | I18: Būvizstrādājumi (EUR) | J18: Mehānismi (EUR) | K18: Kopā (EUR) | L18: Darbietilpība (c/h) | M18: Darba alga (EUR) | N18: Būvizstrādājumi (EUR) | O18: Mehānismi (EUR) | P18: Summa (EUR)
A19: 1 | B19: 2 | C19: 3 | D19: 4 | E19: 5 | F19: 6 | G19: 7 | H19: 8 | I19: 9 | J19: 10 | K19: 11 | L19: 12 | M19: 13 | N19: 14 | O19: 15 | P19: 16
C20: 1. LVRTC SKAPJA PĀRVIETOŠANA
C21: 1.1.DARBI
A22: 1 | B22: Līgumcena | C22: Esošā 19“ RACK skapja pārvietošana | D22: gab | E22: 1
A23: 2 | B23: Līgumcena | C23: Zemgrīdas caurules montāža | D23: tek.m | E23: 5
A24: 3 | B24: Līgumcena | C24: Zemgrīdas caurules pievienošana pie esošās LVRTC EST caurules | D24: gab | E24: 1
A25: 4 | B25: Līgumcena | C25: Kabeļu kanāla montāža uz sienas | D25: tek.m | E25: 5
C26: 1.2. MATERIĀLI
A27: 5 | C27: Poliplasta caurule d.40,zemgrīdas montāžai | D27: tek.m | E27: 5
A28: 6 | C28: Kabeļu kanāls, Obo Bettermann WDKH-30045 vai ekvivalents | D28: tek.m | E28: 5
A29: 7 | C29: Montāžas materiāli | D29: kompl | E29: 1
C31: Tiešās izmaksas kopā, t.sk. Darba devēja sociālais nodoklis (23,59%) | L31: =SUM(L22:L30) -> 0 | M31: =SUM(M22:M30) -> 0 | N31: =SUM(N22:N30) -> 0 | O31: =SUM(O22:O30) -> 0 | P31: =SUM(P22:P30) -> 0
B33: Sastādīja: | C33: =KOPTAME!C58 -> 0 | E33: ='KOPS 1'!F42 -> 0
C34: (paraksts un tā atšifrējums, datums)
B38: Pārbaudīja: | C38: =KOPTAME!C63 -> 0 | E38: =E33 -> 0
C39: (paraksts un tā atšifrējums, datums)
C41: =KOPTAME!C68 -> 0
C43: =KOPTAME!C70 -> 0

Sheet UKT 2
M1: 5. pielikums LBN 501-17
E2: LOKĀLA TĀME Nr. | I2: 5–1
D3: ĀRĒJA ŪDENSAPGĀDES UN KANALIZĀCIJAS SISTĒMA
D4: (Būvdarbu veids vai kosntruktīva elementa nosaukums)
A6: Objekta nosaukums: | C6: =KOPTAME!C15 -> VALGUNDES PAGASTA PĀRVALDES ĒKAS ENERGOEFEKTIVITĀTES PAAGUSTINĀŠANA
A7: Būves nosaukums: | C7: =KOPTAME!C16 -> VALGUNDES PAGASTA PĀRVALDES ĒKA
A8: Objekta adrese: | C8: =KOPTAME!C17 -> CELTNIEKU IELA 35, VALGUNDE, JELGAVAS NOVADS
A9: Pasūtītājs: | C9: =KOPTAME!C18 -> JELGAVAS NOVADA PAŠVALDĪBA
A10: Pasūtījuma Nr.: | C10: =KOPTAME!C19 -> 23-019/3 (KPJ/2023/31-5)
A11: Pretendents: | C11: =KOPTAME!C20 -> 0
A13: =KOPTAME!B22 -> 0 | M13: Tāmes izmaksas | O13: =P37 -> 0 | P13: EURO
P15: =KOPTAME!C70 -> 0
A17: Nr. p.k. | B17: Kods | C17: Būvdarbu nosaukums | D17: Mērvienība | E17: Daudzums | F17: Vienības izmaksas | L17: Kopā uz visu apjomu
F18: Laika norma (c/h) | G18: Darba samaksas likme (EUR/h) | H18: Darba alga (EUR) | I18: Būvizstrādājumi (EUR) | J18: Mehānismi (EUR) | K18: Kopā (EUR) | L18: Darbietilpība (c/h) | M18: Darba alga (EUR) | N18: Būvizstrādājumi (EUR) | O18: Mehānismi (EUR) | P18: Summa (EUR)
A19: 1 | B19: 2 | C19: 3 | D19: 4 | E19: 5 | F19: 6 | G19: 7 | H19: 8 | I19: 9 | J19: 10 | K19: 11 | L19: 12 | M19: 13 | N19: 14 | O19: 15 | P19: 16
C20: 1. SADZĪVES KANALIZĀCIJA K1
A21: 1 | B21: Līgumcena | C21: PP sadzīves kanalizācijas caurule ar uzmavu, gumijas blīvgredzenu un izolāciju b=13 mm, SN8, DN/OD110, H÷2.0m | D21: tek.m | E21: 2
A22: 2 | B22: Līgumcena | C22: PP sadzīves kanalizācijas caurule ar uzmavu un gumijas blīvgredzenu, SN8, DN/OD160, H÷2.0m | D22: tek.m | E22: 7
A23: 3 | B23: Līgumcena | C23: Plastmasas aka OD400 ar dziļumu līdz 1.0m pievienojumiem OD110/160, komplektā ar pamatni, augstuma regulēšanas cauruli, manžeti ar fiksatoru, rāmi un plastmasas vāku (jāatbilst LVS EN 124), neventilējams. K1A-1 | D23: kompl | E23: 1
A24: 4 | B24: Līgumcena | C24: Remontuzmava OD160 kanalizācijas pievienojumam esošajai skatakai, KA-2 | D24: gab | E24: 1
A25: 5 | B25: Līgumcena | C25: Esošās grunts izrakšana un aizvešanas uz atbērtni | D25: m3 | E25: 9
A26: 6 | B26: Līgumcena | C26: Izlīdzinošā kārta vidēji rupja smilts, frakcijas 8-16mm | D26: m3 | E26: 1.3
A27: 7 | B27: Līgumcena | C27: Rupja smilts, (plastmasas caurulēm blīvēšana ar rokām) | D27: m3 | E27: 4
A28: 8 | B28: Līgumcena | C28: Aizpildīšana ar izrakto grunti, blīvējuma pakāpe Dr≥95%, vai pievesto materiālu | D28: m3 | E28: 3.7
A29: 9 | B29: Līgumcena | C29: Izbūvētās sistēmas CCTV videoinspekcija | D29: tek.m | E29: 9
A30: 10 | B30: Līgumcena | C30: Esošo komunikāciju šķērsošana | D30: vieta | E30: 3
A31: 11 | B31: Līgumcena | C31: Esošā nedarbojošā sakaru kabeļa demontāža | D31: tek.m | E31: 2
A32: 12 | B32: Līgumcena | C32: Būvprojekta vadīšana, tajā skaitā: izpilddokumentācijas sagatavošana un ģeodēzisko izpildmērījumu veikšana | D32: kompl | E32: 1
... A35: 15 | B35: Līgumcena | C35: Esošā zālāja seguma atjaunošana | D35: m2 | E35: 14
C37: Tiešās izmaksas kopā, t.sk. Darba devēja sociālais nodoklis (23,59%) | L37: =SUM(L21:L35) -> 0 | M37: =SUM(M21:M35) -> 0 | N37: =SUM(N21:N35) -> 0 | O37: =SUM(O21:O35) -> 0 | P37: =SUM(P21:P35) -> 0
B39: Sastādīja: | C39: =KOPTAME!C58 -> 0 | E39: ='KOPS 1'!F42 -> 0
C40: (paraksts un tā atšifrējums, datums)
B44: Pārbaudīja: | C44: =KOPTAME!C63 -> 0 | E44: =E39 -> 0
C45: (paraksts un tā atšifrējums, datums)
C47: =KOPTAME!C68 -> 0
C49: =KOPTAME!C70 -> 0

Sheet KOPS 3
H1: 6. pielikums LBN 501-17
D3: KOPSAVILKUMA APRĒĶINS Nr.3
D4: =KOPTAME!C41 -> BŪVDARBI ĒKAS FUNKCIONĀLI SAISTĪTĀ TERITORIJĀ
D5: (būvdarbu veids vai kosntruktīvā elementa nosaukums)
C7: Objekta nosaukums: | D7: =KOPTAME!C15 -> VALGUNDES PAGASTA PĀRVALDES ĒKAS ENERGOEFEKTIVITĀTES PAAGUSTINĀŠANA
C8: Būves nosaukums: | D8: =KOPTAME!C16 -> VALGUNDES PAGASTA PĀRVALDES ĒKA
C9: Objekta adrese: | D9: =KOPTAME!C17 -> CELTNIEKU IELA 35, VALGUNDE, JELGAVAS NOVADS
C10: Pasūtītājs: | D10: =KOPTAME!C18 -> JELGAVAS NOVADA PAŠVALDĪBA
C11: Pasūtījuma Nr.: | D11: =KOPTAME!C19 -> 23-019/3 (KPJ/2023/31-5)
C12: Pretendents: | D12: =KOPTAME!C20 -> 0
D14: Par kopējo summu (EURO) | E14: =F27 -> 0
D15: Kopēja darbietilpība (c/h) | E15: =J23 -> 0
A17: Nr. p.k | B17: Kods, tāme Nr. | C17: Saisinājums | D17: Būvdarbu veids vai konstruktīvā elementa nosaukums | F17: Tāmes izmaksa EUR | G17: Tai skaitā | J17: Darb-ietilpība c/h
G18: Darba alga EUR | H18: Būvizstrādājumi EUR | I18: Mehānismi EUR
A19: =D4 -> BŪVDARBI ĒKAS FUNKCIONĀLI SAISTĪTĀ TERITORIJĀ
D20: 1. BŪVDARBI
A21: 23 | B21: 6--1 | C21: LAB 3 | D21: LABIEKĀRTOŠANAS DARBI
D23: KOPĀ | F23: =SUM(F21:F21) -> 0 | G23: =SUM(G21:G21) -> 0 | H23: =SUM(H21:H21) -> 0 | I23: =SUM(I21:I21) -> 0 | J23: =SUM(J21:J21) -> 0
D24: Virsizdevumi
D25: t.sk. Darba aizsardzība
D26: Peļņa
D27: Pavisam kopā | F27: =F26+F24+F23 -> 0
B30: Sastādīja: | D30: =KOPTAME!C58 -> 0 | F30: =KOPTAME!D58 -> 0
D31: (paraksts un tā atšifrējums, datums)
D33: =KOPTAME!C70 -> 0
B35: Pārbaudīja: | D35: =KOPTAME!C63 -> 0 | F35: =F30 -> 0
D36: (paraksts un tā atšifrējums, datums)
D38: =KOPTAME!C70 -> 0

Sheet LAB 3
M1: 5. pielikums LBN 501-17
E3: LOKĀLA TĀME Nr. | I3: 6--1
D4: LABIEKĀRTOŠANAS DARBI
D5: (Būvdarbu veids vai kosntruktīva elementa nosaukums)
A7: Objekta nosaukums: | C7: =KOPTAME!C15 -> VALGUNDES PAGASTA PĀRVALDES ĒKAS ENERGOEFEKTIVITĀTES PAAGUSTINĀŠANA
A8: Būves nosaukums: | C8: =KOPTAME!C16 -> VALGUNDES PAGASTA PĀRVALDES ĒKA
A9: Objekta adrese: | C9: =KOPTAME!C17 -> CELTNIEKU IELA 35, VALGUNDE, JELGAVAS NOVADS
A10: Pasūtītājs: | C10: =KOPTAME!C18 -> JELGAVAS NOVADA PAŠVALDĪBA
A11: Pasūtījuma Nr.: | C11: =KOPTAME!C19 -> 23-019/3 (KPJ/2023/31-5)
A12: Pretendents: | C12: =KOPTAME!C20 -> 0
A14: =KOPTAME!B22 -> 0 | M14: Tāmes izmaksas | O14: =P74 -> 0 | P14: EURO
P16: =KOPTAME!C70 -> 0
A18: Nr. p.k. | B18: Kods | C18: Būvdarbu nosaukums | D18: Mērvienība | E18: Daudzums | F18: Vienības izmaksas | L18: Kopā uz visu apjomu
F19: Laika norma (c/h) | G19: Darba samaksas likme (EUR/h) | H19: Darba alga (EUR) | I19: Būvizstrādājumi (EUR) | J19: Mehānismi (EUR) | K19: Kopā (EUR) | L19: Darbietilpība (c/h) | M19: Darba alga (EUR) | N19: Būvizstrādājumi (EUR) | O19: Mehānismi (EUR) | P19: Summa (EUR)
A20: 1 | B20: 2 | C20: 3 | D20: 4 | E20: 5 | F20: 6 | G20: 7 | H20: 8 | I20: 9 | J20: 10 | K20: 11 | L20: 12 | M20: 13 | N20: 14 | O20: 15 | P20: 16
C21: 1. ZĀLĀJA ATJAUNOŠANA
A22: 1 | B22: Līgumcena | C22: Zālāja atjaunošana | D22: m2 | E22: =(22*2+11*2)*3 -> 198
A23: 2 | C23: Melnzeme | D23: m3 | E23: =E22*0.15 -> 29.7
A24: 3 | C24: Sēklas | D24: kg | E24: =E22/25 -> 7.92
C25: 2. BRUĢĒTA APMALE. AR-10
A26: 1 | B26: Līgumcena | C26: Zemes rakšanas darbi, H=490 mm, izvešana un utilizācija | D26: tek.m | E26: =52 -> 52
A27: 2 | B27: Līgumcena | C27: Smilts pamatnes izbūve, H=100 mm | D27: m2 | E27: =E26 -> 52
A28: 3 | B28: Līgumcena | C28: Ekstrudēta putupolistirola ieklāšana, H=100 mm (FINNFOAM vai ekvivalents) | D28: m2 | E28: =E26*1 -> 52
A29: 4 | B29: Līgumcena | C29: Drenējošā smilts kārtas izbūve, H=80 mm | D29: m2 | E29: =E26 -> 52
A30: 5 | B30: Līgumcena | C30: Šķembu kārtas izbūve, H=100 mm | D30: m2 | E30: =E26 -> 52
A31: 6 | B31: Līgumcena | C31: Smilts izlīdzinošās kārtas izbūve, H=50 mm | D31: m2 | E31: =E26*0.5 -> 26
A32: 7 | B32: Līgumcena | C32: Bruģakmeņu ieklāšana, H=60 mm | D32: m2 | E32: =E26*0.5 -> 26
A33: 8 | B33: Līgumcena | C33: Ietvju apmale iebūve, 1000*200*80 mm uz betona kārtas C20/25 | D33: tek.m | E33: =E26+4 -> 56
A34: 9 | B34: Līgumcena | C34: Pie lietus notekas iebūvēt betona reni ar restīti, 1000*120*130 mm | D34: gab | E34: 4
C35: 3. IEEJAS MEZGLA UN PANDUSA IZBŪVE. AR-12
A36: 1 | B36: Līgumcena | C36: Pamatu rakšana (mehanizēti) | D36: m3 | E36: =(2.65+0.6)*(9.8+1.15+0.6*2)*0.5 -> 19.74375
A37: 2 | B37: Līgumcena | C37: Pamatu rakšana (roku darbs), 5% | D37: m3 | E37: =E36*0.05 -> 0.9871875
A38: 3 | B38: Līgumcena | C38: Nederīgas grunts transportēšana līdz 10 km | D38: m3 | E38: =E36+E37 -> 20.730938
A39: 4 | B39: Līgumcena | C39: Grunts pamatnes līdzināšana, blietēšana | D39: m2 | E39: =E36/0.5 -> 39.4875
A40: 5 | B40: Līgumcena | C40: Būvbedres aizberšana ar pievesto smilti, blietējot pa kārtām , H=0-450 mm | D40: m3 | E40: =E39*0.45 -> 17.769375
A41: 6 | C41: Smilts ar piegādi | D41: m3 | E41: =E40*1.3 -> 23.100188
A42: 7 | B42: Līgumcena | C42: Šķembu kārtas pieberšana ar blietēšanu, H=50 mm | D42: m2 | E42: =3*2.75+6.75*1.5+1.7*1.8 -> 21.435
A43: 8 | C43: Šķembas fr.20-40 ar piegādi | D43: m3 | E43: =E42*0.05*1.3 -> 1.393275
A44: 9 | B44: Līgumcena | C44: Veidņu izgatavošana, montāža, demontāža pamatu sienai, H=600 mm | D44: m2 | E44: =2*0.95*6.75+2*2.65*2*0.9+2.4*2*0.9+2*1.5*2*0.3 -> 28.485
A45: 10 | C45: Inventāro veidņu noma, piegāde un aizvešana | D45: m2 | E45: =E44 -> 28.485
A46: 11 | C46: Mitrumizturīgs finieris 21 mm | D46: m2 | E46: =E44*0.2 -> 5.697
A47: 12 | C47: Kokmateriāls | D47: m3 | E47: =ROUND(E44*0.015,2) -> 0.43
A48: 13 | C48: Veidņu eļļa | D48: l | E48: =E44*0.18 -> 5.1273
A49: 14 | C49: Skrūves | D49: gab | E49: =ROUND(E46*40,0) -> 228
A50: 15 | B50: Līgumcena | C50: Atbalsta sienas armēšana, 60 kg/m3 | D50: t | E50: =E55*0.06 -> 0.29664
A51: 16 | C51: Distanceri ''saulīte'' | D51: gab | E51: =ROUND(E44*4,0) -> 114
A52: 17 | C52: Distanceri ''sēnes'' | D52: gab | E52: =ROUND(E41*3,0) -> 69
A53: 18 | C53: Stiegrojums B500B dažādi diametri | D53: t | E53: =E50*1.18 -> 0.3500352
A54: 19 | C54: Sienamais materiāls | D54: kompl | E54: 1
A55: 20 | B55: Līgumcena | C55: Atbalsta sienas un sagataves kārtas 50 mm betonēšana. H=600 mm, B=300 mm | D55: m3 | E55: =2*2.65*0.9*0.3+2.4*0.9*0.3+6.75*0.75*0.3+3*0.6*0.3+(2.65*2.7+5.6*1.2+1.5*1.5)*0.05 -> 4.944
A56: 21 | C56: Betons C30/37 XF3 | D56: m3 | E56: =E55*1.06 -> 5.24064
A57: 22 | C57: Betona piegāde | D57: reiss | E57: =ROUND(E56/7.7,0) -> 1
A58: 23 | C58: Betona sūknis | D58: m/st | E58: =ROUND(E56/7,0) -> 1
A59: 24 | B59: Līgumcena | C59: Bruģakmeņu ieklāšana ieejas mezglam, pakapieniem un pandusam, H=60 mm | D59: m2 | E59: =2.65*2.4+6.75*1.2+1.5*1.5 -> 16.71
A60: 25 | C60: Bruģis ar piegādi, H=60 mm | D60: m2 | E60: =E59*1.15 -> 19.2165
A61: 26 | B61: Līgumcena | C61: Pandusa margu izgatavošana, piegāde un montāža | D61: tek.m | E61: =13+1.15 -> 14.15
A62: 27 | C62: Margu statnis 30*30*3 mm, H=1070 mm | D62: gab | E62: 14
A63: 28 | C63: Margu pamatne 80*80*4 mm | D63: gab | E63: =E61 -> 14.15
A64: 29 | C64: Margu lenteris O d=40*2,0 | D64: tek.m | E64: =E61 -> 14.15
A65: 30 | C65: Margu lenteris O d=32*2,0 | D65: tek.m | E65: =E61 -> 14.15
A66: 31 | C66: Palīgmateriāli | D66: kompl | E66: 1
A67: 32 | B67: Līgumcena | C67: Ieejas mezgla margu izgatavošana, piegāde un montāža | D67: tek.m | E67: 4.6
A68: 33 | C68: Margu statnis 30*30*3 mm, H=1070 mm | D68: gab | E68: 7
A69: 34 | C69: Margu pamatne 80*80*4 mm | D69: gab | E69: 7
A70: 35 | C70: Margu lenteris O d=40*2,0 | D70: tek.m | E70: =3+1.6 -> 4.6
A71: 36 | C71: Margu reliņš O d=12*2,0 | D71: tek.m | E71: =4.6*3 -> 13.8
A72: 37 | C72: Palīgmateriāli | D72: kompl | E72: 1
C74: Tiešās izmaksas kopā, t.sk. Darba devēja sociālais nodoklis (23,59%) | L74: =SUM(L21:L73) -> 0 | M74: =SUM(M21:M73) -> 0 | N74: =SUM(N21:N73) -> 0 | O74: =SUM(O21:O73) -> 0 | P74: =SUM(P21:P73) -> 0
B76: Sastādīja: | C76: =KOPTAME!C58 -> 0 | E76: ='KOPS 1'!F42 -> 0
C77: (paraksts un tā atšifrējums, datums)
B81: Pārbaudīja: | C81: =KOPTAME!C63 -> 0 | E81: =E76 -> 0
C82: (paraksts un tā atšifrējums, datums)
C84: =KOPTAME!C68 -> 0
C86: =KOPTAME!C70 -> 0
