Workbook
Name Print_Area_0: 'KAPN 2'!$A$1:$P$60

Sheet KOPTAME
D1: 7. pielikums LBN 501-17
D2: Latvijas būvnormatīvam LBN 501-17
D3: "Būvizmaksu noteikšanas kārtība"
D4: (Apstiprināts ar Ministru kabineta
D5: 2017. gada 3. maija
D6: noteikumiem Nr. 239)
C7: APSTIPRINU
D8: (paraksts un tā atsifrejums)
D10: Z.v.
D12: 2024. gada __._______________
C13: BŪVNIECĪBAS KOPTĀME
A15: Objekta nosaukums: | C15: VALGUNDES PAGASTA PĀRVALDES ĒKAS ENERGOEFEKTIVITĀTES PAAGUSTINĀŠANA
A16: Būves nosaukums: | C16: VALGUNDES PAGASTA PĀRVALDES ĒKA
A17: Objekta adrese: | C17: CELTNIEKU IELA 35, VALGUNDE, JELGAVAS NOVADS
A18: Pasūtītājs: | C18: JELGAVAS NOVADA PAŠVALDĪBA
A19: Pasūtījuma Nr.: | C19: 23-019/3 (KPJ/2023/31-5)
A20: Pretendents:
B23: Nr. P.k. | C23: OBJEKTA NOSAUKUMS | D23: OBJEKTA IZMAKSAS (EURO)
B25: 1 | C25: VALGUNDES PAGASTA PĀRVALDES ĒKAS ENERGOEFEKTIVITĀTES PAAGUSTINĀŠANA | D25: ='KOPS 1'!F39 -> 0
C27: KOPĀ BEZ PVN 21% | D27: =SUM(D24:D26) -> 0
C28: PVN 21% | D28: =D27*0.21 -> 0
C29: PAVISAM KOPĀ AR PVN 21% | D29: =ROUND(D27+D28,2) -> 0
B31: Nr. P.k. | C31: OBJEKTA NOSAUKUMS | D31: OBJEKTA IZMAKSAS (EURO)
B33: 2 | C33: VALGUNDES PAGASTA PĀRVALDES ĒKAS DARBI, KAS NAV SAISTĪTI AR ENERGOEFEKTIVITĀTI | D33: ='KOPS 2'!F38 -> 0
C35: KOPĀ BEZ PVN 21% | D35: =SUM(D32:D34) -> 0
C36: PVN 21% | D36: =D35*0.21 -> 0
C37: PAVISAM KOPĀ AR PVN 21% | D37: =ROUND(D35+D36,2) -> 0
B39: Nr. P.k. | C39: OBJEKTA NOSAUKUMS | D39: OBJEKTA IZMAKSAS (EURO)
B41: 3 | C41: BŪVDARBI ĒKAS FUNKCIONĀLI SAISTĪTĀ TERITORIJĀ | D41: ='KOPS 3'!F27 -> 0
C43: KOPĀ BEZ PVN 21% | D43: =D41 -> 0
C44: PVN 21% | D44: =D43*0.21 -> 0
C45: PAVISAM KOPĀ AR PVN 21% | D45: =D43+D44 -> 0
B47: Nr. P.k. | C47: OBJEKTA NOSAUKUMS | D47: OBJEKTA IZMAKSAS (EURO)
B49: 1+2+3 | C49: VALGUNDES PAGASTA PĀRVALDES ĒKAS ENERGOEFEKTIVITĀTES PAAGUSTINĀŠANA (VISAS IZMAKSAS KOPĀ) | D49: =D41+D33+D25 -> 0
C51: KOPĀ BEZ PVN 21% | D51: =SUM(D48:D50) -> 0
C52: PVN 21% | D52: =ROUND(#REF!*0.21,2) -> #REF!
C53: PAVISAM KOPĀ AR PVN 21% | D53: =ROUND(D51+D52,2) -> #REF!
B58: Sastādīja:
C59: (paraksts un tā atsifrejums, datums)
B63: Pārbaudīja:
...

Sheet KOPS 1
H1: 6. pielikums LBN 501-17
D3: KOPSAVILKUMA APRĒĶINS Nr.1
D4: =KOPTAME!C15 -> VALGUNDES PAGASTA PĀRVALDES ĒKAS ENERGOEFEKTIVITĀTES PAAGUSTINĀŠANA
D5: (būvdarbu veids vai kosntruktīvā elementa nosaukums)
C7: Objekta nosaukums: | D7: =KOPTAME!C15 -> VALGUNDES PAGASTA PĀRVALDES ĒKAS ENERGOEFEKTIVITĀTES PAAGUSTINĀŠANA
C8: Būves nosaukums: | D8: =KOPTAME!C16 -> VALGUNDES PAGASTA PĀRVALDES ĒKA
C9: Objekta adrese: | D9: =KOPTAME!C17 -> CELTNIEKU IELA 35, VALGUNDE, JELGAVAS NOVADS
C10: Pasūtītājs: | D10: =KOPTAME!C18 -> JELGAVAS NOVADA PAŠVALDĪBA
C11: Pasūtījuma Nr.: | D11: =KOPTAME!C19 -> 23-019/3 (KPJ/2023/31-5)
C12: Pretendents: | D12: =KOPTAME!C20 -> 0
D14: Par kopējo summu (EURO) | E14: =F39 -> 0
D15: Kopēja darbietilpība (c/h) | E15: =J35 -> 0
A17: Nr. p.k | B17: Kods, tāme Nr. | C17: Saisinājums | D17: Būvdarbu veids vai konstruktīvā elementa nosaukums | F17: Tāmes izmaksa EUR | G17: Tai skaitā | J17: Darb-ietilpība c/h
G18: Darba alga EUR | H18: Būvizstrādājumi EUR | I18: Mehānismi EUR
A19: IZMAKSAS ĒKAS ENERGOEFEKTIVITĀTES UZLABOŠANAI
D20: 1. BŪVDARBI
A21: 1 | B21: 1--1 | C21: BS 1 | D21: BŪVLAUKUMA SAGATAVOŠANA UN UZTURĒŠANA
A22: 2 | B22: 1--2 | C22: DEM 1 | D22: DEMONTĀŽAS DARBI
A23: 3 | B23: 1--3 | C23: COK 1 | D23: COKOLA SILTINĀŠANA
A24: 4 | B24: 1--4 | C24: FAS 1 | D24: FASĀDES APDARE
A25: 5 | B25: 1--5 | C25: GRI 1 | D25: PIRMĀ STĀVA GRĪDAS IZBŪVE
A26: 6 | B26: 1--6 | C26: JUM 1 | D26: JUMTA IZBŪVE
A27: 7 | B27: 1–7 | C27: L D V 1 | D27: LOGI, DURVIS, VITRĪNAS
A28: 8 | B28: 1–8 | C28: APD 1 | D28: IEKŠĒJĀ APDARE
D29: 2. IEKŠĒJIE SPECIĀLIE BŪVDARBI
A30: 9 | B30: 2--1 | C30: APK 1 | D30: APKURE
A31: 10 | B31: 2--2 | C31: SM | D31: SILTUMMEZGLS
A32: 11 | B32: 2--3 | C32: VENT | D32: VENTILĀCIJA
A33: 12 | B33: 2–4 | C33: EL | D33: ELEKTROMONTĀŽAS DARBI
D35: KOPĀ | F35: =SUM(F21:F33) -> 0 | G35: =SUM(G21:G33) -> 0 | H35: =SUM(H21:H33) -> 0 | I35: =SUM(I21:I33) -> 0 | J35: =SUM(J21:J33) -> 0
D36: Virsizdevumi
D37: t.sk. Darba aizsardzība
D38: Peļņa
D39: Pavisam kopā
B42: Sastādīja: | D42: =KOPTAME!C58 -> 0 | F42: =KOPTAME!D58 -> 0
D43: (paraksts un tā atšifrējums, datums)
D45: =KOPTAME!C70 -> 0
B47: Pārbaudīja: | D47: =KOPTAME!C63 -> 0 | F47: =F42 -> 0
D48: (paraksts un tā atšifrējums, datums)
D50: =KOPTAME!C70 -> 0

Sheet BS 1
M1: 5. pielikums LBN 501-17
E3: LOKĀLA TĀME Nr. | I3: 1--1
D4: BŪVLAUKUMA SAGATAVOŠANA UN UZTURĒŠANA
D5: (Būvdarbu veids vai kosntruktīva elementa nosaukums)
A7: Objekta nosaukums: | C7: =KOPTAME!C15 -> VALGUNDES PAGASTA PĀRVALDES ĒKAS ENERGOEFEKTIVITĀTES PAAGUSTINĀŠANA
A8: Būves nosaukums: | C8: =KOPTAME!C16 -> VALGUNDES PAGASTA PĀRVALDES ĒKA
A9: Objekta adrese: | C9: =KOPTAME!C17 -> CELTNIEKU IELA 35, VALGUNDE, JELGAVAS NOVADS
A10: Pasūtītājs: | C10: =KOPTAME!C18 -> JELGAVAS NOVADA PAŠVALDĪBA
A11: Pasūtījuma Nr.: | C11: =KOPTAME!C19 -> 23-019/3 (KPJ/2023/31-5)
A12: Pretendents: | C12: =KOPTAME!C20 -> 0
A14: =KOPTAME!B22 -> 0 | M14: Tāmes izmaksas | P14: EURO
P16: =KOPTAME!C70 -> 0
A18: Nr. p.k. | B18: Kods | C18: Būvdarbu nosaukums | D18: Mērvienība | E18: Daudzums | F18: Vienības izmaksas | L18: Kopā uz visu apjomu
F19: Laika norma (c/h) | G19: Darba samaksas likme (EUR/h) | H19: Darba alga (EUR) | I19: Būvizstrādājumi (EUR) | J19: Mehānismi (EUR) | K19: Kopā (EUR) | L19: Darbietilpība (c/h) | M19: Darba alga (EUR) | N19: Būvizstrādājumi (EUR) | O19: Mehānismi (EUR) | P19: Summa (EUR)
A20: 1 | B20: 2 | C20: 3 | D20: 4 | E20: 5 | F20: 6 | G20: 7 | H20: 8 | I20: 9 | J20: 10 | K20: 11 | L20: 12 | M20: 13 | N20: 14 | O20: 15 | P20: 16
C21: 1. BŪVLAUKUMA SAGATAVOŠANA
A22: 1 | B22: Līgumcena | C22: Pagaidu būvžoga montāža, demontāža un noma | D22: tek.m | E22: 96
A23: 2 | B23: Līgumcena | C23: Drošības zīmes uz žoga | D23: kompl | E23: 12
A24: 3 | B24: Līgumcena | C24: Pagaidu vārtu 4 m montāža, demontāža un noma | D24: gab | E24: 2
A25: 4 | B25: Līgumcena | C25: Pagaidu vārtu 1 m montāža, demontāža un noma | D25: gab | E25: 2
A26: 5 | B26: Līgumcena | C26: WC kabīnes montāža | D26: kompl | E26: 1
A27: 6 | B27: Līgumcena | C27: Celtnieku konteinera piegāde, montāža, demontāža un aizvešana atpakaļ | D27: kompl | E27: 1
A28: 7 | B28: Līgumcena | C28: Ugunsdzēsības stends ar ugunsdzēšamo aparātu | D28: kompl | E28: 1
A29: 8 | B29: Līgumcena | C29: Būvtāfeles un informatīvās plāksnes izgatavošana un montāža | D29: kompl | E29: 1
A30: 9 | B30: Līgumcena | C30: Pagaidu elektropieslēguma izbūve | D30: kompl | E30: 1
A31: 10 | B31: Līgumcena | C31: Pagaidu elektropieslēguma kabeļa montāža | D31: tek.m | E31: 10
A32: 11 | B32: Līgumcena | C32: Būvlaukuma pagaidu apgaismojums | D32: gab | E32: 7
A33: 12 | B33: Līgumcena | C33: Fasādes sastatņu piegāde, montāža, demontāža ar sietu | D33: m2 | E33: 530
... A35: 14 | B35: Līgumcena | C35: Citi būvlaukuma ierīkošanas darbi | D35: cilv/st | E35: 8
C36: 2. BŪVLAUKUMA UZTURĒŠANA | D36: mēn. | E36: 4
A37: 1 | B37: Līgumcena | C37: WC kabīnes noma ar apkalpošanu 4 reizes mēnesī | D37: gab | E37: 1
A38: 2 | B38: Līgumcena | C38: Celtnieku konteinera noma | D38: kompl | E38: 1
A39: 3 | B39: Līgumcena | C39: Pagaidu žoga ar vārtiem noma | D39: kompl | E39: 1
A40: 4 | B40: Līgumcena | C40: Sastatņu noma | D40: m2 | E40: =E33 -> 530
A41: 5 | B41: Līgumcena | C41: Būvgružu savākšana, iekraušana konteineros, izvešana un utilizācija | D41: kont | E41: =E36/2 -> 2
C43: Tiešās izmaksas kopā, t.sk. Darba devēja sociālais nodoklis (23,59%) | L43: =SUM(L21:L42) -> 0 | M43: =SUM(M21:M42) -> 0 | N43: =SUM(N21:N42) -> 0 | O43: =SUM(O21:O42) -> 0 | P43: =SUM(P21:P42) -> 0
B45: Sastādīja: | C45: =KOPTAME!C58 -> 0 | E45: ='KOPS 1'!F42 -> 0
C46: (paraksts un tā atšifrējums, datums)
B50: Pārbaudīja: | C50: =KOPTAME!C63 -> 0 | E50: =E45 -> 0
C51: (paraksts un tā atšifrējums, datums)
...

Sheet DEM 1
M1: 5. pielikums LBN 501-17
E3: LOKĀLA TĀME Nr. | I3: 1--2
D4: DEMONTĀŽAS DARBI
D5: (Būvdarbu veids vai kosntruktīva elementa nosaukums)
A7: Objekta nosaukums: | C7: =KOPTAME!C15 -> VALGUNDES PAGASTA PĀRVALDES ĒKAS ENERGOEFEKTIVITĀTES PAAGUSTINĀŠANA
A8: Būves nosaukums: | C8: =KOPTAME!C16 -> VALGUNDES PAGASTA PĀRVALDES ĒKA
A9: Objekta adrese: | C9: =KOPTAME!C17 -> CELTNIEKU IELA 35, VALGUNDE, JELGAVAS NOVADS
A10: Pasūtītājs: | C10: =KOPTAME!C18 -> JELGAVAS NOVADA PAŠVALDĪBA
A11: Pasūtījuma Nr.: | C11: =KOPTAME!C19 -> 23-019/3 (KPJ/2023/31-5)
A12: Pretendents: | C12: =KOPTAME!C20 -> 0
A14: =KOPTAME!B22 -> 0 | M14: Tāmes izmaksas | P14: EURO
P16: =KOPTAME!C70 -> 0
A18: Nr. p.k. | B18: Kods | C18: Būvdarbu nosaukums | D18: Mērvienība | E18: Daudzums | F18: Vienības izmaksas | L18: Kopā uz visu apjomu
F19: Laika norma (c/h) | G19: Darba samaksas likme (EUR/h) | H19: Darba alga (EUR) | I19: Būvizstrādājumi (EUR) | J19: Mehānismi (EUR) | K19: Kopā (EUR) | L19: Darbietilpība (c/h) | M19: Darba alga (EUR) | N19: Būvizstrādājumi (EUR) | O19: Mehānismi (EUR) | P19: Summa (EUR)
A20: 1 | B20: 2 | C20: 3 | D20: 4 | E20: 5 | F20: 6 | G20: 7 | H20: 8 | I20: 9 | J20: 10 | K20: 11 | L20: 12 | M20: 13 | N20: 14 | O20: 15 | P20: 16
C21: 1. DEMONTĀŽAS DARBI.
A22: 1 | B22: Līgumcena | C22: Esošo logu rūpīga demontāža | D22: gab | E22: =6*2*2+4+2 -> 30
A23: 2 | B23: Līgumcena | C23: Logu ārējo palodžu demontāža | D23: tek.m | E23: =6*2*2*3+4*2.6+2*2 -> 86.4
A24: 3 | B24: Līgumcena | C24: Logu iekšējo palodžu demontāža | D24: tek.m | E24: =E23 -> 86.4
A25: 4 | B25: Līgumcena | C25: Esošo ārējo durvju rūpīga demontāža | D25: gab | E25: 3
A26: 5 | B26: Līgumcena | C26: Esošo iekšējo durvju ar klēdēm rūpīga demontāža | D26: gab | E26: =11+8 -> 19
A27: 6 | B27: Līgumcena | C27: Esošo logu un durvju ailes apdares demontāža | D27: tek.m | E27: =24*(3*2+1.8*1)+4*(2.6*2+0.9*2)+2*1.8*4+3*5.2+19*5 -> 340.2
A28: 7 | B28: Līgumcena | C28: Jumta seguma demontāža ar apakšklāju | D28: m2 | E28: =21.977*6.13*2 -> 269.43802
A29: 8 | B29: Līgumcena | C29: Jumta veja kastes demontāža | D29: tek.m | E29: =2*21.977 -> 43.954
A30: 9 | B30: Līgumcena | C30: Jumta skārda parapeta demontāža | D30: tek.m | E30: =2*10.4 -> 20.8
A31: 10 | B31: Līgumcena | C31: Jumta teknu demontāža | D31: tek.m | E31: =2*21.977 -> 43.954
A32: 11 | B32: Līgumcena | C32: Jumta noteku demontāža | D32: tek.m | E32: =4*6.5 -> 26
A33: 12 | B33: Līgumcena | C33: Pagalma puses uzjumteņa (S=~2,5 m2) demontāža ar metāla nesošām kolonnam | D33: kompl | E33: 1
A34: 13 | B34: Līgumcena | C34: Sānu puses uzjumteņa (S=~2,5 m2) demontāža ar metāla nesošām kolonnam | D34: kompl | E34: 1
A35: 14 | B35: Līgumcena | C35: Ieejas mezgla uzjumteņa jumta seguma rupīga demontāža | D35: m2 | E35: =3*2 -> 6
A36: 15 | B36: Līgumcena | C36: Ieejas mezgla uzjumteņa noteku un teknu rūpīga demontāža | D36: tek.m | E36: =3+2.9 -> 5.9
A37: 16 | B37: Līgumcena | C37: Pagalma puses betona lieveņu ar flīzēto virsmu demontāža (S=~5,6 m2, V=~2,8 m3) | D37: kompl | E37: 2
A38: 17 | B38: Līgumcena | C38: Fasādes puses betona lieveņu ar flīzēto virsmu demontāža (S=~10 m2, V=~4,5 m3) | D38: kompl | E38: 1
A39: 18 | B39: Līgumcena | C39: Ieejas mezglu lieveņū margu demontāža | D39: tek.m | E39: =1+2+2.8 -> 5.8
A40: 19 | B40: Līgumcena | C40: Esošo kondicionieru rūpīga demontāža uz būvdarbu laiku un montāža atpakaļ, paredzot jaunus stiprinājumus un kabeļu un cauruļu pagarināšana | D40: kompl | E40: 5
A41: 20 | B41: Līgumcena | C41: Esošo videokameru ar kabeļiem un palīgierīcem rūpīga demontāža uz būvdarbu laiku un montāža atpakaļ, paredzot jaunus stiprinājumus un kabeļu pagarināšanu | D41: kompl | E41: 4
A42: 21 | B42: Līgumcena | C42: Esošā bruģa seguma rūpīga demontāža | D42: m2 | E42: =(12+22)*0.5 -> 17
A43: 22 | B43: Līgumcena | C43: Esošas betona apmales rūpīga demontāža | D43: tek.m | E43: =11*2+22*2-2-1-4 -> 59
A44: 23 | B44: Līgumcena | C44: Esošo starpsienu demontāža, b=15 cm | D44: m2 | E44: =106+44 -> 150
A45: 24 | B45: Līgumcena | C45: Durvju ailu izveide | D45: vietas | E45: =2+2 -> 4
...

Sheet COK 1
M1: 5. pielikums LBN 501-17
E3: LOKĀLA TĀME Nr. | I3: 1--3
D4: COKOLA SILTINĀŠANA
D5: (Būvdarbu veids vai kosntruktīva elementa nosaukums)
A7: Objekta nosaukums: | C7: =KOPTAME!C15 -> VALGUNDES PAGASTA PĀRVALDES ĒKAS ENERGOEFEKTIVITĀTES PAAGUSTINĀŠANA
A8: Būves nosaukums: | C8: =KOPTAME!C16 -> VALGUNDES PAGASTA PĀRVALDES ĒKA
A9: Objekta adrese: | C9: =KOPTAME!C17 -> CELTNIEKU IELA 35, VALGUNDE, JELGAVAS NOVADS
A10: Pasūtītājs: | C10: =KOPTAME!C18 -> JELGAVAS NOVADA PAŠVALDĪBA
A11: Pasūtījuma Nr.: | C11: =KOPTAME!C19 -> 23-019/3 (KPJ/2023/31-5)
A12: Pretendents: | C12: =KOPTAME!C20 -> 0
A14: =KOPTAME!B22 -> 0 | M14: Tāmes izmaksas | O14: =P44 -> 0 | P14: EURO
P16: =KOPTAME!C70 -> 0
A18: Nr. p.k. | B18: Kods | C18: Būvdarbu nosaukums | D18: Mērvienība | E18: Daudzums | F18: Vienības izmaksas | L18: Kopā uz visu apjomu
F19: Laika norma (c/h) | G19: Darba samaksas likme (EUR/h) | H19: Darba alga (EUR) | I19: Būvizstrādājumi (EUR) | J19: Mehānismi (EUR) | K19: Kopā (EUR) | L19: Darbietilpība (c/h) | M19: Darba alga (EUR) | N19: Būvizstrādājumi (EUR) | O19: Mehānismi (EUR) | P19: Summa (EUR)
A20: 1 | B20: 2 | C20: 3 | D20: 4 | E20: 5 | F20: 6 | G20: 7 | H20: 8 | I20: 9 | J20: 10 | K20: 11 | L20: 12 | M20: 13 | N20: 14 | O20: 15 | P20: 16
C21: 1. COKOLA SILTINĀŠANA
A22: 1 | B22: Līgumcena | C22: Pamatu rūpīga atrakšana, dziļumā līdz 500 mm no grunts virsmas | D22: tek.m | E22: =21.977*2+10.4*2+0.35*4-8-2.5 -> 55.654
A23: 2 | B23: Līgumcena | C23: Pamatu virsmas tīrīšana | D23: m2 | E23: =E22*0.9 -> 50.0886
A24: 3 | B24: Līgumcena | C24: Pamatu virsmas gruntēšana, līdzināšana līdz 20 mm | D24: m2 | E24: =E23 -> 50.0886
A25: 4 | C25: Grunts | D25: l | E25: =E24*0.2*1.15 -> 11.520378
A26: 5 | C26: Apmetuma siets | D26: m2 | E26: =E24*1.2 -> 60.10632
A27: 6 | C27: Apmetuma java | D27: kg | E27: =E24*20*1.15 -> 1152.0378
A28: 7 | C28: Palīgmatereiali | D28: kompl | E28: 1
A29: 8 | B29: Līgumcena | C29: Jaunās hidroizolācijas divās kārtās izveide | D29: m2 | E29: =E24 -> 50.0886
A30: 9 | C30: Bitumena mastika | D30: kg | E30: =E29*2*1.1 -> 110.19492
A31: 10 | B31: Līgumcena | C31: Siltumizolācijas kārtas montāža (siltumvadītspēja 0,038 W/mK) | D31: m2 | E31: =E22 -> 55.654
A32: 11 | C32: Ekstrudēts putupolistirols, 100 mm | D32: m2 | E32: =E22*1*1.15 -> 64.0021
A33: 12 | C33: Putupolistirola montāžas stiprinājumi | D33: kompl | E33: 1
A34: 13 | C34: Bitumena līme | D34: kg | E34: =E31*2*1.1 -> 122.4388
A35: 14 | B35: Līgumcena | C35: Siltumizolācijas kārtas dubulta armēšana | D35: m2 | E35: =E31*2 -> 111.308
A36: 15 | C36: Stiklašķiedras siets | D36: m2 | E36: =E35*2*1.2 -> 267.1392
A37: 16 | C37: Stiklašķiedras stūris | D37: tek.m | E37: =28*1.2 -> 33.6
A38: 17 | C38: Līmjava | D38: kg | E38: =E35*5 -> 556.54
A39: 18 | B39: Līgumcena | C39: Cokola dekoratīva apmetuma izveide | D39: m2 | E39: =E22*0.55 -> 30.6097
A40: 19 | C40: Tonēts dekoratīvais apmetums | D40: kg | E40: =E39*3*1.15 -> 105.60347
A41: 20 | B41: Līgumcena | C41: Palīgmateriāli | D41: m2 | E41: =E23 -> 50.0886
A42: 21 | B42: Līgumcena | C42: Pamatu aizberšana ar esošo grunti, blietējot pa kārtām | D42: tek.m | E42: =E22 -> 55.654
C44: Tiešās izmaksas kopā, t.sk. Darba devēja sociālais nodoklis (23,59%) | L44: =SUM(L21:L43) -> 0 | M44: =SUM(M21:M43) -> 0 | N44: =SUM(N21:N43) -> 0 | O44: =SUM(O21:O43) -> 0 | P44: =SUM(P21:P43) -> 0
B46: Sastādīja: | C46: =KOPTAME!C58 -> 0 | E46: ='KOPS 1'!F42 -> 0
C47: (paraksts un tā atšifrējums, datums)
...

Sheet FAS 1
M1: 5. pielikums LBN 501-17
E3: LOKĀLA TĀME Nr. | I3: 1--4
D4: FASĀDES APDARE
D5: (Būvdarbu veids vai kosntruktīva elementa nosaukums)
A7: Objekta nosaukums: | C7: =KOPTAME!C15 -> VALGUNDES PAGASTA PĀRVALDES ĒKAS ENERGOEFEKTIVITĀTES PAAGUSTINĀŠANA
A8: Būves nosaukums: | C8: =KOPTAME!C16 -> VALGUNDES PAGASTA PĀRVALDES ĒKA
A9: Objekta adrese: | C9: =KOPTAME!C17 -> CELTNIEKU IELA 35, VALGUNDE, JELGAVAS NOVADS
A10: Pasūtītājs: | C10: =KOPTAME!C18 -> JELGAVAS NOVADA PAŠVALDĪBA
A11: Pasūtījuma Nr.: | C11: =KOPTAME!C19 -> 23-019/3 (KPJ/2023/31-5)
A12: Pretendents: | C12: =KOPTAME!C20 -> 0
A14: =KOPTAME!B22 -> 0 | M14: Tāmes izmaksas | O14: =P55 -> 0 | P14: EURO
P16: =KOPTAME!C70 -> 0
A18: Nr. p.k. | B18: Kods | C18: Būvdarbu nosaukums | D18: Mērvienība | E18: Daudzums | F18: Vienības izmaksas | L18: Kopā uz visu apjomu
F19: Laika norma (c/h) | G19: Darba samaksas likme (EUR/h) | H19: Darba alga (EUR) | I19: Būvizstrādājumi (EUR) | J19: Mehānismi (EUR) | K19: Kopā (EUR) | L19: Darbietilpība (c/h) | M19: Darba alga (EUR) | N19: Būvizstrādājumi (EUR) | O19: Mehānismi (EUR) | P19: Summa (EUR)
A20: 1 | B20: 2 | C20: 3 | D20: 4 | E20: 5 | F20: 6 | G20: 7 | H20: 8 | I20: 9 | J20: 10 | K20: 11 | L20: 12 | M20: 13 | N20: 14 | O20: 15 | P20: 16
C21: 1. FASĀDES APDARE | E21: =2*10.4*8.05+2*22*6.7-(83.61+2.32*2.72) -> 372.3196
A22: 1 | B22: Līgumcena | C22: Sienu virsmas tīrīšana, gruntēšana, līdzināšana līdz 20 mm | D22: m2 | E22: =E21 -> 372.3196
A23: 2 | C23: Grunts | D23: l | E23: =E22*0.2*1.15 -> 85.633508
A24: 3 | C24: Apmetuma siets | D24: m2 | E24: =E22*1.2 -> 446.78352
A25: 4 | C25: Apmetuma java | D25: kg | E25: =E22*15*1.15*2 -> 12845.026
A26: 5 | B26: Līgumcena | C26: Fasādes virsmas izlīdzināšana ar apmetumu poru aizveršanai, vidēji līdz 20 mm | D26: m2 | E26: =E22 -> 372.3196
A27: 6 | C27: Grunts | D27: l | E27: =E26*0.2*1.15 -> 85.633508
A28: 7 | C28: Apmetuma java | D28: kg | E28: =E26*15*1.15*2 -> 12845.026
A29: 8 | B29: Līgumcena | C29: Siltumizolācijas montāža, 150 mm | D29: m2 | E29: =E21 -> 372.3196
A30: 9 | C30: Grunts | D30: l | E30: =E29*0.12 -> 44.678352
A31: 10 | C31: Līmjava siltumizolācijas montāžai | D31: kg | E31: =E29*5*1.1 -> 2047.7578
A32: 11 | C32: Dībeļi | D32: gab | E32: =ROUND(E29*5.5,0) -> 2048
A33: 12 | C33: Fasādes vate, 150 mm, λ vērtība 0.036 | D33: m2 | E33: =E29*1.02 -> 379.76599
A34: 13 | B34: Līgumcena | C34: Siltumizolācijas armēšana | D34: m2 | E34: =E29 -> 372.3196
A35: 14 | C35: Grunts | D35: l | E35: =E34*0.12 -> 44.678352
A36: 15 | C36: Līmjava | D36: kg | E36: =E34*5*1.4 -> 2606.2372
A37: 16 | C37: Stiklašķiedras siets (dubulta kārta) | D37: m2 | E37: =E34*1.2*2 -> 893.56704
A38: 17 | C38: Stūris ēku siltināšanai | D38: tek.m | E38: =2*4.4+2*3.7 -> 16.2
A39: 18 | B39: Līgumcena | C39: Dekoratīvā apmetuma ierīkošana | D39: m2 | E39: =E29 -> 372.3196
A40: 19 | C40: Grunts | D40: l | E40: =E39*0.15 -> 55.84794
A41: 20 | C41: Tonēts apmetums | D41: kg | E41: =E39*3 -> 1116.9588
A42: 21 | B42: Līgumcena | C42: Cokola profila ar skārda lāseņi izgatavošana un montāža | D42: tek.m | E42: =22*2+10.4*2 -> 64.8
A43: 22 | B43: Līgumcena | C43: Profila ar skārda lāseņi izgatavošana un montāža virs siltumizolācijas, asīs 1 un asīs 2 | D43: tek.m | E43: =11*2 -> 22
A44: 23 | B44: Līgumcena | C44: Palīgdarbi un plaīgmateriāli | D44: m2 | E44: =E21 -> 372.3196
C45: 2. FASĀDES APDARE GALA SIENĀM JUMTA ZONĀ | E45: =10.4*1.5 -> 15.6
...

Sheet GRI 1
M1: 5. pielikums LBN 501-17
E3: LOKĀLA TĀME Nr. | I3: 1--5
D4: PIRMĀ STĀVA GRĪDAS IZBŪVE
D5: (Būvdarbu veids vai kosntruktīva elementa nosaukums)
A7: Objekta nosaukums: | C7: =KOPTAME!C15 -> VALGUNDES PAGASTA PĀRVALDES ĒKAS ENERGOEFEKTIVITĀTES PAAGUSTINĀŠANA
A8: Būves nosaukums: | C8: =KOPTAME!C16 -> VALGUNDES PAGASTA PĀRVALDES ĒKA
A9: Objekta adrese: | C9: =KOPTAME!C17 -> CELTNIEKU IELA 35, VALGUNDE, JELGAVAS NOVADS
A10: Pasūtītājs: | C10: =KOPTAME!C18 -> JELGAVAS NOVADA PAŠVALDĪBA
A11: Pasūtījuma Nr.: | C11: =KOPTAME!C19 -> 23-019/3 (KPJ/2023/31-5)
A12: Pretendents: | C12: =KOPTAME!C20 -> 0
A14: =KOPTAME!B22 -> 0 | M14: Tāmes izmaksas | O14: =P39 -> 0 | P14: EURO
P16: =KOPTAME!C70 -> 0
A18: Nr. p.k. | B18: Kods | C18: Būvdarbu nosaukums | D18: Mērvienība | E18: Daudzums | F18: Vienības izmaksas | L18: Kopā uz visu apjomu
F19: Laika norma (c/h) | G19: Darba samaksas likme (EUR/h) | H19: Darba alga (EUR) | I19: Būvizstrādājumi (EUR) | J19: Mehānismi (EUR) | K19: Kopā (EUR) | L19: Darbietilpība (c/h) | M19: Darba alga (EUR) | N19: Būvizstrādājumi (EUR) | O19: Mehānismi (EUR) | P19: Summa (EUR)
A20: 1 | B20: 2 | C20: 3 | D20: 4 | E20: 5 | F20: 6 | G20: 7 | H20: 8 | I20: 9 | J20: 10 | K20: 11 | L20: 12 | M20: 13 | N20: 14 | O20: 15 | P20: 16
C21: 1. GRĪDAS G-1 UN G-2 BETONĒŠANA
A22: 1 | B22: Līgumcena | C22: Smilts pamatnes izliīdzināšana, nepieciešamības gadījumā pieberšana, H=~100 mm | D22: m2 | E22: =120.02+49.8 -> 169.82
A23: 2 | C23: Smilts ar piegādi | D23: m3 | E23: =E22*0.1*1.3 -> 22.0766
A24: 3 | B24: Līgumcena | C24: Šķembu kārtas pieberšana, H=120 mm | D24: m2 | E24: =E22 -> 169.82
A25: 4 | C25: Šķembas ar piegādi | D25: m3 | E25: =E24*0.12*1.3 -> 26.49192
A26: 5 | B26: Līgumcena | C26: Grīdas plātnes betonēšana, H=80 mm | D26: m2 | E26: =E22 -> 169.82
A27: 6 | C27: Betons C20/25 | D27: m3 | E27: =E26*0.08*1.1 -> 14.94416
A28: 7 | C28: Betona piegāde | D28: reiss | E28: 2
A29: 8 | C29: Betona sūknis | D29: m/st | E29: 2
A30: 9 | B30: Līgumcena | C30: Siltumizolācijas kārtas izveide | D30: m2 | E30: =E22 -> 169.82
A31: 10 | C31: Ekstrudēts putupolistirols, H=100 mm | D31: m2 | E31: =E30*1.05 -> 178.311
A32: 11 | B32: Līgumcena | C32: Grīdas plātnes betonēšana, H=50 mm | D32: m2 | E32: =E22 -> 169.82
A33: 12 | C33: Polipropilēna skaidas (armējums) | D33: m2 | E33: =E32 -> 169.82
A34: 13 | C34: Betons C20/25 | D34: m3 | E34: =E32*0.06*1.1 -> 11.20812
A35: 14 | C35: Betona piegāde | D35: reiss | E35: 2
A36: 15 | C36: Betona sūknis | D36: m/st | E36: 2
A37: 16 | C37: Citi palīgmateriāli | D37: kompl | E37: 1
C39: Tiešās izmaksas kopā, t.sk. Darba devēja sociālais nodoklis (23,59%) | L39: =SUM(L21:L38) -> 0 | M39: =SUM(M21:M38) -> 0 | N39: =SUM(N21:N38) -> 0 | O39: =SUM(O21:O38) -> 0 | P39: =SUM(P21:P38) -> 0
B41: Sastādīja: | C41: =KOPTAME!C58 -> 0 | E41: ='KOPS 1'!F42 -> 0
C42: (paraksts un tā atšifrējums, datums)
B46: Pārbaudīja: | C46: =KOPTAME!C63 -> 0 | E46: =E41 -> 0
C47: (paraksts un tā atšifrējums, datums)
C49: =KOPTAME!C68 -> 0
C51: =KOPTAME!C70 -> 0

Sheet JUM 1
M1: 5. pielikums LBN 501-17
E3: LOKĀLA TĀME Nr. | I3: 1--6
D4: JUMTA IZBŪVE
D5: (Būvdarbu veids vai kosntruktīva elementa nosaukums)
A7: Objekta nosaukums: | C7: =KOPTAME!C15 -> VALGUNDES PAGASTA PĀRVALDES ĒKAS ENERGOEFEKTIVITĀTES PAAGUSTINĀŠANA
A8: Būves nosaukums: | C8: =KOPTAME!C16 -> VALGUNDES PAGASTA PĀRVALDES ĒKA
A9: Objekta adrese: | C9: =KOPTAME!C17 -> CELTNIEKU IELA 35, VALGUNDE, JELGAVAS NOVADS
A10: Pasūtītājs: | C10: =KOPTAME!C18 -> JELGAVAS NOVADA PAŠVALDĪBA
A11: Pasūtījuma Nr.: | C11: =KOPTAME!C19 -> 23-019/3 (KPJ/2023/31-5)
A12: Pretendents: | C12: =KOPTAME!C20 -> 0
A14: =KOPTAME!B22 -> 0 | M14: Tāmes izmaksas | O14: =P56 -> 0 | P14: EURO
P16: =KOPTAME!C70 -> 0
A18: Nr. p.k. | B18: Kods | C18: Būvdarbu nosaukums | D18: Mērvienība | E18: Daudzums | F18: Vienības izmaksas | L18: Kopā uz visu apjomu
F19: Laika norma (c/h) | G19: Darba samaksas likme (EUR/h) | H19: Darba alga (EUR) | I19: Būvizstrādājumi (EUR) | J19: Mehānismi (EUR) | K19: Kopā (EUR) | L19: Darbietilpība (c/h) | M19: Darba alga (EUR) | N19: Būvizstrādājumi (EUR) | O19: Mehānismi (EUR) | P19: Summa (EUR)
A20: 1 | B20: 2 | C20: 3 | D20: 4 | E20: 5 | F20: 6 | G20: 7 | H20: 8 | I20: 9 | J20: 10 | K20: 11 | L20: 12 | M20: 13 | N20: 14 | O20: 15 | P20: 16
C21: 1. JUMTA REMONTS. AR-3, AR-5, AR-6
A22: 1 | B22: Līgumcena | C22: Bēniņu iztīrīšana | D22: m2 | E22: =21*(9.15) -> 192.15
A23: 2 | B23: Līgumcena | C23: Esošās siltumizolācijas kārtas sakārtošana | D23: m2 | E23: =E22 -> 192.15
A24: 3 | B24: Līgumcena | C24: Koka laipas izgatavošana uz koka paliktniem, dēli 40 mm, koka laipas karkass 50*100 mm, H=300 mm, ar soli 600 mm. Laipas platums 800 mm | D24: tek.m | E24: 42
A25: 4 | C25: Antiseptizēts kokmateriāls laipas karkasam, 50*100 mm | D25: m3 | E25: =(0.3*2+0.8*2)*0.05*0.1*1.15*E24/0.6 -> 0.8855
A26: 5 | C26: Antiseptizēts kokmateriāls laipas karkasam, 100*200 mm | D26: m4 | E26: =E24*0.1*0.2*1.15 -> 0.966
A27: 6 | C27: Antiseptizēts kokmateriāls laipai, 25*100 mm | D27: m3 | E27: =E24*0.8*0.04*1.15 -> 1.5456
A28: 7 | C28: Montāžas materiāli (hidroizolācijas kārta zem koka gulšņiem, stiprinājumi utt.) | D28: kompl | E28: 1
A29: 8 | B29: Līgumcena | C29: Siltumizolācijas uzklāšana uz esošās siltumizolācijas | D29: m2 | E29: =(2.76+0.38+5.72+0.38+2.8+0.15+2.8+0.38+2.36+0.2+3.14)*(4.1+3.05+1.38+0.2*2) -> 188.1551
A30: 9 | C30: Beramvate, h=300 mm | D30: m3 | E30: =E29*0.3*1.05 -> 59.268857
A31: 10 | B31: Līgumcena | C31: Pretvēja izolācijas ieklāšana | D31: m2 | E31: =E29 -> 188.1551
A32: 11 | C32: Pretvēja izolācijas plēve | D32: m2 | E32: =E31*1.25 -> 235.19387
A33: 12 | B33: Līgumcena | C33: Esošo koka siju remonts 10% un apstrāde ar antiseptizēto sastāvu | D33: m2 | E33: =21.977*6.13*2 -> 269.43802
A34: 13 | C34: Antiseptizēts kokmateriāls, 50*200 mm | D34: m3 | E34: =E33*0.05*0.2*1.15*2*0.1 -> 0.61970745
A35: 14 | C35: Antiseptizēts sastāvs | D35: l | E35: =E33*2*0.5*0.35*1.15 -> 108.4488
A36: 15 | C36: Montāžas materiāli | D36: kompl | E36: 1
A37: 16 | B37: Līgumcena | C37: Esošā koka latojuma remonts, 30 % | D37: m2 | E37: =E33 -> 269.43802
A38: 17 | C38: Antiseptizēts kokmateriāls, 50*50 mm | D38: m3 | E38: =E37*0.05*0.05*3*1.15*0.3 -> 0.69717088
A39: 18 | C39: Mitrumizturīgs finieris 18 mm virs vates | D39: m2 | E39: =2*21.977*1.15 -> 50.5471
A40: 19 | C40: Montāžas materiāli | D40: kompl | E40: 1
A41: 20 | B41: Līgumcena | C41: Jumta seguma montāža | D41: m2 | E41: =E33 -> 269.43802
A42: 21 | C42: Jumta segums, bezasbesta loksnes, Eternit | D42: m2 | E42: =E41*1.15 -> 309.85372
A43: 22 | C43: Skārda elementi (kore, pieslēgumi pie sienām utt.) | D43: tek.m | E43: =22+10.4*2+10 -> 52.8
A44: 23 | C44: Montāžas materiāli | D44: kompl | E44: 1
A45: 24 | B45: Līgumcena | C45: Vējkastes apšuvuma izveide ar krāsotiem dēļiem | D45: tek.m | E45: =2*21.977 -> 43.954
...

Sheet L D V 1
M1: 5. pielikums LBN 501-17
E3: LOKĀLA TĀME Nr. | I3: 1--7
D4: LOGI, DURVIS, VITRĪNAS
D5: (Būvdarbu veids vai kosntruktīva elementa nosaukums)
A7: Objekta nosaukums: | C7: =KOPTAME!C15 -> VALGUNDES PAGASTA PĀRVALDES ĒKAS ENERGOEFEKTIVITĀTES PAAGUSTINĀŠANA
A8: Būves nosaukums: | C8: =KOPTAME!C16 -> VALGUNDES PAGASTA PĀRVALDES ĒKA
A9: Objekta adrese: | C9: =KOPTAME!C17 -> CELTNIEKU IELA 35, VALGUNDE, JELGAVAS NOVADS
A10: Pasūtītājs: | C10: =KOPTAME!C18 -> JELGAVAS NOVADA PAŠVALDĪBA
A11: Pasūtījuma Nr.: | C11: =KOPTAME!C19 -> 23-019/3 (KPJ/2023/31-5)
A12: Pretendents: | C12: =KOPTAME!C20 -> 0
A14: =KOPTAME!B22 -> 0 | M14: Tāmes izmaksas | O14: =P53 -> 0 | P14: EURO
P16: =KOPTAME!C70 -> 0
A18: Nr. p.k. | B18: Kods | C18: Būvdarbu nosaukums | D18: Mērvienība | E18: Daudzums | F18: Vienības izmaksas | L18: Kopā uz visu apjomu
F19: Laika norma (c/h) | G19: Darba samaksas likme (EUR/h) | H19: Darba alga (EUR) | I19: Būvizstrādājumi (EUR) | J19: Mehānismi (EUR) | K19: Kopā (EUR) | L19: Darbietilpība (c/h) | M19: Darba alga (EUR) | N19: Būvizstrādājumi (EUR) | O19: Mehānismi (EUR) | P19: Summa (EUR)
A20: 1 | B20: 2 | C20: 3 | D20: 4 | E20: 5 | F20: 6 | G20: 7 | H20: 8 | I20: 9 | J20: 10 | K20: 11 | L20: 12 | M20: 13 | N20: 14 | O20: 15 | P20: 16
C21: 1. LOGI. AR-2, AR-9
A22: 1 | B22: Līgumcena | C22: Logs L-1, 1600*1800 mm (L*H), ar izgatavošanu, piegādi un montāžu. 3-kārša stikla pakete PVC rāmi, vērmas/gāžams, krāsa pelēka/balta. U mazāk 0,90 W/m2K | D22: gab | E22: 23
A23: 2 | B23: Līgumcena | C23: Logs L-2, 1000*1800 mm (L*H), ar izgatavošanu, piegādi un montāžu. 3-kārša stikla pakete PVC rāmi, vērmas/gāžams, krāsa pelēka/balta. U mazāk 0,90 W/m2K | D23: gab | E23: 4
A24: 3 | B24: Līgumcena | C24: Logs L-3, 2600*900 mm (L*H), ar izgatavošanu, piegādi un montāžu. 3-kārša stikla pakete PVC rāmi, vērmas/gāžams, krāsa pelēka/balta. U mazāk 0,90 W/m2K | D24: gab | E24: 3
A25: 4 | B25: Līgumcena | C25: Logs L-4, 1800*1800 mm (L*H), ar izgatavošanu, piegādi un montāžu. 3-kārša stikla pakete PVC rāmi, vērmas/gāžams, krāsa pelēka/balta. U mazāk 0,90 W/m2K | D25: gab | E25: 1
A26: 5 | B26: Līgumcena | C26: Antiseptizēto koku siju montāža logu rāmim (100*100 mm, L=1600 mm 46 gab; L=1000 mm 8 gab; L=2500 mm 6 gab; L=1900 mm 2 gab) | D26: m3 | E26: =0.1*0.1*(1.6*46+1*8+2.5*6+1.9*2) -> 1.004
A27: 6 | B27: Līgumcena | C27: Metāla caurumotas plāksnes, L280*90*2,5 mm | D27: gab | E27: 246
A28: 7 | B28: Līgumcena | C28: Metāla caurumotas plāksnes, L90*90*2,5 mm | D28: gab | E28: 246
A29: 8 | B29: Līgumcena | C29: Logu iebūves ārsienas siltumizolācijas zonā tipveida kronšteini | D29: gab | E29: 330
A30: 9 | C30: Stiprinājumi, dībeļi utt metāla plākšņu stiprināšanai | D30: kompl | E30: 1
A31: 10 | B31: Līgumcena | C31: Tvaika necaurlaidīga lentas montāža | D31: tek.m | E31: =E22*(1.8*1.6*2)+E23*(1.8*2+1*2)+E24*(2.5*2+0.9*2)+E25*(1.8*2+1.9*2) -> 182.68
A32: 11 | B32: Līgumcena | C32: Loga blīvējošās lentas montāža | D32: tek.m | E32: =E31 -> 182.68
A33: 12 | B33: Līgumcena | C33: Difūzijas lentas montāža | D33: tek.m | E33: =E31 -> 182.68
A34: 13 | B34: Līgumcena | C34: MDF vai PVC palodzes montāža, b=300 mm | D34: tek.m | E34: =E22*1.6+E23*1+E24*2.6+E25*1.8 -> 50.4
A35: 14 | B35: Līgumcena | C35: Ārējas skārda palodzes montāža, b=300 mm | D35: tek.m | E35: =E34 -> 50.4
A36: 15 | C36: Palīgmateriāli | D36: gab | E36: =SUM(E22:E25) -> 31
A37: 16 | B37: Līgumcena | C37: Logu ailu apdare no iekšpuses | D37: tek.m | E37: =E31-E34 -> 132.28
A38: 17 | B38: Līgumcena | C38: Logu ailu apdare no ārpuses | D38: tek.m | E38: =E37 -> 132.28
C39: 2. DURVIS. AR-2
A40: 1 | B40: Līgumcena | C40: Durvis D-1, 1000*2100 mm (L*H), ar izgatavošanu, piegādi un montāžu. PVC rāmis, 2-kāršu stiklojums. Krāsa — pelēks/pelēks. Slēdzene, el.kartiņa, līmlentes 5 gab. | D40: gab | E40: 17
A41: 2 | B41: Līgumcena | C41: Durvis D-2, 900*2100 mm (L*H), ar izgatavošanu, piegādi un montāžu. PVC rāmis, matēts stiklojums. Krāsa — pelēks/pelēks. Slēdzene, el.kartiņa. | D41: gab | E41: 3
A42: 3 | B42: Līgumcena | C42: Ārdurvis D-3, 1000*2100 mm (L*H), ar izgatavošanu, piegādi un montāžu. PVC rāmis, 3-kāršu stiklojums, siltinātas, slēdzene, durvju aizvērējs. U mazāks 1,1 W/m2K. Krāsa - pelēks/pelēks. 5 līmlentas | D42: gab | E42: 1
A43: 4 | B43: Līgumcena | C43: Ārdurvju iebūves ārsienas siltumizolācijas zonā tipveida kronšteini | D43: kompl | E43: =E42 -> 1
A44: 5 | C44: Palīgmateriāli | D44: gab | E44: =SUM(E40:E42) -> 21
A45: 6 | B45: Līgumcena | C45: Durvju ailu apdare no abām pusem, ieskaitot kleidu montāžu no vienas puses | D45: tek.m | E45: =E40*5.2+E41*5.1+E42*5.2 -> 108.9
...

Sheet APD 1
M1: 5. pielikums LBN 501-17
E3: LOKĀLA TĀME Nr. | I3: 1--8
D4: IEKŠĒJĀ APDARE
D5: (Būvdarbu veids vai kosntruktīva elementa nosaukums)
A7: Objekta nosaukums: | C7: =KOPTAME!C15 -> VALGUNDES PAGASTA PĀRVALDES ĒKAS ENERGOEFEKTIVITĀTES PAAGUSTINĀŠANA
A8: Būves nosaukums: | C8: =KOPTAME!C16 -> VALGUNDES PAGASTA PĀRVALDES ĒKA
A9: Objekta adrese: | C9: =KOPTAME!C17 -> CELTNIEKU IELA 35, VALGUNDE, JELGAVAS NOVADS
A10: Pasūtītājs: | C10: =KOPTAME!C18 -> JELGAVAS NOVADA PAŠVALDĪBA
A11: Pasūtījuma Nr.: | C11: =KOPTAME!C19 -> 23-019/3 (KPJ/2023/31-5)
A12: Pretendents: | C12: =KOPTAME!C20 -> 0
A14: =KOPTAME!B22 -> 0 | M14: Tāmes izmaksas | O14: =P127 -> 0 | P14: EURO
P16: =KOPTAME!C70 -> 0
A18: Nr. p.k. | B18: Kods | C18: Būvdarbu nosaukums | D18: Mērvienība | E18: Daudzums | F18: Vienības izmaksas | L18: Kopā uz visu apjomu
F19: Laika norma (c/h) | G19: Darba samaksas likme (EUR/h) | H19: Darba alga (EUR) | I19: Būvizstrādājumi (EUR) | J19: Mehānismi (EUR) | K19: Kopā (EUR) | L19: Darbietilpība (c/h) | M19: Darba alga (EUR) | N19: Būvizstrādājumi (EUR) | O19: Mehānismi (EUR) | P19: Summa (EUR)
A20: 1 | B20: 2 | C20: 3 | D20: 4 | E20: 5 | F20: 6 | G20: 7 | H20: 8 | I20: 9 | J20: 10 | K20: 11 | L20: 12 | M20: 13 | N20: 14 | O20: 15 | P20: 16
C21: 1. GRĪDA G-1.
A22: 1 | B22: Līgumcena | C22: Grīdas apakškārtas tīrīšana, gruntēšana, špaktelēšana | D22: m2 | E22: =120.02*0+115.8 -> 115.8
A23: 2 | C23: Grunts | D23: l | E23: =E22*0.2*1.15 -> 26.634
A24: 3 | C24: Grīdas izlīdzinošais sastāvs, līdz 5 mm | D24: kg | E24: =E22*1.8*5*1.1 -> 1146.42
A25: 4 | C25: Palīgmateriāli | D25: m2 | E25: =E22 -> 115.8
A26: 5 | B26: Līgumcena | C26: Linoleja seguma ieklāšana | D26: m2 | E26: =E22 -> 115.8
A27: 6 | C27: Nodilumizturīgs linolejs (linolejs Forbo Marmoleum Solid vai analogs, R9, 43.klase, biezums 2,5 mm, iespiedums 0,08 mm) vai ekvivalents | D27: m2 | E27: =E26*1.2 -> 138.96
A28: 7 | C28: Līme UZIN vai ekvivalents | D28: kg | E28: =E26*0.35*1.1 -> 44.583
A29: 8 | C29: Aukla/diegs | D29: tek.m | E29: =E26*0.7*1.1 -> 89.166
C30: 2. GRĪDA G-2.
A31: 1 | B31: Līgumcena | C31: Grīdas hidroizolācijas izveide | D31: m2 | E31: =49.8*0+54.02 -> 54.02
A32: 2 | B32: Līgumcena | C32: Grīdas flīzēšana | D32: m2 | E32: =E31 -> 54.02
A33: 3 | C33: Flīzes, PEI 5, R10 vai ekvivalents | D33: m2 | E33: =E32*1.15 -> 62.123
A34: 4 | C34: Līmjava | D34: kg | E34: =E32*5*1.1 -> 297.11
A35: 5 | C35: Palīgmateriāli | D35: m2 | E35: =E32 -> 54.02
C36: 3. GRĪDA KĀPŅU ZONĀ un G-10
A37: 1 | B37: Līgumcena | C37: Grīdas flīzēšana | D37: m2 | E37: 7.4
A38: 2 | C38: Flīzes PEI 5, R10 (200*200 mm, 500*250 mm) vai ekvivalents | D38: m2 | E38: =E37*1.15 -> 8.51
A39: 3 | C39: Līmjava | D39: kg | E39: =E37*5*1.1 -> 40.7
A40: 4 | C40: Palīgmateriāli | D40: m2 | E40: =E37 -> 7.4
A41: 5 | B41: Līgumcena | C41: Nodilumizturīga dekoratīvo pārslu seguma Peran floor flakes izveide vai ekvivalents | D41: m2 | E41: 15
C42: 4. GRĪDA G-11.
A43: 1 | B43: Līgumcena | C43: Grīdas apakškārtas tīrīšana, gruntēšana, špaktelēšana | D43: m2 | E43: 93.79
A44: 2 | C44: Grunts | D44: l | E44: =E43*0.2*1.15 -> 21.5717
A45: 3 | C45: Grīdas izlīdzinošais sastāvs, līdz 5 mm | D45: kg | E45: =E43*1.8*5*1.1 -> 928.521
...

Sheet APK 1
M1: 5. pielikums LBN 501-17
E2: LOKĀLA TĀME Nr. | I2: 2--1
D3: APKURE
D4: (Būvdarbu veids vai kosntruktīva elementa nosaukums)
A6: Objekta nosaukums: | C6: =KOPTAME!C15 -> VALGUNDES PAGASTA PĀRVALDES ĒKAS ENERGOEFEKTIVITĀTES PAAGUSTINĀŠANA
A7: Būves nosaukums: | C7: =KOPTAME!C16 -> VALGUNDES PAGASTA PĀRVALDES ĒKA
A8: Objekta adrese: | C8: =KOPTAME!C17 -> CELTNIEKU IELA 35, VALGUNDE, JELGAVAS NOVADS
A9: Pasūtītājs: | C9: =KOPTAME!C18 -> JELGAVAS NOVADA PAŠVALDĪBA
A10: Pasūtījuma Nr.: | C10: =KOPTAME!C19 -> 23-019/3 (KPJ/2023/31-5)
A11: Pretendents: | C11: =KOPTAME!C20 -> 0
A13: =KOPTAME!B22 -> 0 | M13: Tāmes izmaksas | O13: =P47 -> 0 | P13: EURO
P15: =KOPTAME!C70 -> 0
A17: Nr. p.k. | B17: Kods | C17: Būvdarbu nosaukums | D17: Mērvienība | E17: Daudzums | F17: Vienības izmaksas | L17: Kopā uz visu apjomu
F18: Laika norma (c/h) | G18: Darba samaksas likme (EUR/h) | H18: Darba alga (EUR) | I18: Būvizstrādājumi (EUR) | J18: Mehānismi (EUR) | K18: Kopā (EUR) | L18: Darbietilpība (c/h) | M18: Darba alga (EUR) | N18: Būvizstrādājumi (EUR) | O18: Mehānismi (EUR) | P18: Summa (EUR)
A19: 1 | B19: 2 | C19: 3 | D19: 4 | E19: 5 | F19: 6 | G19: 7 | H19: 8 | I19: 9 | J19: 10 | K19: 11 | L19: 12 | M19: 13 | N19: 14 | O19: 15 | P19: 16
C20: 1. APKURE
A21: 1 | B21: Līgumcena | C21: Tērauda plākšņu radiators “Purmo Compact” ar sānu pieslēgumu un sienas stiprinājumu kronšteiniem (Purmo), 22/500/400. vai ekvivalents | D21: kompl | E21: 1
A22: 2 | B22: Līgumcena | C22: Tērauda plākšņu radiators “Purmo Compact” ar sānu pieslēgumu un sienas stiprinājumu kronšteiniem (Purmo), 22/500/600. vai ekvivalents | D22: kompl | E22: 6
A23: 3 | B23: Līgumcena | C23: Tērauda plākšņu radiators “Purmo Compact” ar sānu pieslēgumu un sienas stiprinājumu kronšteiniem (Purmo), 22/900/400. vai ekvivalents | D23: kompl | E23: 1
A24: 4 | B24: Līgumcena | C24: Tērauda plākšņu radiators “Purmo Compact” ar sānu pieslēgumu un sienas stiprinājumu kronšteiniem (Purmo), 22/900/600. vai ekvivalents | D24: kompl | E24: 1
A25: 5 | B25: Līgumcena | C25: Tērauda plākšņu radiators “Purmo Compact” ar sānu pieslēgumu un sienas stiprinājumu kronšteiniem (Purmo), 21/500/400. vai ekvivalents | D25: kompl | E25: 4
A26: 6 | B26: Līgumcena | C26: Tērauda plākšņu radiators “Purmo Compact” ar sānu pieslēgumu un sienas stiprinājumu kronšteiniem (Purmo), 21/500/500. vai ekvivalents | D26: kompl | E26: 1
A27: 7 | B27: Līgumcena | C27: Tērauda plākšņu radiators “Purmo Compact” ar sānu pieslēgumu un sienas stiprinājumu kronšteiniem (Purmo), 21/500/600. vai ekvivalents | D27: kompl | E27: 1
A28: 8 | B28: Līgumcena | C28: Radiatora termostatiskais vārsts DN15,taisns (Danfoss), RTD-N15 vai ekvivalents | D28: gab | E28: 28
A29: 9 | B29: Līgumcena | C29: Elektriskā bezvadu radiatora vārsta regulators (M130 baterija)/SIA “Mesh Energ.” vai ekvivalents | D29: gab | E29: 28
A30: 10 | B30: Līgumcena | C30: Noslēgvārsts DN15,taisns (Danfoss), RLV-15 vai ekvivalents | D30: gab | E30: 28
A31: 11 | B31: Līgumcena | C31: Balansēšanas ventilis “Hydro Control R” (Oventrop), DN20 vai ekvivalents | D31: gab | E31: 2
A32: 12 | B32: Līgumcena | C32: Lodveida ventilis “I-I” 3/4” (Rastelli), DN20 vai ekvivalents | D32: gab | E32: 2
... A45: 25 | B45: Līgumcena | C45: Lokālais vadības panelis ar CO2 devēju LRCS21 SIA „Mesh Energ.“, 19.00000 vai ekvivalents | D45: gab | E45: 17
C47: Tiešās izmaksas kopā, t.sk. Darba devēja sociālais nodoklis (23,59%) | L47: =SUM(L21:L46) -> 0 | M47: =SUM(M21:M46) -> 0 | N47: =SUM(N21:N46) -> 0 | O47: =SUM(O21:O46) -> 0 | P47: =SUM(P21:P46) -> 0
B49: Sastādīja: | C49: =KOPTAME!C58 -> 0 | E49: ='KOPS 1'!F42 -> 0
C50: (paraksts un tā atšifrējums, datums)
B54: Pārbaudīja: | C54: =KOPTAME!C63 -> 0 | E54: =E49 -> 0
C55: (paraksts un tā atšifrējums, datums)
C57: =KOPTAME!C68 -> 0
C59: =KOPTAME!C70 -> 0

Sheet SM 1
M1: 5. pielikums LBN 501-17
E2: LOKĀLA TĀME Nr. | I2: 2--2
D3: SILTUMMEZGLS
D4: (Būvdarbu veids vai kosntruktīva elementa nosaukums)
A6: Objekta nosaukums: | C6: =KOPTAME!C15 -> VALGUNDES PAGASTA PĀRVALDES ĒKAS ENERGOEFEKTIVITĀTES PAAGUSTINĀŠANA
A7: Būves nosaukums: | C7: =KOPTAME!C16 -> VALGUNDES PAGASTA PĀRVALDES ĒKA
A8: Objekta adrese: | C8: =KOPTAME!C17 -> CELTNIEKU IELA 35, VALGUNDE, JELGAVAS NOVADS
A9: Pasūtītājs: | C9: =KOPTAME!C18 -> JELGAVAS NOVADA PAŠVALDĪBA
A10: Pasūtījuma Nr.: | C10: =KOPTAME!C19 -> 23-019/3 (KPJ/2023/31-5)
A11: Pretendents: | C11: =KOPTAME!C20 -> 0
A13: =KOPTAME!B22 -> 0 | M13: Tāmes izmaksas | O13: =P74 -> 0 | P13: EURO
P15: =KOPTAME!C70 -> 0
A17: Nr. p.k. | B17: Kods | C17: Būvdarbu nosaukums | D17: Mērvienība | E17: Daudzums | F17: Vienības izmaksas | L17: Kopā uz visu apjomu
F18: Laika norma (c/h) | G18: Darba samaksas likme (EUR/h) | H18: Darba alga (EUR) | I18: Būvizstrādājumi (EUR) | J18: Mehānismi (EUR) | K18: Kopā (EUR) | L18: Darbietilpība (c/h) | M18: Darba alga (EUR) | N18: Būvizstrādājumi (EUR) | O18: Mehānismi (EUR) | P18: Summa (EUR)
A19: 1 | B19: 2 | C19: 3 | D19: 4 | E19: 5 | F19: 6 | G19: 7 | H19: 8 | I19: 9 | J19: 10 | K19: 11 | L19: 12 | M19: 13 | N19: 14 | O19: 15 | P19: 16
C20: 1. SILTUMMEZGLS
A21: 1 | B21: Līgumcena | C21: Apkures siltummainis (bez vara pievienojuma) 30 kW, ar izolāciju (Alfa Laval), CB62AQ-22AH-F vai ekvivalents | D21: kompl | E21: 1
A22: 2 | B22: Līgumcena | C22: Cirkulācijas sūknis 1,33 m3/h 5,4 m H2O (Grundfos), UPM3 AUTO 15-70-130(P2) vai ekvivalents | D22: gab | E22: 1
A23: 3 | B23: Līgumcena | C23: Izplešanās trauks apkurei ERCE-24; 6 bar; 24 litri( Akvedukts), 771008 vai ekvivalents | D23: gab | E23: 1
A24: 4 | B24: Līgumcena | C24: Reg.vārsts apkurei DN/Kv.s-15/1,6;0,83 m3/h +motors 1 f-230 V(Siemens), VVG549.15-1,6(CV2,1)+SAS31.00 vai ekvivalents | D24: gab | E24: 1
A25: 5 | B25: Līgumcena | C25: Reg.vārsts apkurei DN/Kv.s-15/1,6;0,83 m3/h +motors 1 f-230 V(Siemens), VVG549.15-1,6(CV2,1)+SAS31.00 vai ekvivalents | D25: gab | E25: 1
A26: 6 | B26: Līgumcena | C26: Kontrolieris, komplektā ar karti, āra gaisa, ūdens temperatūras sensoriem( Danfos), ECL210+266 vai ekvivalents | D26: kompl | E26: 1
A27: 7 | B27: Līgumcena | C27: K.Ū.tvertne 100 l (Sw250), grīdas ar sildcaurulēm (0,8 m2) KOSPEL (santehnika.lv), SW100 vai ekvivalents | D27: gab | E27: 1
A28: 8 | B28: Līgumcena | C28: Elektriskais tents 230 V K6/4” ar termostatu 1,5 kW (santehnika.lv) vai ekvivalents | D28: kompl | E28: 1
A29: 9 | B29: Līgumcena | C29: K.ū.cirkulācijas sūknis 0,47 m3/h;3m H2O 1 fāze 230 V 0,05 kW (Grundfos), UPM3 DH-W15-30-130(P1) vai ekvivalents | D29: gab | E29: 1
A30: 10 | B30: Līgumcena | C30: Drošības vārsts 6 bar DN15(Akvedukts), 990028 vai ekvivalents | D30: gab | E30: 2
A31: 11 | B31: Līgumcena | C31: Kapes ventilis 3/4” i-i, 1990281 | D31: gab | E31: 1
A32: 12 | B32: Līgumcena | C32: Karstā ūdens skaitītājs 1,5 m3/h (Zenner), ETKD 1/2” vai ekvivalents | D32: gab | E32: 1
... A69: 49 | B69: Līgumcena | C69: Enerģijas skaitītājs DIEHL, SHARKY 775, turpgaitas DN20, 1 m3/h 1 f 230 V (Akvedukts) vai ekvivalents | D69: kompl | E69: 1
C70: 2. SM DEMONTĀŽAS DARBI
A71: 1 | B71: Līgumcena | C71: SM primārā kontūra cauruļvadu ar izolāciju un iekārtu demontāža līdz esošam siltumuzskaites mezglam ST ievadā | D71: kompl | E71: 20
A72: 2 | B72: Līgumcena | C72: Sekundārā kontūra cauruļvadu ar izolāciju un iekārtu demontēšana siltummezglu robežās līdz maģistrālajiem apkures un karstā ūdens cauruļvadiem | D72: kompl | E72: 1
C74: Tiešās izmaksas kopā, t.sk. Darba devēja sociālais nodoklis (23,59%) | L74: =SUM(L21:L73) -> 0 | M74: =SUM(M21:M73) -> 0 | N74: =SUM(N21:N73) -> 0 | O74: =SUM(O21:O73) -> 0 | P74: =SUM(P21:P73) -> 0
B76: Sastādīja: | C76: =KOPTAME!C58 -> 0 | E76: ='KOPS 1'!F42 -> 0
C77: (paraksts un tā atšifrējums, datums)
B81: Pārbaudīja: | C81: =KOPTAME!C63 -> 0 | E81: =E76 -> 0
C82: (paraksts un tā atšifrējums, datums)
C84: =KOPTAME!C68 -> 0
C86: =KOPTAME!C70 -> 0

Sheet VENT 1
M1: 5. pielikums LBN 501-17
E2: LOKĀLA TĀME Nr. | I2: 2--3
D3: VENTILĀCIJA
D4: (Būvdarbu veids vai kosntruktīva elementa nosaukums)
A6: Objekta nosaukums: | C6: =KOPTAME!C15 -> VALGUNDES PAGASTA PĀRVALDES ĒKAS ENERGOEFEKTIVITĀTES PAAGUSTINĀŠANA
A7: Būves nosaukums: | C7: =KOPTAME!C16 -> VALGUNDES PAGASTA PĀRVALDES ĒKA
A8: Objekta adrese: | C8: =KOPTAME!C17 -> CELTNIEKU IELA 35, VALGUNDE, JELGAVAS NOVADS
A9: Pasūtītājs: | C9: =KOPTAME!C18 -> JELGAVAS NOVADA PAŠVALDĪBA
A10: Pasūtījuma Nr.: | C10: =KOPTAME!C19 -> 23-019/3 (KPJ/2023/31-5)
A11: Pretendents: | C11: =KOPTAME!C20 -> 0
A13: =KOPTAME!B22 -> 0 | M13: Tāmes izmaksas | O13: =P96 -> 0 | P13: EURO
P15: =KOPTAME!C70 -> 0
A17: Nr. p.k. | B17: Kods | C17: Būvdarbu nosaukums | D17: Mērvienība | E17: Daudzums | F17: Vienības izmaksas | L17: Kopā uz visu apjomu
F18: Laika norma (c/h) | G18: Darba samaksas likme (EUR/h) | H18: Darba alga (EUR) | I18: Būvizstrādājumi (EUR) | J18: Mehānismi (EUR) | K18: Kopā (EUR) | L18: Darbietilpība (c/h) | M18: Darba alga (EUR) | N18: Būvizstrādājumi (EUR) | O18: Mehānismi (EUR) | P18: Summa (EUR)
A19: 1 | B19: 2 | C19: 3 | D19: 4 | E19: 5 | F19: 6 | G19: 7 | H19: 8 | I19: 9 | J19: 10 | K19: 11 | L19: 12 | M19: 13 | N19: 14 | O19: 15 | P19: 16
C20: 1. PN1 SILTUMAPGĀDE
A21: 1 | B21: Līgumcena | C21: Lodveida ventilis DN15 | D21: gab | E21: 2
A22: 2 | B22: Līgumcena | C22: CA presējamā karbona cinkotā caurule Ø18x1,2 DN15 | D22: tek.m | E22: 48
A23: 3 | B23: Līgumcena | C23: Lokanais nerūsējoša tērauda pievads L=0,5m DN15 | D23: gab | E23: 2
A24: 4 | B24: Līgumcena | C24: Automātiskis atgaisotājs 3/8" | D24: gab | E24: 2
A25: 5 | B25: Līgumcena | C25: "Tubolit" izolācijas čaula d=6mm TB-18/6*dG vai ekvivalents | D25: tek.m | E25: 48
A26: 6 | B26: Līgumcena | C26: Hidrauliskā pārbaude | D26: kompl | E26: 1
C27: 2. PN1 KONDENSĀTA NOVADĪŠANA
A28: 1 | B28: Līgumcena | C28: Kondensāta sūknis ar rezervuāru 1F, 230V, 20l/st, Siccom ECO FLOWATCH vai ekvivalents | D28: kompl | E28: 1
A29: 2 | B29: Līgumcena | C29: Lokana PE caurule DN8 | D29: tek.m | E29: 4
A30: 3 | B30: Līgumcena | C30: Iekšējās kanalizācijas caurules un veidgabali (skat.ŪK) SDN32 | D30: kompl | E30: 1
C31: 3. PN1 PAGASTA PĀRVALDES TELPAS UN BĒRNUDĀRZS
A32: 1 | B32: Līgumcena | C32: PN ventilācijas agregāts P-1300m3/h; 445Pa, F75 filtrs; N-1315m3/h; 445Pa, M5 filtrs, pretplūsmas siltummainis n=82%, 220V/1F/50Hz, 2x460W, kreisās puses izpildījums, "KOMFOVENT". VERSO CF 1500 F C5 vai ekvivalents | D32: kompl | E32: 1
A33: 2 | B33: Līgumcena | C33: Vārsts ar elektropiedziņu un atsperi, "KOMFOVENT". AGUJ-M-315+LF230 vai ekvivalents | D33: kompl | E33: 2
A34: 3 | B34: Līgumcena | C34: Ūdens kalorifers 3,7kW, "KOMFOVENT". DH-315 vai ekvivalents | D34: gab | E34: 1
A35: 4 | B35: Līgumcena | C35: Ūdens sajaukšanas mezgls. PPU-Hw-3R-1-W2 vai ekvivalents | D35: kompl | E35: 1
A36: 5 | B36: Līgumcena | C36: Trokšņu slāpētājs, "KOMFOVENT". AGS-315-100-1200M vai ekvivalents | D36: gab | E36: 2
A37: 6 | B37: Līgumcena | C37: Jumtiņš, "KOMFOVENT". AHIP-315 vai ekvivalents | D37: gab | E37: 1
A38: 7 | B38: Līgumcena | C38: Āra reste, "KOMFOVENT". YGAV-400 vai ekvivalents | D38: gab | E38: 1
A39: 8 | B39: Līgumcena | C39: Regulējama reste, "KOMFOVENT". SRG-3-6 25-75 vai ekvivalents | D39: gab | E39: 1
A40: 9 | B40: Līgumcena | C40: Regulējama reste, "KOMFOVENT". SRG-3-325-76 vai ekvivalents | D40: gab | E40: 1
A41: 10 | B41: Līgumcena | C41: Līkums 90° no cinkota skārda, "KOMFOVENT". ATP-90-100 vai ekvivalents | D41: gab | E41: 36
A42: 11 | B42: Līgumcena | C42: Līkums 90° no cinkota skārda, "KOMFOVENT". ATP-90-125 vai ekvivalents | D42: gab | E42: 3
A43: 12 | B43: Līgumcena | C43: Līkums 90° no cinkota skārda, "KOMFOVENT". AT-90-160 vai ekvivalents | D43: gab | E43: 2
... A94: 63 | B94: Līgumcena | C94: Elektromontāžas materiāli | D94: kompl | E94: 1
...

Sheet EL 1
M1: 5. pielikums LBN 501-17
E2: LOKĀLA TĀME Nr. | I2: 2--4
D3: ELEKTROMONTĀŽAS DARBI
D4: (Būvdarbu veids vai kosntruktīva elementa nosaukums)
A6: Objekta nosaukums: | C6: =KOPTAME!C15 -> VALGUNDES PAGASTA PĀRVALDES ĒKAS ENERGOEFEKTIVITĀTES PAAGUSTINĀŠANA
A7: Būves nosaukums: | C7: =KOPTAME!C16 -> VALGUNDES PAGASTA PĀRVALDES ĒKA
A8: Objekta adrese: | C8: =KOPTAME!C17 -> CELTNIEKU IELA 35, VALGUNDE, JELGAVAS NOVADS
A9: Pasūtītājs: | C9: =KOPTAME!C18 -> JELGAVAS NOVADA PAŠVALDĪBA
A10: Pasūtījuma Nr.: | C10: =KOPTAME!C19 -> 23-019/3 (KPJ/2023/31-5)
A11: Pretendents: | C11: =KOPTAME!C20 -> 0
A13: =KOPTAME!B22 -> 0 | M13: Tāmes izmaksas | O13: =P97 -> 0 | P13: EURO
P15: =KOPTAME!C70 -> 0
A17: Nr. p.k. | B17: Kods | C17: Būvdarbu nosaukums | D17: Mērvienība | E17: Daudzums | F17: Vienības izmaksas | L17: Kopā uz visu apjomu
F18: Laika norma (c/h) | G18: Darba samaksas likme (EUR/h) | H18: Darba alga (EUR) | I18: Būvizstrādājumi (EUR) | J18: Mehānismi (EUR) | K18: Kopā (EUR) | L18: Darbietilpība (c/h) | M18: Darba alga (EUR) | N18: Būvizstrādājumi (EUR) | O18: Mehānismi (EUR) | P18: Summa (EUR)
A19: 1 | B19: 2 | C19: 3 | D19: 4 | E19: 5 | F19: 6 | G19: 7 | H19: 8 | I19: 9 | J19: 10 | K19: 11 | L19: 12 | M19: 13 | N19: 14 | O19: 15 | P19: 16
A20: 1 | C20: 1. SADALNES
A21: 2 | B21: Līgumcena | C21: Sadalne GS Mistral41W 54 mod. (3x18) 387x119x512mm IP41 41P18X32A. Sk. EL-5 vai ekvivalents | D21: kompl | E21: 1
A22: 3 | B22: Līgumcena | C22: Sadalne SS1 Mistral41W 36 mod. (3x12) 297x119x512mm IP41 41P12X32. Sk. EL-6 vai ekvivalents | D22: kompl | E22: 1
A23: 4 | B23: Līgumcena | C23: Palīgmateriāli, neuzskaitītie materiāli | D23: kompl | E23: 1
A24: 5 | C24: 2. GAISMEKĻI
A25: 6 | B25: Līgumcena | C25: proj. gaismeklis BERYL NEW LED K-1 1800 MICRO-PRM E 33 IP20/44 830, 15W, V/A; vai ekvivalents | D25: gab | E25: 28
A26: 7 | B26: Līgumcena | C26: proj. gaismeklis RUBIN POS LED 4400 MICRO-PRM E 830 / 600X600, 24W, V/A; vai ekvivalents | D26: gab | E26: 40
A27: 8 | B27: Līgumcena | C27: proj. gaismeklis BERYL SURFACE NEW LED O-1 1800 MICRO-PRM E IP44 34 830, 12W, V/A; vai ekvivalents | D27: gab | E27: 2
A28: 9 | B28: Līgumcena | C28: proj. gaismeklis RUBIN POS LED 6600 MICRO-PRM E 830 / 600X600, 35W, V/A; vai ekvivalents | D28: gab | E28: 14
A29: 10 | B29: Līgumcena | C29: proj. gaismeklis BERYL SURFACE NEW LED K-1 1800 MICRO-PRM E 34 830, 12W, V/A; vai ekvivalents | D29: gab | E29: 9
A30: 11 | B30: Līgumcena | C30: proj. gaismeklis X-LINE LED 3900 PLX E 24 830 / L-1692MM, 21W, V/A; vai ekvivalents | D30: gab | E30: 3
A31: 12 | B31: Līgumcena | C31: proj. gaismeklis EOS SYS Circle 1500 60 degree DALI 927 DALI WHITE, 66W, V/A; vai ekvivalents | D31: gab | E31: 12
A32: 13 | B32: Līgumcena | C32: proj. gaismeklis IKAR C 127 HO 827 FO WHITE, 12W, V/A; vai ekvivalents | D32: gab | E32: 12
A33: 14 | B33: Līgumcena | C33: proj. gaismeklis BERYL NEW LED O-1 1800 MICRO-PRM E 33 IP20/65 830, 12W, V/A; vai ekvivalents | D33: gab | E33: 1
A34: 15 | B34: Līgumcena | C34: proj. gaismeklis X-LINE LED 2600 MICRO-PRM E 24 830 / L-1132MM, 14W, V/A; vai ekvivalents | D34: gab | E34: 2
A35: 16 | B35: Līgumcena | C35: proj. gaismeklis X-WALL K9 LED 3250 PLX E IP44 24 840 / L-1415MM, 18W, V/A; vai ekvivalents | D35: gab | E35: 1
A36: 17 | B36: Līgumcena | C36: proj. gaismeklis X-LINE LED 6500 MICRO-PRM E 24 830 / L-2814MM, 34W, V/A; vai ekvivalents | D36: gab | E36: 2
... A44: 25 | B44: Līgumcena | C44: Palīgmateriāli, neuzskaitītie materiāli | D44: kompl | E44: 1
A45: 26 | C45: 3. SLĒDŽI, ROZETES
A46: 27 | B46: Līgumcena | C46: Rozete 1F IP20 16A, ar zemējumu, Z/A, komplektā ar kārbu | D46: gab | E46: 103
A47: 28 | B47: Līgumcena | C47: Rozete 1F IP44 16A, ar zemējumu, Z/A, komplektā ar kārbu | D47: gab | E47: 2
A48: 29 | B48: Līgumcena | C48: Rozete 1F IP44 16A ar vāku, Z/A, ar zemējumu, komplektā ar kārbu | D48: gab | E48: 12
A49: 30 | B49: Līgumcena | C49: Slēdzis 1p, IP20, Z/A, komplekta ar rāmi un kārbu | D49: gab | E49: 9
A50: 31 | B50: Līgumcena | C50: Slēdzis 2p, IP20, Z/A, komplekta ar rāmi un kārbu | D50: gab | E50: 10
A51: 32 | B51: Līgumcena | C51: Pārslēdzis 1p, IP20, Z/A, komplekta ar rāmi un kārbu | D51: gab | E51: 4
...

Sheet KOPS 2
H1: 6. pielikums LBN 501-17
D3: KOPSAVILKUMA APRĒĶINS Nr.2
D4: =KOPTAME!C33 -> VALGUNDES PAGASTA PĀRVALDES ĒKAS DARBI, KAS NAV SAISTĪTI AR ENERGOEFEKTIVITĀTI
D5: (būvdarbu veids vai kosntruktīvā elementa nosaukums)
C7: Objekta nosaukums: | D7: =KOPTAME!C15 -> VALGUNDES PAGASTA PĀRVALDES ĒKAS ENERGOEFEKTIVITĀTES PAAGUSTINĀŠANA
C8: Būves nosaukums: | D8: =KOPTAME!C16 -> VALGUNDES PAGASTA PĀRVALDES ĒKA
C9: Objekta adrese: | D9: =KOPTAME!C17 -> CELTNIEKU IELA 35, VALGUNDE, JELGAVAS NOVADS
C10: Pasūtītājs: | D10: =KOPTAME!C18 -> JELGAVAS NOVADA PAŠVALDĪBA
C11: Pasūtījuma Nr.: | D11: =KOPTAME!C19 -> 23-019/3 (KPJ/2023/31-5)
C12: Pretendents: | D12: =KOPTAME!C20 -> 0
D14: Par kopējo summu (EURO) | E14: =F38 -> 0
D15: Kopēja darbietilpība (c/h) | E15: =J34 -> 0
A17: Nr. p.k | B17: Kods, tāme Nr. | C17: Saisinājums | D17: Būvdarbu veids vai konstruktīvā elementa nosaukums | F17: Tāmes izmaksa EUR | G17: Tai skaitā | J17: Darb-ietilpība c/h
G18: Darba alga EUR | H18: Būvizstrādājumi EUR | I18: Mehānismi EUR
A19: VALGUNDES PAGASTA PĀRVALDES ĒKAS DARBI, KAS NAV SAISTĪTI AR ENERGOEFEKTIVITĀTI
D20: 1. BŪVDARBI
A21: 13 | B21: 3--1 | C21: SIE 2 | D21: LOGU AILU AIZMŪRĒŠANA UN STARPSIENU IZBŪVE
A22: 14 | B22: 3--2 | C22: KAPN 2 | D22: KĀPŅU REMONTS UN MARGU IZBŪVE
D23: 2. IEKŠĒJIE SPECIĀLIE BŪVDARBI
A24: 15 | B24: 4--1 | C24: UK 2 | D24: ŪDENSVADS UN KANALIZĀCIJA
A25: 16 | B25: 4--2 | C25: UATS 2 | D25: UGUSNGRĒKA ATKLĀŠANAS UN TRAUKSMES SIGNALIZĀCIJA
A26: 17 | B26: 4--3 | C26: VNS 2 | D26: VIDEO NOVĒROŠANAS SISTĒMA
A27: 18 | B27: 4--4 | C27: ASS 2 | D27: APSARDZES SIGNALIZĀCIJAS SISTĒMA
A28: 19 | B28: 4--5 | C28: ITTIS 2 | D28: INVALĪDU TUALETES TRAUKSMES IZZIŅOŠANAS SISTĒMA
A29: 20 | B29: 4--6 | C29: PKS 2 | D29: PIEKĻUVES KONTROLES SISTĒMA
A30: 21 | B30: 4--7 | C30: LVRTC 2 | D30: LVRTC SKAPJA PĀRVIETOŠANA
D31: 3. ĀRĒJIE SPECIĀLIE BŪVDARBI
A32: 22 | B32: 5--1 | C32: UKT 2 | D32: ĀRĒJA ŪDENSAPGĀDES UN KANALIZĀCIJAS SISTĒMA
D34: KOPĀ | F34: =SUM(F21:F32) -> 0 | G34: =SUM(G21:G32) -> 0 | H34: =SUM(H21:H32) -> 0 | I34: =SUM(I21:I32) -> 0 | J34: =SUM(J21:J32) -> 0
D35: Virsizdevumi | F35: =ROUND(F34*E35,2) -> 0
D36: t.sk. Darba aizsardzība | F36: =ROUND(F35*E36,2) -> 0
D37: Peļņa | F37: =ROUND(F34*E37,2) -> 0
D38: Pavisam kopā | F38: =F37+F35+F34 -> 0
B41: Sastādīja: | D41: =KOPTAME!C58 -> 0 | F41: =KOPTAME!D58 -> 0
D42: (paraksts un tā atšifrējums, datums)
D44: =KOPTAME!C70 -> 0
B46: Pārbaudīja: | D46: =KOPTAME!C63 -> 0 | F46: =F41 -> 0
D47: (paraksts un tā atšifrējums, datums)
D49: =KOPTAME!C70 -> 0

Sheet SIE 2
M1: 5. pielikums LBN 501-17
E3: LOKĀLA TĀME Nr. | I3: 3--1
D4: LOGU AILU AIZMŪRĒŠANA UN STARPSIENU IZBŪVE
D5: (Būvdarbu veids vai kosntruktīva elementa nosaukums)
A7: Objekta nosaukums: | C7: =KOPTAME!C15 -> VALGUNDES PAGASTA PĀRVALDES ĒKAS ENERGOEFEKTIVITĀTES PAAGUSTINĀŠANA
A8: Būves nosaukums: | C8: =KOPTAME!C16 -> VALGUNDES PAGASTA PĀRVALDES ĒKA
A9: Objekta adrese: | C9: =KOPTAME!C17 -> CELTNIEKU IELA 35, VALGUNDE, JELGAVAS NOVADS
A10: Pasūtītājs: | C10: =KOPTAME!C18 -> JELGAVAS NOVADA PAŠVALDĪBA
A11: Pasūtījuma Nr.: | C11: =KOPTAME!C19 -> 23-019/3 (KPJ/2023/31-5)
A12: Pretendents: | C12: =KOPTAME!C20 -> 0
A14: =KOPTAME!B22 -> 0 | M14: Tāmes izmaksas | O14: =P77 -> 0 | P14: EURO
P16: =KOPTAME!C70 -> 0
A18: Nr. p.k. | B18: Kods | C18: Būvdarbu nosaukums | D18: Mērvienība | E18: Daudzums | F18: Vienības izmaksas | L18: Kopā uz visu apjomu
F19: Laika norma (c/h) | G19: Darba samaksas likme (EUR/h) | H19: Darba alga (EUR) | I19: Būvizstrādājumi (EUR) | J19: Mehānismi (EUR) | K19: Kopā (EUR) | L19: Darbietilpība (c/h) | M19: Darba alga (EUR) | N19: Būvizstrādājumi (EUR) | O19: Mehānismi (EUR) | P19: Summa (EUR)
A20: 1 | B20: 2 | C20: 3 | D20: 4 | E20: 5 | F20: 6 | G20: 7 | H20: 8 | I20: 9 | J20: 10 | K20: 11 | L20: 12 | M20: 13 | N20: 14 | O20: 15 | P20: 16
C21: 1. LOGAILU AIZMŪRĒŠANA. AR-2 | D21: m2 | E21: =((0.15*4+0.6*4+0.15*4+0.6*4+0.15*2+2.05+1.92)*1.8+(0.15*6+2.05*3+0.15*6+2.05*3)*1.8+2.5*0.9)*0+48 -> 48
A22: 1 | B22: Līgumcena | C22: Esošo logailu aizmūrēšana (sienas biezums 250 mm) | D22: m2 | E22: =E21 -> 48
A23: 2 | C23: Keramzītbetona bloks 3MPa, 250 mm | D23: m3 | E23: =E22*0.25*1.1 -> 13.2
A24: 3 | C24: Murjava | D24: kg | E24: =E22*75*1.15*0.3 -> 1242
A25: 4 | C25: Armējums | D25: tek.m | E25: =E21*1.5 -> 72
A26: 5 | B26: Līgumcena | C26: Mūrnieku sasttaņu, noma, montāža, demontāža, pārvietošana | D26: kompl | E26: 1
A27: 6 | B27: Līgumcena | C27: Aizmūrēto logailu apmešana (slānis līdz 15 mm) | D27: m2 | E27: =E22*2 -> 96
A28: 7 | C28: Apmetuma java | D28: kg | E28: =E27*15*1.15 -> 1656
A29: 8 | C29: Palīgmateriāli | D29: kompl | E29: 1
C30: 2. IEKŠSIENAS S-1 | D30: m2 | E30: =3.59*3 -> 10.77
A31: 1 | B31: Līgumcena | C31: Reģipša starpsienas S1 izveide, 125 mm | D31: m2 | E31: =ROUND(E30,2) -> 10.77
A32: 2 | C32: Starpsiernu profils vertikāls CW 100 mm | D32: tek.m | E32: =ROUND(E31/0.4,2) -> 26.93
A33: 3 | C33: Starpsiernu profils horizontāls UW 100 mm | D33: tek.m | E33: =ROUND(E31*2,2) -> 21.54
A34: 4 | C34: Amortizācijas lenta 95 mm | D34: tek.m | E34: =E33 -> 21.54
A35: 5 | C35: Dībeļi profilu montāžai | D35: gab | E35: =ROUND(E33/0.15,0) -> 144
A36: 6 | C36: Skrūves profilu saskrūvēšanai | D36: gab | E36: =ROUND(E30*12,0) -> 129
A37: 7 | C37: Siltumizolācijas vates plāksnes, 100 mm | D37: m2 | E37: =ROUND(E31*1.02,2) -> 10.99
A38: 8 | C38: Ģipškartona plāksnes, GKF/GKBI/GKB, 12,5 mm | D38: m2 | E38: =ROUND(E31*1*2.2,2) -> 23.69
A39: 9 | C39: Regipša skrūves | D39: gab | E39: =ROUND(E30*2*20,0) -> 431
A40: 10 | C40: Špaktele Uniflott vai ekvivalents | D40: kg | E40: =ROUND(E41*0.25,2) -> 6.46
A41: 11 | C41: Stiklašķiedras sieta lenta | D41: tek.m | E41: =ROUND(E30*1.2*2,2) -> 25.85
A42: 12 | C42: Gatava špaktele Knauf Sheetrock vai ekvivalents | D42: kg | E42: =ROUND(E30*1.5*1.05*2,2) -> 33.93
A43: 13 | C43: Palīgmateriāli | D43: m2 | E43: =E30 -> 10.77
C44: 3. IEKŠSIENAS S-2 | D44: m2 | E44: =(0.8*2+2.78+3.585+1.77+1.83+1)*3+(4.38+4.1+1+3.14)*3 -> 75.555
A45: 1 | B45: Līgumcena | C45: Reģipša starpsienas S2 izveide, 125mm | D45: m2 | E45: =ROUND(E44,2) -> 75.56
...

Sheet KAPN 2
M1: 5. pielikums LBN 501-17
E3: LOKĀLA TĀME Nr. | I3: 3--2
D4: KĀPŅU REMONTS UN MARGU IZBŪVE
D5: (Būvdarbu veids vai kosntruktīva elementa nosaukums)
A7: Objekta nosaukums: | C7: =KOPTAME!C15 -> VALGUNDES PAGASTA PĀRVALDES ĒKAS ENERGOEFEKTIVITĀTES PAAGUSTINĀŠANA
A8: Būves nosaukums: | C8: =KOPTAME!C16 -> VALGUNDES PAGASTA PĀRVALDES ĒKA
A9: Objekta adrese: | C9: =KOPTAME!C17 -> CELTNIEKU IELA 35, VALGUNDE, JELGAVAS NOVADS
A10: Pasūtītājs: | C10: =KOPTAME!C18 -> JELGAVAS NOVADA PAŠVALDĪBA
A11: Pasūtījuma Nr.: | C11: =KOPTAME!C19 -> 23-019/3 (KPJ/2023/31-5)
A12: Pretendents: | C12: =KOPTAME!C20 -> 0
A14: =KOPTAME!B22 -> 0 | M14: Tāmes izmaksas | O14: =P47 -> 0 | P14: EURO
P16: =KOPTAME!C70 -> 0
A18: Nr. p.k. | B18: Kods | C18: Būvdarbu nosaukums | D18: Mērvienība | E18: Daudzums | F18: Vienības izmaksas | L18: Kopā uz visu apjomu
F19: Laika norma (c/h) | G19: Darba samaksas likme (EUR/h) | H19: Darba alga (EUR) | I19: Būvizstrādājumi (EUR) | J19: Mehānismi (EUR) | K19: Kopā (EUR) | L19: Darbietilpība (c/h) | M19: Darba alga (EUR) | N19: Būvizstrādājumi (EUR) | O19: Mehānismi (EUR) | P19: Summa (EUR)
A20: 1 | B20: 2 | C20: 3 | D20: 4 | E20: 5 | F20: 6 | G20: 7 | H20: 8 | I20: 9 | J20: 10 | K20: 11 | L20: 12 | M20: 13 | N20: 14 | O20: 15 | P20: 16
C21: 1. ESOŠO KAPŅU REMONTS
A22: 1 | B22: Līgumcena | C22: Esošo margu demontāža | D22: tek.m | E22: 8
A23: 2 | B23: Līgumcena | C23: Esošo pakāpienu virsmas tīrīšana | D23: gab | E23: 22
A24: 3 | B24: Līgumcena | C24: Kāpņu laidumu virsmas tīrīšana no sāniem | D24: m2 | E24: =1.9*0.22+3.3*2*0.3+0.5 -> 2.898
A25: 4 | B25: Līgumcena | C25: Kāpņu laidumu virsmas tīrīšana no apakšas | D25: m2 | E25: =3.3*2*1.45+2*3*1.35 -> 17.67
A26: 5 | B26: Līgumcena | C26: Citi demontāžas darbi | D26: kompl | E26: 1
A27: 6 | B27: Līgumcena | C27: Būvgružu savākšana, izvešana un utilizācija | D27: m3 | E27: =(E24*0.02+E25*0.02+E22*1*0.05)*1.5 -> 1.21704
C28: 2. KĀPŅU REMONTS
A29: 1 | B29: Līgumcena | C29: Kāpņu laiduma virsmas no sāniem un no apakšas gruntēšana, špaktelēšana, slīpēšana | D29: m2 | E29: =E24+E25 -> 20.568
A30: 2 | C30: Grunts | D30: l | E30: =E29*0.2*1.15 -> 4.73064
A31: 3 | C31: Gatava špaktele | D31: kg | E31: =E29*1.5*1.2 -> 37.0224
A32: 4 | C32: Krāsa | D32: l | E32: =E29*2*0.2*1.15 -> 9.46128
A33: 5 | C33: Palīgmateriāli | D33: kompl | E33: 1
A34: 6 | B34: Līgumcena | C34: Pakāpienu un pretpakapienu virsmas atjaunošana (Nodilumizturīga dekoratīvo pārslu seguma Peran floor flakes izveide) vai ekvivalents | D34: gab | E34: =E23 -> 22
A35: 7 | B35: Līgumcena | C35: Kāpņu laukuma virsmas atjaunošana | D35: m2 | E35: 8.1
A36: 8 | B36: Līgumcena | C36: Pretslīdes maliņas izveide | D36: gab | E36: 24
C37: 3. MARGAS. AR-11
A38: 1 | B38: Līgumcena | C38: Margu izgatavošana, piegāde un montāža | D38: tek.m | E38: 8.6
A39: 2 | C39: Renovēts esošais statnis | D39: gab | E39: 10
A40: 3 | C40: Lenteris d.45*2,5 mm, krāsots, lakots | D40: tek.m | E40: 8.6
A41: 4 | C41: Savienojums d.12, L=100 mm | D41: gab | E41: 11
A42: 5 | C42: Dekoratīvais stiprinājums 40*4 mm, L=40 mm | D42: gab | E42: 32
A43: 6 | C43: Stiprinājums 70*4 mm, L=80 mm | D43: gab | E43: 11
A44: 7 | C44: Trieciennoturīgais stiklojums | D44: m2 | E44: 6.6
A45: 8 | C45: Palīgmateriāli un citi stiprinājumi | D45: kompl | E45: 1
...

Sheet UK 2
M1: 5. pielikums LBN 501-17
E2: LOKĀLA TĀME Nr. | I2: 4--1
D3: ŪDENSVADS UN KANALIZĀCIJA
D4: (Būvdarbu veids vai kosntruktīva elementa nosaukums)
A6: Objekta nosaukums: | C6: =KOPTAME!C15 -> VALGUNDES PAGASTA PĀRVALDES ĒKAS ENERGOEFEKTIVITĀTES PAAGUSTINĀŠANA
A7: Būves nosaukums: | C7: =KOPTAME!C16 -> VALGUNDES PAGASTA PĀRVALDES ĒKA
A8: Objekta adrese: | C8: =KOPTAME!C17 -> CELTNIEKU IELA 35, VALGUNDE, JELGAVAS NOVADS
A9: Pasūtītājs: | C9: =KOPTAME!C18 -> JELGAVAS NOVADA PAŠVALDĪBA
A10: Pasūtījuma Nr.: | C10: =KOPTAME!C19 -> 23-019/3 (KPJ/2023/31-5)
A11: Pretendents: | C11: =KOPTAME!C20 -> 0
A13: =KOPTAME!B22 -> 0 | M13: Tāmes izmaksas | O13: =P95 -> 0 | P13: EURO
P15: =KOPTAME!C70 -> 0
A17: Nr. p.k. | B17: Kods | C17: Būvdarbu nosaukums | D17: Mērvienība | E17: Daudzums | F17: Vienības izmaksas | L17: Kopā uz visu apjomu
F18: Laika norma (c/h) | G18: Darba samaksas likme (EUR/h) | H18: Darba alga (EUR) | I18: Būvizstrādājumi (EUR) | J18: Mehānismi (EUR) | K18: Kopā (EUR) | L18: Darbietilpība (c/h) | M18: Darba alga (EUR) | N18: Būvizstrādājumi (EUR) | O18: Mehānismi (EUR) | P18: Summa (EUR)
